BEGIN:VCALENDAR
VERSION:2.0
PRODID:-//Our Events - ECPv6.15.20//NONSGML v1.0//EN
CALSCALE:GREGORIAN
METHOD:PUBLISH
X-ORIGINAL-URL:https://dev.our-events.de
X-WR-CALDESC:Veranstaltungen für Our Events
REFRESH-INTERVAL;VALUE=DURATION:PT1H
X-Robots-Tag:noindex
X-PUBLISHED-TTL:PT1H
BEGIN:VTIMEZONE
TZID:Europe/Berlin
BEGIN:DAYLIGHT
TZOFFSETFROM:+0100
TZOFFSETTO:+0200
TZNAME:CEST
DTSTART:20240331T010000
END:DAYLIGHT
BEGIN:STANDARD
TZOFFSETFROM:+0200
TZOFFSETTO:+0100
TZNAME:CET
DTSTART:20241027T010000
END:STANDARD
BEGIN:DAYLIGHT
TZOFFSETFROM:+0100
TZOFFSETTO:+0200
TZNAME:CEST
DTSTART:20250330T010000
END:DAYLIGHT
BEGIN:STANDARD
TZOFFSETFROM:+0200
TZOFFSETTO:+0100
TZNAME:CET
DTSTART:20251026T010000
END:STANDARD
BEGIN:DAYLIGHT
TZOFFSETFROM:+0100
TZOFFSETTO:+0200
TZNAME:CEST
DTSTART:20260329T010000
END:DAYLIGHT
BEGIN:STANDARD
TZOFFSETFROM:+0200
TZOFFSETTO:+0100
TZNAME:CET
DTSTART:20261025T010000
END:STANDARD
END:VTIMEZONE
BEGIN:VEVENT
DTSTART;TZID=Europe/Berlin:20250209T110000
DTEND;TZID=Europe/Berlin:20250209T170000
DTSTAMP:20260424T143600
CREATED:20250128T122551Z
LAST-MODIFIED:20250206T144917Z
UID:32829-1739098800-1739120400@dev.our-events.de
SUMMARY:Eintrittskarten Overbeck-Museum: Nordisch weit - Ausstellung - Karten täglich gültig zu den Öffnungszeiten
DESCRIPTION:Die Karten sind  täglich zu den Öffnungszeiten gültig. Letzter Tag für eine Ticket-Reservierung ist der 23.10.2024. \n\n\n\nDie Weite nordischer Landschaften inspiriert Malerinnen und Maler schon seit Jahrhunderten. Auf ihre je eigene Weise setzen auch die Bremer Künstlerinnen Lena Carstens und Martina Tams in ihren Gemälden den Horizont\, den hohen Himmel und die endlos scheinenden Flächen von Land und Meer in Szene. \n\n\n\n\n\n\nIhre mal realitätsnahen\, mal nahezu abstrakten Impressionen wurzeln in der aufmerksamen Beobachtung einer übermächtigen Natur voller Farbnuancen und Detailreichtum\, an der das Auge sich nicht satt sehen kann. \n\n\n\n\n\n\nKlassische Landschaftsgemälde von Fritz und Hermine Overbeck aus Worpswede und von der Nordseeinsel Sylt ergänzen die Ausstellung um eine weitere Facette norddeutscher Weite. \n\n\n\n\nBitte aktiviere JavaScript in deinem Browser\, um dieses Formular fertigzustellen.Bitte aktiviere JavaScript in deinem Browser\, um dieses Formular fertigzustellen.Bitte das Datum der Veranstaltung angeben *Bitte die Anzahl der zu reservierenden Tickets auswählenIch bin *KulturgastKulturbegleiter:inAnrede Interessent:in *FrauHerrDiversVorname  *Name *E-Mail  *Ich benötige Unterstützung für den Besuch der Veranstaltung *janeinIch möchte den Programm Newsletter der Kulturtafel abonnieren. Das kann ich jederzeit rückgängig machen.janeinDSGVO Einverständnis *Ich willige ein\, dass diese Website meine übermittelten Informationen speichert\, sodass meine Anfrage beantwortet werden kann.Angaben bestätigen
URL:https://dev.our-events.de/event/unverklungen-jobst-von-harsdorf-zum-100-geburtstag-ausstellung-karten-taeglich-gueltig-zu-den-oeffnungszeiten-2-2/
LOCATION:Overbeck Museum\, Alte Hafenstraße 30\, Bremen\, Bremen\, 28757\, Deutschland
CATEGORIES:Ausstellung,Grohn
ATTACH;FMTTYPE=image/png:https://dev.our-events.de/wp-content/uploads/2024/09/Overbeck-Museum.png
END:VEVENT
END:VCALENDAR