BEGIN:VCALENDAR
VERSION:2.0
PRODID:-//Our Events - ECPv6.15.20//NONSGML v1.0//EN
CALSCALE:GREGORIAN
METHOD:PUBLISH
X-ORIGINAL-URL:https://dev.our-events.de
X-WR-CALDESC:Veranstaltungen für Our Events
REFRESH-INTERVAL;VALUE=DURATION:PT1H
X-Robots-Tag:noindex
X-PUBLISHED-TTL:PT1H
BEGIN:VTIMEZONE
TZID:Europe/Berlin
BEGIN:DAYLIGHT
TZOFFSETFROM:+0100
TZOFFSETTO:+0200
TZNAME:CEST
DTSTART:20240331T010000
END:DAYLIGHT
BEGIN:STANDARD
TZOFFSETFROM:+0200
TZOFFSETTO:+0100
TZNAME:CET
DTSTART:20241027T010000
END:STANDARD
BEGIN:DAYLIGHT
TZOFFSETFROM:+0100
TZOFFSETTO:+0200
TZNAME:CEST
DTSTART:20250330T010000
END:DAYLIGHT
BEGIN:STANDARD
TZOFFSETFROM:+0200
TZOFFSETTO:+0100
TZNAME:CET
DTSTART:20251026T010000
END:STANDARD
BEGIN:DAYLIGHT
TZOFFSETFROM:+0100
TZOFFSETTO:+0200
TZNAME:CEST
DTSTART:20260329T010000
END:DAYLIGHT
BEGIN:STANDARD
TZOFFSETFROM:+0200
TZOFFSETTO:+0100
TZNAME:CET
DTSTART:20261025T010000
END:STANDARD
END:VTIMEZONE
BEGIN:VEVENT
DTSTART;TZID=Europe/Berlin:20250227T113000
DTEND;TZID=Europe/Berlin:20250227T170000
DTSTAMP:20260424T132752
CREATED:20250211T153053Z
LAST-MODIFIED:20250211T153614Z
UID:34380-1740655800-1740675600@dev.our-events.de
SUMMARY:Ausstellung der Kunstgruppe STREIFZUG 3 in der DKV-Residenz
DESCRIPTION:Die Gruppe 3-Fach\, das sind die Bremer Künstlerinnen Petra Ecker\, Heike Gantzen und Dafna Hoffmann\, die schon seit vielen Jahren gemeinsam in Bremen und der näheren Umgebung malen. Gerne Pleinair (Freilichtmalerei). Alle drei sind thematisch sowie stilistisch sehr vielfältig. Die Liebe zur Natur\, Landschaft\, Architektur und die Offenheit gegenüber alltäglichen Motiven verbindet die Malerinnen. Sie stehen für 3 Sichtweisen und 3 Temperamente\, die sich in wunderbarer Weise ergänzen. Dem Betrachter steht somit eine vielfältige Bildsprache zur Ansicht. \nVita Petra Ecker \nPetra Ecker ist von Beruf Innenarchitektin. Ihre räumliche Sichtweise spiegelt sich in ihrer Malerei wider. Natur und Blumen werden oftmals mit architektonischen Elementen\, z.B. Gewächshäusern dargestellt. Ihre Malerei ist farbenfroh und leicht und luftig. Sie möchte die Schönheit und die Stimmung eines Ortes und eines Augenblicks festhalten. \nEcker hat sich parallel zu ihrer Arbeit immer mit Malerei beschäftigt und sich mit verschiedenen Techniken auseinandergesetzt. Ihre Motive sind oftmals die Natur\, Blumen und Blumengärten und sollen dem Betrachter Trost und Halt geben. Sie stellen oft eine heile Welt dar. \nVita Heike Gantzen \nHeike Gantzen ist in 1954 in Bremerhaven geboren; bis 2013 Bankkauffrau in Bremerhaven und Bremen\, lebt seit 2002 in Martfeld in der Nähe von Verden. \nGantzen ist vom Großvater inspiriert\, der Kunstmaler\, Bühnenbildner und Töpfermeister mit eigenen Ateliers in Bremerhaven\, am Starnberger See und Wremen war. Sie interessierte und begeisterte sich bereits als Kind für die Kunst. \nIhre Motive sind u.a. die Sturmsee und Strände. Das mag daherkommen\, da ihre Mutter von der Insel Helgoland kam. \nIhre Motive sucht sie bei Streifzügen durch Parks\, Gartenanlagen\, an Fluss- und Seeufern\, in Hafen- und Industriebrachen. In ihrem Malstil finden sich Elemente naturalistischer\, informeller\, impressionistisch-expressionistischer Malerei. Sie wechselt zwischen realistischer und abstrakter Darstellung. \nFlorales mit kräftigen Farben\, Abstraktes und eigene Kompositionen lassen sich in ihrer Kunst finden. \nVita Dafna Hoffmann \nDafna Hoffmann\, geboren 1963 in Hamburg\, lebt und arbeitet in Bremen. Sie hat an der FH Ottersberg Bildhauerei bei Robert van de Laar und Malerei bei Michael Kohr studiert. Seit einigen Jahren ist sie Schülerin der Masterclass von Carola Schapals. \nIhre Kunst-Motive: \nIhre Leidenschaft sind das Reisen und die Architektur\, Eindrücke davon kann man in ihren farbenfrohen Gemälden bekommen. \nBilder von ihren Reisen spiegeln das Fremde\, Unerwartete sowie Widersprüchliche wider\, sowie die Natur im realen und abstrakten Wechselspiel. \n\nCopyright Text & Bild: DKV Residenz an der Contrescarpe
URL:https://dev.our-events.de/event/vernissage-der-kunstgruppe-streifzug-3-in-der-dkv-residenz/
LOCATION:DKV-Residenz in der Contrescarpe\, Am Wandrahm 40-43\, Bremen\, 28195
CATEGORIES:Kunst
ATTACH;FMTTYPE=image/png:https://dev.our-events.de/wp-content/uploads/2024/11/2023-DKV-LOGO-Residenz-Contrescarpe.png
END:VEVENT
END:VCALENDAR