BEGIN:VCALENDAR
VERSION:2.0
PRODID:-//Our Events - ECPv6.15.20//NONSGML v1.0//EN
CALSCALE:GREGORIAN
METHOD:PUBLISH
X-WR-CALNAME:Our Events
X-ORIGINAL-URL:https://dev.our-events.de
X-WR-CALDESC:Veranstaltungen für Our Events
REFRESH-INTERVAL;VALUE=DURATION:PT1H
X-Robots-Tag:noindex
X-PUBLISHED-TTL:PT1H
BEGIN:VTIMEZONE
TZID:Europe/Berlin
BEGIN:DAYLIGHT
TZOFFSETFROM:+0100
TZOFFSETTO:+0200
TZNAME:CEST
DTSTART:20240331T010000
END:DAYLIGHT
BEGIN:STANDARD
TZOFFSETFROM:+0200
TZOFFSETTO:+0100
TZNAME:CET
DTSTART:20241027T010000
END:STANDARD
BEGIN:DAYLIGHT
TZOFFSETFROM:+0100
TZOFFSETTO:+0200
TZNAME:CEST
DTSTART:20250330T010000
END:DAYLIGHT
BEGIN:STANDARD
TZOFFSETFROM:+0200
TZOFFSETTO:+0100
TZNAME:CET
DTSTART:20251026T010000
END:STANDARD
BEGIN:DAYLIGHT
TZOFFSETFROM:+0100
TZOFFSETTO:+0200
TZNAME:CEST
DTSTART:20260329T010000
END:DAYLIGHT
BEGIN:STANDARD
TZOFFSETFROM:+0200
TZOFFSETTO:+0100
TZNAME:CET
DTSTART:20261025T010000
END:STANDARD
END:VTIMEZONE
BEGIN:VEVENT
DTSTART;TZID=Europe/Berlin:20250428T200000
DTEND;TZID=Europe/Berlin:20250428T230000
DTSTAMP:20260424T050050
CREATED:20250327T135844Z
LAST-MODIFIED:20250327T135844Z
UID:37010-1745870400-1745881200@dev.our-events.de
SUMMARY:The Comancheros  Southern Rock\, USA im Meisenfrei
DESCRIPTION:Das wir das noch erleben durften: „ZZ Top goes Star Wars.“ Was sich anhört\, wie der Fiebertraum eines texanischen Vollnerds\, ist die perfekte Beschreibung für die Musik der Band\, die heute Abend den Club zum Beben bringen wird. Hier kommt Southern Rock\, der eine heftige Liaison mit der Musik von Thin Lizzy oder Motörhead eingegangen ist. Und auch wenn die eine oder andere unvermeidliche ruhige Nummer mit dabei ist: In erster Linie ertönt heute der Soundtrack zu einem fetten Bikertreffen! Und dass die Jungs nicht nur Power haben\, sondern auch äußerst versierte Musiker sind\, versteht sich von selbst. Und ein neues Album gibt’s auch noch zu bestaunen! \nCopyright Text & Bild: Meisenfrei
URL:https://dev.our-events.de/event/the-comancheros-southern-rock-usa-im-meisenfrei/
LOCATION:Meisenfrei\, Hankenstraße 18\, Bremen\, 28195
CATEGORIES:Konzert,Rock / Pop / Jazz / Country
ATTACH;FMTTYPE=image/jpeg:https://dev.our-events.de/wp-content/uploads/2025/03/2025-04-28-Comancheros.jpg
END:VEVENT
END:VCALENDAR