BEGIN:VCALENDAR
VERSION:2.0
PRODID:-//Our Events - ECPv6.15.20//NONSGML v1.0//EN
CALSCALE:GREGORIAN
METHOD:PUBLISH
X-WR-CALNAME:Our Events
X-ORIGINAL-URL:https://dev.our-events.de
X-WR-CALDESC:Veranstaltungen für Our Events
REFRESH-INTERVAL;VALUE=DURATION:PT1H
X-Robots-Tag:noindex
X-PUBLISHED-TTL:PT1H
BEGIN:VTIMEZONE
TZID:Europe/Berlin
BEGIN:DAYLIGHT
TZOFFSETFROM:+0100
TZOFFSETTO:+0200
TZNAME:CEST
DTSTART:20240331T010000
END:DAYLIGHT
BEGIN:STANDARD
TZOFFSETFROM:+0200
TZOFFSETTO:+0100
TZNAME:CET
DTSTART:20241027T010000
END:STANDARD
BEGIN:DAYLIGHT
TZOFFSETFROM:+0100
TZOFFSETTO:+0200
TZNAME:CEST
DTSTART:20250330T010000
END:DAYLIGHT
BEGIN:STANDARD
TZOFFSETFROM:+0200
TZOFFSETTO:+0100
TZNAME:CET
DTSTART:20251026T010000
END:STANDARD
BEGIN:DAYLIGHT
TZOFFSETFROM:+0100
TZOFFSETTO:+0200
TZNAME:CEST
DTSTART:20260329T010000
END:DAYLIGHT
BEGIN:STANDARD
TZOFFSETFROM:+0200
TZOFFSETTO:+0100
TZNAME:CET
DTSTART:20261025T010000
END:STANDARD
END:VTIMEZONE
BEGIN:VEVENT
DTSTART;TZID=Europe/Berlin:20250430T193000
DTEND;TZID=Europe/Berlin:20250430T220000
DTSTAMP:20260424T050113
CREATED:20250321T143837Z
LAST-MODIFIED:20250321T143837Z
UID:36777-1746041400-1746050400@dev.our-events.de
SUMMARY:FRIEDERIKE WIE ZERLEGE ICH ERFOLGREICH EINE FAMILIENFEIER ZUM 100STEN GEBURTSTAG?  in der Shakespeare Company
DESCRIPTION:Das Foto von Friedrike\, der Jubilarin\, hängt an der Wand. Sie ist tot. Alle anderen sind zusammengekommen\, um ihren Geburtstag zu feiern. Sie geben sich alle Mühe für ein harmonisch Fest – bis es kracht.\nGefühle in einer Achterbahn mit Gegenverkehr\, das kann nicht gut gehen. – Hanne fühlt sich gedemütigt von ihrem Bruder. Klaus ist so angepasst\, dass er allen nach dem Mund redet\, bis er nur noch verachtet wird. Die Zwillinge zanken sich um die Gunst einer gemeinsamen Freundin. Marie hat Karriere gemacht als Sportlehrerin – und arbeitet als IM für die Stasi\, das weiß aber niemand\, bis sie sich selbst verplappert. Isabella muss gestehen\, dass ihre Tochter nicht von ihrem Mann ist und Janosch\, ihr Sohn\, gefällt sich in der Rolle des Stänkerers\, der sich mit allen anlegt und mit ihnen so bösartig streitet\, dass nur Friederike noch schlichten könnte.\nDas versucht sie auch. Aber wie? – Spricht das Bild an der Wand wirklich? \nCopyright Text & Bild: Shakespeare Company
URL:https://dev.our-events.de/event/friederike-wie-zerlege-ich-erfolgreich-eine-familienfeier-zum-100sten-geburtstag-in-der-shakespeare-company/
LOCATION:Theater am Leibnitzplatz\, Schulstraße 26\,\, Bremen\, 28199
CATEGORIES:Theater
ATTACH;FMTTYPE=image/png:https://dev.our-events.de/wp-content/uploads/2023/11/Unterstuetzer_Shakespeare-Company.png
END:VEVENT
BEGIN:VEVENT
DTSTART;TZID=Europe/Berlin:20250430T200000
DTEND;TZID=Europe/Berlin:20250430T200000
DTSTAMP:20260424T050113
CREATED:20250327T143719Z
LAST-MODIFIED:20250327T143719Z
UID:37060-1746043200-1746043200@dev.our-events.de
SUMMARY:Walpurgisnacht Open Air - Konzert im Lagerhaus
DESCRIPTION:Hexentanz\, Feuerteufel & Naturgewalten. Für magische Klänge zwischen Pop\, Punk und Electro sorgen Jana Frank & Die Polarlichter\, Elsen\, Etzelind Sternanis Ensemble\, Deep Funk Electronica und DJ P.M.FM. Das Bremer Tourneetheater\, Stelzenart und der Feuerkünstler Lenn Fei bevölkern das LichtLuftBad mit Hexen\, Dämonen und anderen Fabelwesen\, die überall aus den Nebeln entsteigen\, um sich unters Publikum zu mischen. Die Waldsauna bietet Ruhe und Entspannung fern des Trubels\, für Speis und Trank aus dampfenden Kesseln ist selbstverständlich auch gesorgt. \nCopyright Text & Bild: Lagerhaus
URL:https://dev.our-events.de/event/walpurgisnacht-open-air-konzert-im-lagerhaus/
LOCATION:Kulturzentrum Lagerhaus\, Schildstraße 12-19\, Bremen\, 28203
CATEGORIES:Konzert
ATTACH;FMTTYPE=image/png:https://dev.our-events.de/wp-content/uploads/2024/11/dreieck_kultur_100-6.png
END:VEVENT
BEGIN:VEVENT
DTSTART;TZID=Europe/Berlin:20250430T210000
DTEND;TZID=Europe/Berlin:20250430T230000
DTSTAMP:20260424T050113
CREATED:20250327T141537Z
LAST-MODIFIED:20250327T141537Z
UID:37006-1746046800-1746054000@dev.our-events.de
SUMMARY:Pfefferminz  Westernhagen Cover\, Deutschland im Meisenfrei
DESCRIPTION:eute ist mal wieder Walpurgisnacht. Wer aus welchen Gründen auch immer nicht willens oder fähig ist zum Brocken zu fliegen\, hat die Auswahl unter zahlreichen “Tanz in den Mai”-Angeboten. Deren bestes sich natürlich wie immer hier im Club findet\, wo geradezu traditionell die Mannen von Pfefferminz sich anheischig machen\, von zart balladesk bis hart losbretternd die große weite Wunderwelt der Westernhagen-Musik vor uns auszubreiten. Und auch wenn Marius rückfällig geworden und auch selbst wieder gelegentlich live konsumierbar ist: Dieses superbe Sextett bietet einfach das bessere Live-Ereignis\, und das höchstgelobt seit über einem viertel Jahrhundert! \nCopyright Text & Bild: Meisenfrei
URL:https://dev.our-events.de/event/pfefferminz-westernhagen-cover-deutschland-im-meisenfrei/
LOCATION:Meisenfrei\, Hankenstraße 18\, Bremen\, 28195
CATEGORIES:Konzert,Rock / Pop / Jazz / Country
ATTACH;FMTTYPE=image/jpeg:https://dev.our-events.de/wp-content/uploads/2025/03/2025-04-30-Pfefferminz.jpg
END:VEVENT
END:VCALENDAR