BEGIN:VCALENDAR
VERSION:2.0
PRODID:-//Our Events - ECPv6.15.20//NONSGML v1.0//EN
CALSCALE:GREGORIAN
METHOD:PUBLISH
X-WR-CALNAME:Our Events
X-ORIGINAL-URL:https://dev.our-events.de
X-WR-CALDESC:Veranstaltungen für Our Events
REFRESH-INTERVAL;VALUE=DURATION:PT1H
X-Robots-Tag:noindex
X-PUBLISHED-TTL:PT1H
BEGIN:VTIMEZONE
TZID:Europe/Berlin
BEGIN:DAYLIGHT
TZOFFSETFROM:+0100
TZOFFSETTO:+0200
TZNAME:CEST
DTSTART:20240331T010000
END:DAYLIGHT
BEGIN:STANDARD
TZOFFSETFROM:+0200
TZOFFSETTO:+0100
TZNAME:CET
DTSTART:20241027T010000
END:STANDARD
BEGIN:DAYLIGHT
TZOFFSETFROM:+0100
TZOFFSETTO:+0200
TZNAME:CEST
DTSTART:20250330T010000
END:DAYLIGHT
BEGIN:STANDARD
TZOFFSETFROM:+0200
TZOFFSETTO:+0100
TZNAME:CET
DTSTART:20251026T010000
END:STANDARD
BEGIN:DAYLIGHT
TZOFFSETFROM:+0100
TZOFFSETTO:+0200
TZNAME:CEST
DTSTART:20260329T010000
END:DAYLIGHT
BEGIN:STANDARD
TZOFFSETFROM:+0200
TZOFFSETTO:+0100
TZNAME:CET
DTSTART:20261025T010000
END:STANDARD
END:VTIMEZONE
BEGIN:VEVENT
DTSTART;TZID=Europe/Berlin:20250502T200000
DTEND;TZID=Europe/Berlin:20250502T200000
DTSTAMP:20260424T050229
CREATED:20250417T153403Z
LAST-MODIFIED:20250428T113408Z
UID:37880-1746216000-1746216000@dev.our-events.de
SUMMARY:Jamaram- Konzert im Lagerhaus
DESCRIPTION:Jamaram\, der seit Gründung um die Jahrtausendwende als unsinkbar geltende Reggae-Achter\, mit tausenden live Shows auf dem Tacho\, ist noch lange nicht platt! Die Band steht für Frieden\, Weltoffenheit und Respekt\, gegen Krieg\, Intoleranz und Abschottung. Der Wanderzirkus in Sachen Reggae & Rock‘n‘Roll\, seit 25 Jahren auf den Bühnen Europas\, Afrikas und Südamerikas unterwegs\, fährt auf der Genre-Achterbahn\, ohne je beliebig zu werden. Die gewohnt umwerfende Live-Show bietet bassheavy Modern Roots\, Dubwise\, Afrobeat\, HipHop und Urban Grooves\, es geht massiv in die Beine\, Sauna & Eskalation garantiert. Für die Birne und zur Erholung gibt’s dann noch die ein oder andere heartbreaking Ballade und intelligentes Songwriter-Storytelling. \nCopyright Text & Bild: Lagerhaus
URL:https://dev.our-events.de/event/jamaram-konzert-im-lagerhaus/
LOCATION:Kulturzentrum Lagerhaus\, Schildstraße 12-19\, Bremen\, 28203
CATEGORIES:Konzert
ATTACH;FMTTYPE=image/png:https://dev.our-events.de/wp-content/uploads/2024/11/dreieck_kultur_100-6.png
END:VEVENT
BEGIN:VEVENT
DTSTART;TZID=Europe/Berlin:20250502T210000
DTEND;TZID=Europe/Berlin:20250502T230000
DTSTAMP:20260424T050229
CREATED:20250417T145647Z
LAST-MODIFIED:20250417T145647Z
UID:37797-1746219600-1746226800@dev.our-events.de
SUMMARY:Mob Rules  Heavy Metal\, Delmenhorst im Meisenfrei
DESCRIPTION:Mob Rules hängt die Messlatte für das eigene Schaffen ziemlich hoch: Nicht weniger als „Die Metal-Party des Jahres!“ versprechen die Nordlichter. Da die Melodic Heavy Metal-Band inzwischen traditionell bei uns vorbei sieht\, können wir festhalten\, dass sie potenziell nicht zu viel verspricht. Hier treffen schließlich dreißig Jahre Erfahrung und Handwerkskunst auf nahezu jugendliche Power und Begeisterung. Die Truppe arbeitet übrigens gerade an ihrem neuen Album “Rise of the Ruler” und vielleicht gibt es als Bonus schon Material daraus zu hören. Der deftig-heftige Einstieg ins Wochenende ist somit garantiert!  \nCopyright Text & Bild: Meisenfrei
URL:https://dev.our-events.de/event/mob-rules-heavy-metal-delmenhorst-im-meisenfrei/
LOCATION:Meisenfrei\, Hankenstraße 18\, Bremen\, 28195
CATEGORIES:Konzert,Rock / Pop / Jazz / Country
ATTACH;FMTTYPE=image/jpeg:https://dev.our-events.de/wp-content/uploads/2025/04/2025-05-02-MobRules.jpg
END:VEVENT
END:VCALENDAR