BEGIN:VCALENDAR
VERSION:2.0
PRODID:-//Our Events - ECPv6.15.20//NONSGML v1.0//EN
CALSCALE:GREGORIAN
METHOD:PUBLISH
X-WR-CALNAME:Our Events
X-ORIGINAL-URL:https://dev.our-events.de
X-WR-CALDESC:Veranstaltungen für Our Events
REFRESH-INTERVAL;VALUE=DURATION:PT1H
X-Robots-Tag:noindex
X-PUBLISHED-TTL:PT1H
BEGIN:VTIMEZONE
TZID:Europe/Berlin
BEGIN:DAYLIGHT
TZOFFSETFROM:+0100
TZOFFSETTO:+0200
TZNAME:CEST
DTSTART:20240331T010000
END:DAYLIGHT
BEGIN:STANDARD
TZOFFSETFROM:+0200
TZOFFSETTO:+0100
TZNAME:CET
DTSTART:20241027T010000
END:STANDARD
BEGIN:DAYLIGHT
TZOFFSETFROM:+0100
TZOFFSETTO:+0200
TZNAME:CEST
DTSTART:20250330T010000
END:DAYLIGHT
BEGIN:STANDARD
TZOFFSETFROM:+0200
TZOFFSETTO:+0100
TZNAME:CET
DTSTART:20251026T010000
END:STANDARD
BEGIN:DAYLIGHT
TZOFFSETFROM:+0100
TZOFFSETTO:+0200
TZNAME:CEST
DTSTART:20260329T010000
END:DAYLIGHT
BEGIN:STANDARD
TZOFFSETFROM:+0200
TZOFFSETTO:+0100
TZNAME:CET
DTSTART:20261025T010000
END:STANDARD
END:VTIMEZONE
BEGIN:VEVENT
DTSTART;TZID=Europe/Berlin:20250301T110000
DTEND;TZID=Europe/Berlin:20250301T160000
DTSTAMP:20260424T050052
CREATED:20250228T160841Z
LAST-MODIFIED:20250823T065010Z
UID:35915-1740826800-1740844800@dev.our-events.de
SUMMARY:Eintrittskarten Vegesacker Geschichtenhaus - Gültig zu den Öffnungszeiten
DESCRIPTION:Das Vegesacker Geschichtenhaus macht die Stadtgeschichte von Bremen-Nord lebendig. In kleinen Theaterszenen entführen unsere Darsteller Sie in das Vegesack des 19. Jahrhunderts.  \nBesuchen Sie uns auf der legendären Lange-Werft\, sprechen Sie mit den Handwerkern über die Arbeit in dieser Zeit oder trinken Sie auf ein langes Leben in der Hafenschänke und vor allem: Lassen Sie sich nicht erwischen\, wenn der Hafenmeister wieder seine Runde macht! \nGeöffnet haben wir immer mittwochs bis samstags zwischen 11 und 16 Uhr (letzter Einlass um 15 Uhr). Für Schulklassen öffnen wir auf Anfrage gerne auch früher. \nEine Spielführung dauert zur Zeit 30 – 45 Minuten. Zum Abschluss haben Sie die Möglichkeit bei Kaffee und süßem “Havenfutter” im GalerieCafe oder auf der Dachterrasse zu verweilen. \nFotos: Matthias Sabelhaus \nBitte aktiviere JavaScript in deinem Browser\, um dieses Formular fertigzustellen.Bitte aktiviere JavaScript in deinem Browser\, um dieses Formular fertigzustellen.Bitte die Anzahl zu reservierender Karten auswählenIch bin *KulturgastKulturbegleiter:inAnrede Interessent:in *FrauHerrDiversVorname  *Name *Straße & Hausnummer *Postleitzahl  *Ort *Telefon Nr. der Interessent:in *E-Mail  *Ich benötige Unterstützung für den Besuch der Veranstaltung *janeinWelche Form der Unterstützung  benötigen Sie?Ich möchte den Programm Newsletter der Kulturtafel abonnieren. Das kann ich jederzeit rückgängig machen.janeinDSGVO Einverständnis *Ich willige ein\, dass diese Website meine übermittelten Informationen speichert\, sodass meine Anfrage beantwortet werden kann.Angaben bestätigen  \n 
URL:https://dev.our-events.de/event/eintrittskarten-fuer-das-vegesacker-geschichtenhaus-2/
LOCATION:Vegesacker Geschichtenhaus\, Zum Alten Speicher 5a\, Bremen\, 28759
CATEGORIES:Museum,Theater
ATTACH;FMTTYPE=image/png:https://dev.our-events.de/wp-content/uploads/2025/02/geschichtenhaus.png
END:VEVENT
BEGIN:VEVENT
DTSTART;TZID=Europe/Berlin:20250503T200000
DTEND;TZID=Europe/Berlin:20250503T220000
DTSTAMP:20260424T050052
CREATED:20250411T132849Z
LAST-MODIFIED:20250411T132849Z
UID:37534-1746302400-1746309600@dev.our-events.de
SUMMARY:Johannes Worms & Nasti: Speak Low - im Sendesaal Bremen
DESCRIPTION:Der Bariton Johannes Worms und seine Klavierbegleitung Nasti begeben sich auf eine spannende Reise\, indem sie große Werke der Liedliteratur von Schubert\, Schumann\, Mahler\, Wolf u.v.a. in eine inhaltliche Beziehung zu aktuellen Überlegungen zu männlichen Rollenbildern und Queerness setzen. Das Format des klassischen Liederabends wird an diesem Abend neu interpretiert durch den Einsatz von Live-Elektronik und Moderationen. \nCopyright Text & Bild: Sendesaal
URL:https://dev.our-events.de/event/johannes-worms-nasti-speak-low-im-sendesaal-bremen/
LOCATION:Sendesaal Bremen\, Bürgermeister-Spitta-Allee 45\, Bremen\, 28329
CATEGORIES:Konzert
ATTACH;FMTTYPE=image/jpeg:https://dev.our-events.de/wp-content/uploads/2025/04/Press-3-by-Thi-Thuy-Nhi-Tran-scaled-1-e1744378051193.jpg
END:VEVENT
BEGIN:VEVENT
DTSTART;TZID=Europe/Berlin:20250503T200000
DTEND;TZID=Europe/Berlin:20250503T220000
DTSTAMP:20260424T050052
CREATED:20250415T105954Z
LAST-MODIFIED:20250417T113626Z
UID:37600-1746302400-1746309600@dev.our-events.de
SUMMARY:Nino de Angelo – Irgendwann im Leben im Metropoltheater
DESCRIPTION:EINE STIMME\, DIE BERÜHRT – EINE PERSÖNLICHKEIT\, DIE INSPIRIERT \n“Irgendwann im Leben” so der Titel der bevorstehen Deutschland-Tour 2025 von NINO DE ANGELO. Dominico Gerhard Gorgolione\, wie Nino de Angelo mit bürgerlichen Namen heißt\, bestätigt: „Meine Fans wollen mehr Nino – sie bekommen mehr Nino!“ \nSeit über vier Jahrzehnten zählt NINO DE ANGELO zu den herausragendsten Stimmen der deutschsprachigen Musikszene. Mit seinem unverwechselbaren Mix aus tief emotionalen Texten und kraftvollen Melodien hat er sich längst einen festen Platz in den Herzen seiner Fans erobert. Jetzt meldet sich der charismatische Sänger und Songwriter eindrucksvoll zurück – und zeigt einmal mehr\, warum er als einer der größten Künstler Deutschlands gilt. NINO DE ANGELO hat alle Höhen und Tiefen des Lebens durchlebt und kann auf ein turbulentes Leben zurückblicken. Stärker denn je können ihn seine Fans stimmgewaltig und authentisch auf der Bühne erleben. \nMit epochalen Songs und emotionsstarken Texten wie Die Zeit heilt keine Wunden und Gesegnet und Verflucht begeistert er seine Fans. „Das ist meine Lebensgeschichte“ sagt NINO DE ANGELO. „Ich wurde reich beschenkt und bin auch sehr tief gefallen.“ Sein Statement aber ist klar: „Auch Superhelden haben Schwachstellen\, man muss sich Ihnen nur stellen“. \nNino de Angelo: Die Rückkehr einer Ikone – Der Meister der Emotionen ist wieder da. Einer der besten Sänger Deutschlands will auf seiner Tournee „Irgendwann im Leben“ ein starkes Zeichen setzen und wird sich energiegeladen und authentisch seinen Fans präsentieren. Neben altbekannten Hits kann sich das Publikum auf ein brandneues Album freuen\, welches im Februar 2025 erscheinen wird. Die gleichnamige Single zur Tour „Irgendwann im Leben“ können Fans bereits ab dem 09.11.2024 hören und ihren Star zeitgleich in der Giovanni Zarella Show erleben.
URL:https://dev.our-events.de/event/nino-de-angelo-irgendwann-im-leben-im-metropoltheater/
LOCATION:Metropoltheater\, Richtweg 7\, Bremen\, 28195
CATEGORIES:Konzert,Musik
ATTACH;FMTTYPE=image/jpeg:https://dev.our-events.de/wp-content/uploads/2025/04/MTB25-05-03_NinoDeAngelo_600x850px-e1744714681611.jpg
END:VEVENT
BEGIN:VEVENT
DTSTART;TZID=Europe/Berlin:20250503T210000
DTEND;TZID=Europe/Berlin:20250503T230000
DTSTAMP:20260424T050052
CREATED:20250415T180747Z
LAST-MODIFIED:20250428T122545Z
UID:37634-1746306000-1746313200@dev.our-events.de
SUMMARY:Moneymami & cesco.blz
DESCRIPTION:Doppelkonzert \nÜber die Veranstaltung:\nDie Konzertreihe Unknown Concerts – Voices Unheard schafft Konzert­momente\, die berühren. Der Fokus der Reihe liegt darauf\, BIPoC- und queeren Künstler*innen die Bühne zu bieten\, die sie ver­dienen – für eine viel­fältige Konzert­szene\, in der strukturell unter­repräsentiert Perspektiven gehört\, gefeiert und sichtbar gemacht werden. Für 2025 hat das drei­köpfige\, unter­schiedlich positionierte Team hinter Unknown Concerts zwei Doppel­konzerte in der Schwankhalle geplant und freut sich auf Begegnungen zwischen Künstler*innen und einem Publikum\, das sich auf neue Klänge\, Stimmen und Geschichten einlässt. In der ersten Ausgabe trifft die deutsch-amerikanische Rapperin\, Song­writerin und Choreo­grafin Moneymami auf den brasilianisch-deutschen Rapper\, Drummer und multi­disziplinären Künstler cesco.blz. \n\n\nMoneymami bringt Old-School-Rap und R’n’B in die Gegenwart\, kombiniert mit kraftvollen\, mutigen Texten\, die empowern und zum Nachdenken anregen. Mit ihrem einzig­artigen Flow und ihrer authentischen Art erobert sie die Szene und spricht dabei nicht nur ihre Fans\, sondern auch gesell­schaftliche Themen an. Seit 2019 lebt Moneymami in Berlin und arbeitet mit Künstler*innen wie Loredana\, Rola\, Aisha Vibes\, Summer Cem\, Shirin David\, Ace Tee und Yvonne Catterfeld. \nInstagram @moneymamimusic ↗Linktree Moneymami ↗ \ncesco.blz steht seit seiner Kindheit auf europäischen Bühnen. Seine brasilianischen und deutschen Wurzeln erlauben ihm\, beide Kulturen in seiner Musik zu vereinen: Eingängige Hip-Hop- und Baile-Funk-Grooves treffen auf harmonische Elemente und positive Vibes. cesco.blz rappt dreisprachig – in seinen Mutter­sprachen Deutsch und Portugiesisch und in Englisch. »Sprache sollte niemals eine Barriere zwischen der Musik und den Menschen sein\, die sie hören. Musik ist Empowerment\, und das ist es\, was ich anstrebe – zu empowern\, unabhängig vom Verständnis einer bestimmten Sprache«. In seinen Texten verhandelt cesco.blz komplexe Themen wie toxische Männlich­keit und inter­kulturelle Identität auf eine leicht zugängliche Weise. Sein Talent\, Menschen über Sprach- und Genre-Grenzen hinweg zu verbinden\, macht seine Musik zum Erlebnis für ein inter­nationales Publikum. \nInstagram @cesco.blz ↗cesco.blz auf Spotify ↗ \nInformationen zur Barrierefreiheit:\nAlle öffentlichen Bereiche der Schwankhalle sind ebenerdig und stufenlos erreichbar. \nDer Saal ist während des Konzerts nicht bestuhlt\, es besteht aber die Möglichkeit\, sich auf die Tribüne zu setzen. Wenden Sie sich bitte an unser Abendpersonal\, wenn Sie eine andere Sitzgelegenheit benötigen. Während des Konzerts kann der Saal jederzeit betreten und wieder verlassen werden. \nEs gibt drei verschiedene WCs: Eine barierrefreie Toilette\, die auch für Rollstuhl-­Fahrer*innen nutzbar ist\, eine Toilette mit 3 WC-­Kabinen und eine Toilette mit Pissoirs und einer WC-Kabine. \nIndividuelle Bedarfe wie bestimmte Sitzplätze\, Early Boarding oder ein zusätzliches Ticket für eine Begleitperson können Sie ebenfalls beim Ticketkauf bzw. -reservierung angeben.
URL:https://dev.our-events.de/event/moneymami-cesco-blz/
LOCATION:Schwankhalle\, Buntentorsteinweg 112/116\, Bremen\, 28201
CATEGORIES:Konzert
ATTACH;FMTTYPE=image/jpeg:https://dev.our-events.de/wp-content/uploads/2025/04/Moneymami-cescoblz_Collage_Web_2.jpg
END:VEVENT
BEGIN:VEVENT
DTSTART;TZID=Europe/Berlin:20250503T210000
DTEND;TZID=Europe/Berlin:20250503T230000
DTSTAMP:20260424T050052
CREATED:20250417T145901Z
LAST-MODIFIED:20250428T132231Z
UID:37805-1746306000-1746313200@dev.our-events.de
SUMMARY:Dio Alive  Dio Cover\, Mannheim im Meisenfrei
DESCRIPTION:DIO – drei Buchstaben\, die nicht nur Freunde der Hochkultur in Verzückung versetzen. Ronnie James Dio war mit Sicherheit einer der herausragendsten Sänger\, was Hardrock und Heavy Metal betrifft. DIO alive bieten heute eine Hommage an diesen Mann und seine legendären Jahre bei Rainbow und Black Sabbath. Die Band um den niederländischen Ausnahmesänger John “Jaycee” Cuijpers hat es sich zum Ziel gesetzt\, das Werk des 2010 verstorbenen Musikers aus seinen Schaffensphasen bei Rainbow und Black Sabbath ebenso wie den Solo-Alben zu neuem Leben zu erwecken. “Man on the Silver Mountain”\, “Holy Diver”\, “Heaven and Hell”\,”Stargazer” – die musikalische Zeitreise ist genauso vielfältig wie umfangreich. Dabei überzeugt DIO alive nicht nur stimmlich\, auch instrumental ist die Band hochkarätig besetzt. Mit einer energiegeladenen Performance und einem respektvollen Blick auf Dios musikalisches Erbe verspricht DIO alive ein unvergessliches Konzerterlebnis. \nCopyright Text & Bild: Meisenfrei
URL:https://dev.our-events.de/event/dio-alive-dio-cover-mannheim-im-meisenfrei/
LOCATION:Meisenfrei\, Hankenstraße 18\, Bremen\, 28195
CATEGORIES:Konzert,Rock / Pop / Jazz / Country
ATTACH;FMTTYPE=image/jpeg:https://dev.our-events.de/wp-content/uploads/2025/04/2025-05-03-DioAlive.jpg
END:VEVENT
END:VCALENDAR