BEGIN:VCALENDAR
VERSION:2.0
PRODID:-//Our Events - ECPv6.15.20//NONSGML v1.0//EN
CALSCALE:GREGORIAN
METHOD:PUBLISH
X-ORIGINAL-URL:https://dev.our-events.de
X-WR-CALDESC:Veranstaltungen für Our Events
REFRESH-INTERVAL;VALUE=DURATION:PT1H
X-Robots-Tag:noindex
X-PUBLISHED-TTL:PT1H
BEGIN:VTIMEZONE
TZID:Europe/Berlin
BEGIN:DAYLIGHT
TZOFFSETFROM:+0100
TZOFFSETTO:+0200
TZNAME:CEST
DTSTART:20240331T010000
END:DAYLIGHT
BEGIN:STANDARD
TZOFFSETFROM:+0200
TZOFFSETTO:+0100
TZNAME:CET
DTSTART:20241027T010000
END:STANDARD
BEGIN:DAYLIGHT
TZOFFSETFROM:+0100
TZOFFSETTO:+0200
TZNAME:CEST
DTSTART:20250330T010000
END:DAYLIGHT
BEGIN:STANDARD
TZOFFSETFROM:+0200
TZOFFSETTO:+0100
TZNAME:CET
DTSTART:20251026T010000
END:STANDARD
BEGIN:DAYLIGHT
TZOFFSETFROM:+0100
TZOFFSETTO:+0200
TZNAME:CEST
DTSTART:20260329T010000
END:DAYLIGHT
BEGIN:STANDARD
TZOFFSETFROM:+0200
TZOFFSETTO:+0100
TZNAME:CET
DTSTART:20261025T010000
END:STANDARD
END:VTIMEZONE
BEGIN:VEVENT
DTSTART;TZID=Europe/Berlin:20250509T193000
DTEND;TZID=Europe/Berlin:20250509T200000
DTSTAMP:20260424T132846
CREATED:20250417T154137Z
LAST-MODIFIED:20250417T154137Z
UID:37894-1746819000-1746820800@dev.our-events.de
SUMMARY:Yorick Thiede - Comedy im Lagerhaus
DESCRIPTION:Tannenecker Ouvertüre. Stand-up Comedy. Yorick Thiede ist ein Novum auf der deutschen Comedy-Bühne\, alles von seiner Erscheinung bis hin zum Stand Up selbst spielt sich zwischen Gegensätzen ab. In seinem Debüt-Soloprogramm „Tannenecker Ouvertüre“\, welches namentlich einen Wald in seinem Heimatort referenziert\, kommt alles zum Besten\, was ihn über die letzten Jahre als eines der interessantesten neuen Talente bekannt gemacht hat. Erzählungen über Thiedes Aufwachsen auf einem Schleswig-Holsteiner Bauernhof\, seine von Kleinkriminalität geprägte Jugend in der Provinz und die Konflikte zwischen seiner dadurch entstandenen Persönlichkeit und dem gegenwärtigen Leben sind stets von absurden Zusätzen und Theorien durchzogen\, die dem Unsinn noch einen logischen Schluss verleihen. Einlass: 19 Uhr \nCopyright Text & Bild: Lagerhaus
URL:https://dev.our-events.de/event/yorick-thiede-comedy-im-lagerhaus/
LOCATION:Kulturzentrum Lagerhaus\, Schildstraße 12-19\, Bremen\, 28203
CATEGORIES:Konzert
ATTACH;FMTTYPE=image/png:https://dev.our-events.de/wp-content/uploads/2024/11/dreieck_kultur_100-6.png
END:VEVENT
END:VCALENDAR