BEGIN:VCALENDAR
VERSION:2.0
PRODID:-//Our Events - ECPv6.15.20//NONSGML v1.0//EN
CALSCALE:GREGORIAN
METHOD:PUBLISH
X-ORIGINAL-URL:https://dev.our-events.de
X-WR-CALDESC:Veranstaltungen für Our Events
REFRESH-INTERVAL;VALUE=DURATION:PT1H
X-Robots-Tag:noindex
X-PUBLISHED-TTL:PT1H
BEGIN:VTIMEZONE
TZID:Europe/Berlin
BEGIN:DAYLIGHT
TZOFFSETFROM:+0100
TZOFFSETTO:+0200
TZNAME:CEST
DTSTART:20240331T010000
END:DAYLIGHT
BEGIN:STANDARD
TZOFFSETFROM:+0200
TZOFFSETTO:+0100
TZNAME:CET
DTSTART:20241027T010000
END:STANDARD
BEGIN:DAYLIGHT
TZOFFSETFROM:+0100
TZOFFSETTO:+0200
TZNAME:CEST
DTSTART:20250330T010000
END:DAYLIGHT
BEGIN:STANDARD
TZOFFSETFROM:+0200
TZOFFSETTO:+0100
TZNAME:CET
DTSTART:20251026T010000
END:STANDARD
BEGIN:DAYLIGHT
TZOFFSETFROM:+0100
TZOFFSETTO:+0200
TZNAME:CEST
DTSTART:20260329T010000
END:DAYLIGHT
BEGIN:STANDARD
TZOFFSETFROM:+0200
TZOFFSETTO:+0100
TZNAME:CET
DTSTART:20261025T010000
END:STANDARD
END:VTIMEZONE
BEGIN:VEVENT
DTSTART;TZID=Europe/Berlin:20250511T110000
DTEND;TZID=Europe/Berlin:20250511T170000
DTSTAMP:20260425T163721
CREATED:20250508T140851Z
LAST-MODIFIED:20250707T124929Z
UID:38536-1746961200-1746982800@dev.our-events.de
SUMMARY:Eintrittskarten Overbeck-Museum: IST MIR EINE EHRE - Die Lieblingsbilder unserer EhrenamtlichenAusstellung - Karten täglich gültig zu den Öffnungszeiten
DESCRIPTION:Die Karten sind  täglich zu den Öffnungszeiten gültig. Letzter Tag für eine Ticket-Reservierung ist der 23.10.2024. \n\n\n\nDas Overbeck-Museum ist seit seiner Gründung vor 35 Jahren ohne ehrenamtliches Engagement nicht denkbar. Von Beginn an hat sich ein großer Kreis Menschen ehrenamtlich eingebracht und damit den lebendigen Alltag und das stetige Wachstum des Museums überhaupt erst ermöglicht. Aktuell leisten rund 55 Personen ehrenamtlich Aufsichtsdienste am Wochenende\, weitere 10 engagieren sich ehrenamtlich in Gremien wie Vorstand und Aufsichtsrat. Dafür kann man gar nicht oft genug und laut genug DANKE sagen. \n\nEhrenamt geschieht meist im Verborgenen. Wir wollen es sichtbar machen und zeigen: Seht her – ohne diese vielen tollen Menschen ginge es nicht! Zum 35. Geburtstag des Overbeck-Museums bestimmen unsere Ehrenamtlichen\, welche Bilder gezeigt werden. \n\nLieblingsbilder\, nahezu Unbekanntes und besondere Schätze – wer schon so viele Stunden ehrenamtlich Aufsicht in den Ausstellungsräumen gemacht hat\, der hat zu manch einem Kunstwerk eine besondere Beziehung und kann etwas darüber erzählen. Deshalb sind den Kunstwerken kurze Texte unserer Ehrenamtlichen zur Seite gestellt\, die erzählen\, was dieses Werk für sie persönlich bedeutet. \n\n\nBitte aktiviere JavaScript in deinem Browser\, um dieses Formular fertigzustellen.Bitte aktiviere JavaScript in deinem Browser\, um dieses Formular fertigzustellen.Bitte das Datum der Veranstaltung angeben *Bitte die Anzahl der zu reservierenden Tickets auswählenIch bin *KulturgastKulturbegleiter:inAnrede Interessent:in *FrauHerrDiversVorname  *Name *E-Mail  *Ich benötige Unterstützung für den Besuch der Veranstaltung *janeinIch möchte den Programm Newsletter der Kulturtafel abonnieren. Das kann ich jederzeit rückgängig machen.janeinDSGVO Einverständnis *Ich willige ein\, dass diese Website meine übermittelten Informationen speichert\, sodass meine Anfrage beantwortet werden kann.Angaben bestätigen
URL:https://dev.our-events.de/event/eintrittskarten-overbeck-museum-ist-mir-eine-ehre-die-lieblingsbilder-unserer-ehrenamtlichenausstellung-karten-taeglich-gueltig-zu-den-oeffnungszeiten/
LOCATION:Overbeck Museum\, Alte Hafenstraße 30\, Bremen\, Bremen\, 28757\, Deutschland
CATEGORIES:Ausstellung,Grohn
ATTACH;FMTTYPE=image/png:https://dev.our-events.de/wp-content/uploads/2024/09/Overbeck-Museum.png
END:VEVENT
BEGIN:VEVENT
DTSTART;TZID=Europe/Berlin:20250525T160000
DTEND;TZID=Europe/Berlin:20250525T180000
DTSTAMP:20260425T163721
CREATED:20250417T104145Z
LAST-MODIFIED:20250417T104302Z
UID:37758-1748188800-1748196000@dev.our-events.de
SUMMARY:RESIDENZ KLASSIK Konzert in der DKV-Residenz an der Contrescarpe
DESCRIPTION:Bei der Residenz Klassik kommen Sie im Rahmen der Konzerte in den Genuss von Meisterwerken der Klassik für Einsteiger\, Kenner und Liebhaber. \nGespielt werden Werke von Chopin\, Bach über Vivaldi\, Händel\, Haydn\, Mozart\, Beethoven bis Rossini. \nFür musikalische Unterhaltung auf höchstem Niveau sorgen die Residenz-Solisten und Duetten aus verschiedenen Genres. \nDie Residenz Klassik findet regelmäßig sonntags statt. \nMai-Konzert:   YIRAN WANG \nYiran Wang wurde 2005 in Peking\, China geboren. Mit sechs Jahren erhielt sie ersten Klavierunterricht von ihrem Vater\, hernach wurde sie am Conservatory of Music von Xiaofeng Zhang ausgebildet. Sie konnte mehrfachen Erfolg bei internationalen Wettbewerben verzeichnen\, u.a. belegte sie 2017 den 4. Platz beim USA Lancaster Piano Competition und im folgenden Jahr den 1. Platz beim Klavierwettbewerb Macau. Neben ihrer Solotätigkeit tritt Yiran Wang auch als Kammermusikerin auf\, so arbeitete sie bereits mit dem Macau Orchestra und sammelte weitere Eindrücke bei Kammermusik-Meisterkursen und Kolibri-Wettbewerben in China. Erst seit 2023 lebt sie in Deutschland\, wo sie an der Musikhochschule Lübeck bei Prof. Dr. Florian Uhlig Klavier studiert. \nProgramm: \n\nJohann Sebastian Bach\n\nPräludium und Fuge g-Moll BWV 867 \n\nWolfgang Amadeus Mozart\n\nKlavier Sonate F Dur k.332 \n\nLudwig van Beethoven\n\n32 Variationen Op.80 \nPause 10min \n\nJakob Ludwig Felix Mendelssohn Bartholdy\n\nFantasie\, Op.28 \n\nLudwig van Beethoven\n\nKlavier Sonate Op.109 \n\nJoseph Maurice Ravel\n\nLa valse \nCopyright Text & Bild DKV Residenz Contrescarpe
URL:https://dev.our-events.de/event/residenz-klassik-konzert-in-der-dkv-residenz-an-der-contrescarpe-2/
LOCATION:DKV-Residenz in der Contrescarpe\, Am Wandrahm 40-43\, Bremen\, 28195
ATTACH;FMTTYPE=image/png:https://dev.our-events.de/wp-content/uploads/2024/11/2023-DKV-LOGO-Residenz-Contrescarpe.png
END:VEVENT
BEGIN:VEVENT
DTSTART;TZID=Europe/Berlin:20250525T193000
DTEND;TZID=Europe/Berlin:20250525T200000
DTSTAMP:20260425T163721
CREATED:20250417T164349Z
LAST-MODIFIED:20250417T164349Z
UID:37938-1748201400-1748203200@dev.our-events.de
SUMMARY:LOVE LOVE LOVE VON MIKE BARTLETT in der Shakespeare Company
DESCRIPTION:Drei Epochen\, zwei Generationen\, ein Familiendrama.- Im Summer of Love 1967 brennt die Luft vor Erwartung – etwas wird passieren\, die Welt wird sich ändern und Kenneth und Sandra wollen dabei sein! Doch was wird aus ihren Erwartungen und Träumen im Laufe der Jahre? Eine gescheiterte Ehe und 30 Jahre später\, ist die Liebe im Egoismus und der Aufbruch der ’68er im Neoliberalismus angekommen. Wovon träumen ihre mittlerweile erwachsenen Kinder? Werden sie die Welt\, wie damals ihre Eltern\, mit einer neuen Utopie umformen oder sind sie längst unter die Räder der Zeitläufte geraten? Ein Stück über Lebensgefühle im Wandel und die Konstante\, dass das Private auch stets politisch ist. \nWie in „King Charles III“ gelingt es Mike Bartlett auch in „Love Love Love“ wieder einmal\, gesellschaftlich relevante Themen in einem gleichzeitig spannenden und unterhaltsamen Plot unterzubringen: schräg amüsant\, böse satirisch und mit einem messerscharfem Blick für die Ironien des Lebens. Versteckt in einer Familiengeschichte hat Bartlett ein “state of the nation”-Stück geschrieben und liefert eine pointierte Bestandsaufnahme\, die zum Nachdenken einlädt: über die Komplexität von gesellschaftlichen Bewegungen und Gegenbewegungen\, über Ideale und Realitäten\, Allgemeinwohl und private Prioritäten. \nCopyright Text & Bild: Shakespeare Company
URL:https://dev.our-events.de/event/love-love-love-von-mike-bartlett-in-der-shakespeare-company/
LOCATION:Theater am Leibnitzplatz\, Schulstraße 26\,\, Bremen\, 28199
CATEGORIES:Theater
ATTACH;FMTTYPE=image/png:https://dev.our-events.de/wp-content/uploads/2023/11/Unterstuetzer_Shakespeare-Company.png
END:VEVENT
BEGIN:VEVENT
DTSTART;TZID=Europe/Berlin:20250525T200000
DTEND;TZID=Europe/Berlin:20250525T220000
DTSTAMP:20260425T163721
CREATED:20250507T142848Z
LAST-MODIFIED:20250507T142848Z
UID:38482-1748203200-1748210400@dev.our-events.de
SUMMARY:Markus Stockhausen Group feat. Nguyên Lê + Rabih Lahoud im Sendesaal
DESCRIPTION:Für dieses Konzert hat Markus Stockhausen mit Nguyên Lê und Rabih Lahoudzwei herausragende Gäste eingeladen\, auf die er sich ganz besonders freut: „Nguyên Lê – Meister der E-Gitarre. Seit Mitte der 1990er-Jahre bewundere ich ihn und spielte damals mit ihm in der Gruppe von Dhafer Youssef sowie in meinem Possible Worlds Orchestra. Nguyên treibt unsere Gruppe in neue Gefilde und schenkt uns intensive\, abenteuerliche Klangräume.“ Und über Rabih Lahoud sagt er: „Welch wunderbare\, ausdrucksstarke Stimme! Seit wir 2008 gemeinsam auf die ‚Eternal Voyage‘ gingen\, sind wir gute Freunde gewoden. Rabih ist heute einer der ganz großen Sänger in Deutschland und darüber hinaus.“ \nMarkus Stockhausen – Flügelhorn\, Trompete\nJeroen van Vliet – Piano\, Synthesizer\nLevan Andria – Cello\nChristian Thomé – Schagzeug\nRabih Lahoud – Gesang\nNguyên Lê – e-Gitarre \nIm Grunde ist Markus Stockhausens Musik von Beginn an ein einzigartiges\, großartiges Fest – mal rauschend\, mal intim und immer feinsinnig. Wenn der virtuose Trompeter seine abenteuerlichen Klangprojekte zu hymnischen Sternstunden des Jazz verdichtet\, zeigt sich einmal mehr sein Gespür für musikalisch intuitive Klangwelten. \nDie improvisierenden Musiker seiner Band gehören zu den Besten ihres Fachs. Spielfreude und meisterliches Können – farbenreiche Kompositionen\, inspirierte Improvisationen und intuitives Spiel fügen sich zu einem harmonischen Ganzen. Den Instrumenten werden ungeahnte Klänge entlockt. Alle Musiker benutzen auch elektronische Erweiterungen ihrer Instrumente. Sie sind sowohl im klassischen Fach wie auch im Jazz virtuos zuhause und stellen einen hohen Anspruch an ihre Tonkultur\, immer auf der Suche nach dem ‘magischen Augenblick’ auf der Bühne. Durch ihr intuitives Zusammenspiel bringen sie mit musikalischem Feingefühl innere Welten zum Klingen. Sie werfen sich die Themen wie Bälle zu\, mitunter komplexe\, virtuose Ton- oder Akkordfolgen\, lebhaft und jazzig\, dann wieder harmonisch-melodiös\, ruhig und innerlich. Ein fesselndes musikalisches Erlebnis. \nIn den Kompositionen\, einer Synthese zwischen dem aktuellen Jazz und der europäischen Kunstmusik\, bilden sich harmonische Verflechtungen von Komposition und Improvisation\, die eine große Tiefe\, eine klangliche Weite\, aber auch etwas Spielerisches und zuweilen Humorvolles entstehen lassen. Die erste Veröffentlichung des Quartetts „Far into the Stars“ erschien im August 2017 bei OKeh/Sony Music und bekam hervorragende Kritiken in der Fachpresse. Die CD „Tales“ hatte ein ebenso großes Echo und ist gerade nach Konzerten sehr gefragt. Die neueste CD „Celebration“  feiert das Leben und hat unter anderen  die heutigen Gäste dabei. \nCopyright Text & Bild: Sendesaal
URL:https://dev.our-events.de/event/markus-stockhausen-group-feat-nguyen-le-rabih-lahoud-im-sendesaal/
LOCATION:Sendesaal Bremen\, Bürgermeister-Spitta-Allee 45\, Bremen\, 28329
CATEGORIES:Konzert
ATTACH;FMTTYPE=image/jpeg:https://dev.our-events.de/wp-content/uploads/2025/05/MSG-Wuppertal-Foto-2-von-Kevin-Bertelt-Arbeitskopie-2.jpeg
END:VEVENT
END:VCALENDAR