BEGIN:VCALENDAR
VERSION:2.0
PRODID:-//Our Events - ECPv6.15.20//NONSGML v1.0//EN
CALSCALE:GREGORIAN
METHOD:PUBLISH
X-ORIGINAL-URL:https://dev.our-events.de
X-WR-CALDESC:Veranstaltungen für Our Events
REFRESH-INTERVAL;VALUE=DURATION:PT1H
X-Robots-Tag:noindex
X-PUBLISHED-TTL:PT1H
BEGIN:VTIMEZONE
TZID:Europe/Berlin
BEGIN:DAYLIGHT
TZOFFSETFROM:+0100
TZOFFSETTO:+0200
TZNAME:CEST
DTSTART:20240331T010000
END:DAYLIGHT
BEGIN:STANDARD
TZOFFSETFROM:+0200
TZOFFSETTO:+0100
TZNAME:CET
DTSTART:20241027T010000
END:STANDARD
BEGIN:DAYLIGHT
TZOFFSETFROM:+0100
TZOFFSETTO:+0200
TZNAME:CEST
DTSTART:20250330T010000
END:DAYLIGHT
BEGIN:STANDARD
TZOFFSETFROM:+0200
TZOFFSETTO:+0100
TZNAME:CET
DTSTART:20251026T010000
END:STANDARD
BEGIN:DAYLIGHT
TZOFFSETFROM:+0100
TZOFFSETTO:+0200
TZNAME:CEST
DTSTART:20260329T010000
END:DAYLIGHT
BEGIN:STANDARD
TZOFFSETFROM:+0200
TZOFFSETTO:+0100
TZNAME:CET
DTSTART:20261025T010000
END:STANDARD
END:VTIMEZONE
BEGIN:VEVENT
DTSTART;TZID=Europe/Berlin:20250530T110000
DTEND;TZID=Europe/Berlin:20250530T180000
DTSTAMP:20260426T003827
CREATED:20250516T124131Z
LAST-MODIFIED:20250516T130341Z
UID:38788-1748602800-1748628000@dev.our-events.de
SUMMARY:Eintrittskarten für Museen Böttcherstrasse – Short Stories 2 – Karten von Di. -So. zu den Öffnungszeiten gültig.
DESCRIPTION:Wie konnte der bitterste Moment in der jungen Karriere Paula Beckers 1899 zur Triebfeder ihrer künstlerischen Entwicklung werden? Was wissen wir über die Farben und Arbeitsmaterialien der Malerin? Welche Rätsel verbergen sich in ihrem „Selbstbildnis am 6. Hochzeitstag“? Und welche Überzeugungen teilten Paula Modersohn-Becker und Rainer Maria Rilke? \nAb dem 29. Mai 2025 ist es wieder Zeit für neue Short Stories: In thematischen Sammlungspräsentationen laden wir ein\, sich in ausgewählte Momente aus Leben\, Werk und Rezeption Paula Modersohn-Beckers zu vertiefen. Die Präsentation der Bilder wird ergänzt durch Texte\, Dokumente und Gegenstände\, die spannende und facettenreiche Kurzgeschichten rund um das Schaffen der Künstlerin erzählen. \nIn den Short Stories 2025 rücken wir unter anderem die Abreise der jungen Künstlerin nach Paris in der Silvesternacht 1899 in den Blick\, folgen ihr eine Woche in der Kunstmetropole im Frühjahr 1906\, gewähren Einblicke in ihre Maltechniken und stellen Fragen an ihr ikonisches Rätselbild „Selbstbildnis am 6. Hochzeitstag“. Ab Herbst 2025 widmen wir zudem Rainer Maria Rilke anlässlich seines 150. Geburtstages einen Saal. \nAchtet bitte auf das Güligkeitsdatum der Eintrittskarte\, steht auf dem Ticket. Danke. \nCopyright Text & Bild: Museen Böttcherstraße \nBitte aktiviere JavaScript in deinem Browser\, um dieses Formular fertigzustellen.Bitte aktiviere JavaScript in deinem Browser\, um dieses Formular fertigzustellen.Bitte das Datum der Veranstaltung angeben *Bitte die Anzahl der zu reservierenden Tickets auswählenIch bin *KulturgastKulturbegleiter:inAnrede Interessent:in *FrauHerrDiversVorname  *Name *E-Mail  *Ich benötige Unterstützung für den Besuch der Veranstaltung *janeinIch möchte den Programm Newsletter der Kulturtafel abonnieren. Das kann ich jederzeit rückgängig machen.janeinDSGVO Einverständnis *Ich willige ein\, dass diese Website meine übermittelten Informationen speichert\, sodass meine Anfrage beantwortet werden kann.Angaben bestätigen
URL:https://dev.our-events.de/event/eintrittskarten-fuer-museen-boettcherstrasse-short-stories-2-karten-von-di-so-zu-den-oeffnungszeiten-gueltig/
LOCATION:Museen Böttcherstrasse\, Böttcherstraße 6-10\, Bremen\, Bremen\, 28195\, Deutschland
CATEGORIES:Ausstellung,Kunst,Museum
ATTACH;FMTTYPE=image/jpeg:https://dev.our-events.de/wp-content/uploads/2025/05/PMB-Short-Stories-Header-2025.jpg
END:VEVENT
BEGIN:VEVENT
DTSTART;TZID=Europe/Berlin:20250530T190000
DTEND;TZID=Europe/Berlin:20250530T200000
DTSTAMP:20260426T003827
CREATED:20250415T182835Z
LAST-MODIFIED:20250416T092901Z
UID:37649-1748631600-1748635200@dev.our-events.de
SUMMARY:Naledi Majola: In Flux in der Schwankhalle
DESCRIPTION:Performance \nIm Rahmen von SOLO – Festival für künstlerische Alleingänge \nÜber die Veranstaltung:\n\nDie Black Gender Play Performance »In Flux« der süd­afrikanische Künstler*in Naledi Majola kommt mit zwei wesentlichen Mitteln aus: Dem Körper der Performer*in und einer Reihe von Anzügen. »In Flux« verleiht dem Wunsch Audruck\, sich un-fassbar zu machen\, den sich ständig verändernden Köper den Klassifizierungen und Einschränkungen des Blicks zu entziehen. Die Bewegungen\, Klänge und Bilder der Performance stellen Bezugs­punkte zu verschiedenen Schwarzen Kontexten her. Vor allem süd­afrikanische Referenzen\, die in der zweiten Hälfte des 20. Jahrhunderts im Land und im Exil entstanden sind\, haben einen großen Einfluss. \nNaledi Majola ist süd­afrikanische Künstler*in\, Forscher*in und Schauspieler*in\, setzt sich mit Hilfe von Bewegung\, Klang und Worten mit großen Fragen auseinander und geht diese mit entschiedener Unsicherheit an. Naledi interessiert sich vor allem für die Über­schneidung von Performance und Schwarzer Geschichte\, Kultur und Identität. \nnaledimajola.comInstagram \nInformationen zur Barrierefreiheit:\nPerformance ohne gesprochene Sprache. \nDauer: 45 Minuten ohne Pause. \nEs kommen Nebel-Effekte und blendende Scheinwerfer zum Einsatz. \nDas Publikum sitzt im Kreis um die Bühne herum. In einigen Momenten bewegt sich die Performer*in auch hinter dem Publikum. \nRollstuhlplätze können unkompliziert integriert werden. Wenn Sie möchten\, können Sie diese im Vorfeld telefonisch unter 0421 520 80 70\, per Email unter ticket@schwankhalle.de oder per Eingabe im Ticketshop reservieren.
URL:https://dev.our-events.de/event/naledi-majola-in-flux/
LOCATION:Schwankhalle\, Buntentorsteinweg 112/116\, Bremen\, 28201
CATEGORIES:Performance,Theater
ATTACH;FMTTYPE=image/jpeg:https://dev.our-events.de/wp-content/uploads/2025/04/Naledi-Majola_In-flux_c_Alicja-Hoppel-Uferstudios-2023_Web.jpg
END:VEVENT
BEGIN:VEVENT
DTSTART;TZID=Europe/Berlin:20250530T200000
DTEND;TZID=Europe/Berlin:20250530T210000
DTSTAMP:20260426T003827
CREATED:20250415T184312Z
LAST-MODIFIED:20250416T093147Z
UID:37653-1748635200-1748638800@dev.our-events.de
SUMMARY:Daniela Ruocco: En mi imperio perreo sola in der Schwankhalle
DESCRIPTION:Performance \nIm Rahmen von SOLO – Festival für künstlerische Alleingänge \nÜber die Veranstaltung:\n\nDaniela Ruoccos Performance taucht in die Welt des Reggaeton ein und denkt über die Aneignung dieser Kunstform und feministische Debatten um sie herum nach. Was als exklusive Platten­taufe der Kunstfigur Consuela del Valle Grande beginnt\, kippt Stück um Stück in eine surreale Lecture-Performance und mündet in eine konzert­artige Messe. Ermächtigt durch die Worte feministischer Latinx Dichter*innen wirft die »Tröstende des großen Tals« sich mit ihrer ganzen Wucht auf die Bühne des Theaters. Erschaffen werden glamouröse\, ungeahnte Vorbilder\, die sich wie Panini-Bilder in ein feministisches Reggaeton-Sammel­heft einkleben lassen. \nDaniela Ruocco wuchs in Deutschland\, Uruguay und Italien auf. Als Schauspielerin\, Performerin\, Künstlerische Leiterin arbeitet Daniela mehrsprachig und disziplinen­übergreifend in diversen Konstellationen. Danielas Haupt­interesse gilt performativen Formaten und prozess­orientierten Arbeitsweisen\, wobei autonome Arbeits­strukturen essenziell sind. \ndanielaruocco.chInstagram @lapoderosa ↗helium x ↗ \nInformationen zur Barrierefreiheit:\nPerformance ist in deutscher und spanischer Lautprache. \nDauer: 60 Minuten ohne Pause. \nEs kommt laute Musik vor. \nAlle öffentlichen Bereiche der Schwankhalle sind ebenerdig und stufenlos erreichbar. \nEs gibt drei verschiedene WCs: Eine barierrefreie Toilette\, die auch für Rollstuhl-­Fahrer*innen nutzbar ist\, eine Toilette mit 3 WC-­Kabinen und eine Toilette mit Pissoirs und einer WC-Kabine. \nDer Publikumsbereich ist in der Regel bestuhlt. \nDie Rollstuhlplätze befinden sich in der ersten Reihe und können im Vorfeld telefonisch unter 0421 520 80 70\, per Email unter ticket@schwankhalle.de oder per Eingabe im Ticketshop reserviert werden. \nIndividuelle Bedarfe wie bestimmte Sitzplätze\, Early Boarding oder ein zusätzliches Ticket für eine Begleitperson können Sie ebenfalls beim Ticketkauf bzw. -reservierung angeben. \n 
URL:https://dev.our-events.de/event/daniela-ruocco-en-mi-imperio-perreo-sola/
LOCATION:Schwankhalle\, Buntentorsteinweg 112/116\, Bremen\, 28201
CATEGORIES:Performance,Theater
ATTACH;FMTTYPE=image/jpeg:https://dev.our-events.de/wp-content/uploads/2025/04/Daniela-Ruocco_En-mi-imperio-perreo-sola_c_.jpg
END:VEVENT
BEGIN:VEVENT
DTSTART;TZID=Europe/Berlin:20250530T210000
DTEND;TZID=Europe/Berlin:20250530T230000
DTSTAMP:20260426T003827
CREATED:20250507T125723Z
LAST-MODIFIED:20250507T125723Z
UID:38434-1748638800-1748646000@dev.our-events.de
SUMMARY:Halbzeitgiganten /  Martin Kremming & Band  Rock Cover\, Bremen im Meisenfrei
DESCRIPTION:Die Halbzeitgiganten interpretieren seit über zehn Jahren Songs anderer bekannter oder nicht so bekannter deutsch- und englischsprachiger Musiker. Dabei ist es der Band wichtig keine bloßen Coverversionen ihrer Lieblingslieder zu spielen\, sondern durch neue Arrangements und Ideen aus den Stücken noch ein kleines bisschen mehr herauszuholen. Das klappt auch ganz hervorragend und verleiht ihrer Musik eine ganz eigene Note. Auch wenn es die Herren eigentlich gerne „laut und krachend“ mögen\, sind doch umfangreiche Teile des Sets akustisch mit reduziertem Besteck angelegt\, so dass sie mal rockig und mal akustisch zu erleben sind. Ach ja: sein Handwerk versteht das Quartett selbstverständlich ebenfalls\, haben wir es doch mit durch und durch versierten Musikern zu tun\, die wir immer wieder gerne hören. Apropos: Der Konzertabend wird von einer Formation mit dem deskriptiven Namen „Martin Kremming & Band“ eröffnet. Außer dem Namensgeber und dem Bassisten Steffen Engler-Schmidt\, die beide auch bei den Halbzeitgiganten tätig sind\, finden sich hier der Drummer Michael Löscher und an der Gitarre Henning Sauer ein – eine Art Meisenfrei Allstars-Band\, wenn man so will. Dazu wird noch die wunderbare Sängerin Tine Seelig als zweite Stimme auftreten. Genauso sollte das Wochenende beginnen!  \nCopyright Text & Bild: Meisenfrei
URL:https://dev.our-events.de/event/halbzeitgiganten-martin-kremming-band-rock-cover-bremen-im-meisenfrei/
LOCATION:Meisenfrei\, Hankenstraße 18\, Bremen\, 28195
CATEGORIES:Konzert
ATTACH;FMTTYPE=image/jpeg:https://dev.our-events.de/wp-content/uploads/2025/05/2025-05-30-MartinKremmingBand.jpg
END:VEVENT
END:VCALENDAR