BEGIN:VCALENDAR
VERSION:2.0
PRODID:-//Our Events - ECPv6.15.20//NONSGML v1.0//EN
CALSCALE:GREGORIAN
METHOD:PUBLISH
X-WR-CALNAME:Our Events
X-ORIGINAL-URL:https://dev.our-events.de
X-WR-CALDESC:Veranstaltungen für Our Events
REFRESH-INTERVAL;VALUE=DURATION:PT1H
X-Robots-Tag:noindex
X-PUBLISHED-TTL:PT1H
BEGIN:VTIMEZONE
TZID:Europe/Berlin
BEGIN:DAYLIGHT
TZOFFSETFROM:+0100
TZOFFSETTO:+0200
TZNAME:CEST
DTSTART:20240331T010000
END:DAYLIGHT
BEGIN:STANDARD
TZOFFSETFROM:+0200
TZOFFSETTO:+0100
TZNAME:CET
DTSTART:20241027T010000
END:STANDARD
BEGIN:DAYLIGHT
TZOFFSETFROM:+0100
TZOFFSETTO:+0200
TZNAME:CEST
DTSTART:20250330T010000
END:DAYLIGHT
BEGIN:STANDARD
TZOFFSETFROM:+0200
TZOFFSETTO:+0100
TZNAME:CET
DTSTART:20251026T010000
END:STANDARD
BEGIN:DAYLIGHT
TZOFFSETFROM:+0100
TZOFFSETTO:+0200
TZNAME:CEST
DTSTART:20260329T010000
END:DAYLIGHT
BEGIN:STANDARD
TZOFFSETFROM:+0200
TZOFFSETTO:+0100
TZNAME:CET
DTSTART:20261025T010000
END:STANDARD
END:VTIMEZONE
BEGIN:VEVENT
DTSTART;TZID=Europe/Berlin:20250301T110000
DTEND;TZID=Europe/Berlin:20250301T160000
DTSTAMP:20260426T020846
CREATED:20250228T160841Z
LAST-MODIFIED:20250823T065010Z
UID:35915-1740826800-1740844800@dev.our-events.de
SUMMARY:Eintrittskarten Vegesacker Geschichtenhaus - Gültig zu den Öffnungszeiten
DESCRIPTION:Das Vegesacker Geschichtenhaus macht die Stadtgeschichte von Bremen-Nord lebendig. In kleinen Theaterszenen entführen unsere Darsteller Sie in das Vegesack des 19. Jahrhunderts.  \nBesuchen Sie uns auf der legendären Lange-Werft\, sprechen Sie mit den Handwerkern über die Arbeit in dieser Zeit oder trinken Sie auf ein langes Leben in der Hafenschänke und vor allem: Lassen Sie sich nicht erwischen\, wenn der Hafenmeister wieder seine Runde macht! \nGeöffnet haben wir immer mittwochs bis samstags zwischen 11 und 16 Uhr (letzter Einlass um 15 Uhr). Für Schulklassen öffnen wir auf Anfrage gerne auch früher. \nEine Spielführung dauert zur Zeit 30 – 45 Minuten. Zum Abschluss haben Sie die Möglichkeit bei Kaffee und süßem “Havenfutter” im GalerieCafe oder auf der Dachterrasse zu verweilen. \nFotos: Matthias Sabelhaus \nBitte aktiviere JavaScript in deinem Browser\, um dieses Formular fertigzustellen.Bitte aktiviere JavaScript in deinem Browser\, um dieses Formular fertigzustellen.Bitte die Anzahl zu reservierender Karten auswählenIch bin *KulturgastKulturbegleiter:inAnrede Interessent:in *FrauHerrDiversVorname  *Name *Straße & Hausnummer *Postleitzahl  *Ort *Telefon Nr. der Interessent:in *E-Mail  *Ich benötige Unterstützung für den Besuch der Veranstaltung *janeinWelche Form der Unterstützung  benötigen Sie?Ich möchte den Programm Newsletter der Kulturtafel abonnieren. Das kann ich jederzeit rückgängig machen.janeinDSGVO Einverständnis *Ich willige ein\, dass diese Website meine übermittelten Informationen speichert\, sodass meine Anfrage beantwortet werden kann.Angaben bestätigen  \n 
URL:https://dev.our-events.de/event/eintrittskarten-fuer-das-vegesacker-geschichtenhaus-2/
LOCATION:Vegesacker Geschichtenhaus\, Zum Alten Speicher 5a\, Bremen\, 28759
CATEGORIES:Museum,Theater
ATTACH;FMTTYPE=image/png:https://dev.our-events.de/wp-content/uploads/2025/02/geschichtenhaus.png
END:VEVENT
BEGIN:VEVENT
DTSTART;TZID=Europe/Berlin:20250531T200000
DTEND;TZID=Europe/Berlin:20250531T210000
DTSTAMP:20260426T020846
CREATED:20250416T093338Z
LAST-MODIFIED:20250416T093338Z
UID:37701-1748721600-1748725200@dev.our-events.de
SUMMARY:Daniela Ruocco: En mi imperio perreo sola in der Schwankhalle
DESCRIPTION:Performance \nIm Rahmen von SOLO – Festival für künstlerische Alleingänge \nÜber die Veranstaltung:\n\nDaniela Ruoccos Performance taucht in die Welt des Reggaeton ein und denkt über die Aneignung dieser Kunstform und feministische Debatten um sie herum nach. Was als exklusive Platten­taufe der Kunstfigur Consuela del Valle Grande beginnt\, kippt Stück um Stück in eine surreale Lecture-Performance und mündet in eine konzert­artige Messe. Ermächtigt durch die Worte feministischer Latinx Dichter*innen wirft die »Tröstende des großen Tals« sich mit ihrer ganzen Wucht auf die Bühne des Theaters. Erschaffen werden glamouröse\, ungeahnte Vorbilder\, die sich wie Panini-Bilder in ein feministisches Reggaeton-Sammel­heft einkleben lassen. \nDaniela Ruocco wuchs in Deutschland\, Uruguay und Italien auf. Als Schauspielerin\, Performerin\, Künstlerische Leiterin arbeitet Daniela mehrsprachig und disziplinen­übergreifend in diversen Konstellationen. Danielas Haupt­interesse gilt performativen Formaten und prozess­orientierten Arbeitsweisen\, wobei autonome Arbeits­strukturen essenziell sind. \ndanielaruocco.chInstagram @lapoderosa ↗helium x ↗ \nInformationen zur Barrierefreiheit:\nPerformance ist in deutscher und spanischer Lautprache. \nDauer: 60 Minuten ohne Pause. \nEs kommt laute Musik vor. \nAlle öffentlichen Bereiche der Schwankhalle sind ebenerdig und stufenlos erreichbar. \nEs gibt drei verschiedene WCs: Eine barierrefreie Toilette\, die auch für Rollstuhl-­Fahrer*innen nutzbar ist\, eine Toilette mit 3 WC-­Kabinen und eine Toilette mit Pissoirs und einer WC-Kabine. \nDer Publikumsbereich ist in der Regel bestuhlt. \nDie Rollstuhlplätze befinden sich in der ersten Reihe und können im Vorfeld telefonisch unter 0421 520 80 70\, per Email unter ticket@schwankhalle.de oder per Eingabe im Ticketshop reserviert werden. \nIndividuelle Bedarfe wie bestimmte Sitzplätze\, Early Boarding oder ein zusätzliches Ticket für eine Begleitperson können Sie ebenfalls beim Ticketkauf bzw. -reservierung angeben. \n 
URL:https://dev.our-events.de/event/daniela-ruocco-en-mi-imperio-perreo-sola-in-der-schwankhalle/
LOCATION:Schwankhalle\, Buntentorsteinweg 112/116\, Bremen\, 28201
CATEGORIES:Performance,Theater
ATTACH;FMTTYPE=image/jpeg:https://dev.our-events.de/wp-content/uploads/2025/04/Daniela-Ruocco_En-mi-imperio-perreo-sola_c_.jpg
END:VEVENT
BEGIN:VEVENT
DTSTART;TZID=Europe/Berlin:20250531T200000
DTEND;TZID=Europe/Berlin:20250531T220000
DTSTAMP:20260426T020846
CREATED:20250507T151314Z
LAST-MODIFIED:20250507T151314Z
UID:38508-1748721600-1748728800@dev.our-events.de
SUMMARY:High Quality - Improtheater im Lagerhaus
DESCRIPTION:Bereit für Fatma Express\, das Improtheater\, das dir all deine Bilder im Kopf verdrehen wird? Kurd*innen (die gendern eher als die Türken)\, Türken (aber wirklich richtig Echte) und Russen (eingetragene Friedensfreunde) laden kostenlos zur Impro-Show ein! Eine High Quality Show\, bei der der politische Korrektheitsfilter ausgeschaltet bleibt – aber stets auf Augenhöhe. Frech\, unkonventionell und mit einer gehörigen Portion Respekt nehmen sie Klischees in die Hand\, klauben sich den Humor aus dem Alltag und rocken die Bühne mit scharfzüngiger Improeinlage\, die alle Grenzen des Vorurteils spielerisch verschwimmen lassen. \nIm Saal \nCopyright Text & Bild: Lagerhaus
URL:https://dev.our-events.de/event/high-quality-improtheater-im-lagerhaus/
LOCATION:Kulturzentrum Lagerhaus\, Schildstraße 12-19\, Bremen\, 28203
CATEGORIES:Theater
END:VEVENT
END:VCALENDAR