BEGIN:VCALENDAR
VERSION:2.0
PRODID:-//Our Events - ECPv6.15.20//NONSGML v1.0//EN
CALSCALE:GREGORIAN
METHOD:PUBLISH
X-WR-CALNAME:Our Events
X-ORIGINAL-URL:https://dev.our-events.de
X-WR-CALDESC:Veranstaltungen für Our Events
REFRESH-INTERVAL;VALUE=DURATION:PT1H
X-Robots-Tag:noindex
X-PUBLISHED-TTL:PT1H
BEGIN:VTIMEZONE
TZID:Europe/Berlin
BEGIN:DAYLIGHT
TZOFFSETFROM:+0100
TZOFFSETTO:+0200
TZNAME:CEST
DTSTART:20240331T010000
END:DAYLIGHT
BEGIN:STANDARD
TZOFFSETFROM:+0200
TZOFFSETTO:+0100
TZNAME:CET
DTSTART:20241027T010000
END:STANDARD
BEGIN:DAYLIGHT
TZOFFSETFROM:+0100
TZOFFSETTO:+0200
TZNAME:CEST
DTSTART:20250330T010000
END:DAYLIGHT
BEGIN:STANDARD
TZOFFSETFROM:+0200
TZOFFSETTO:+0100
TZNAME:CET
DTSTART:20251026T010000
END:STANDARD
BEGIN:DAYLIGHT
TZOFFSETFROM:+0100
TZOFFSETTO:+0200
TZNAME:CEST
DTSTART:20260329T010000
END:DAYLIGHT
BEGIN:STANDARD
TZOFFSETFROM:+0200
TZOFFSETTO:+0100
TZNAME:CET
DTSTART:20261025T010000
END:STANDARD
END:VTIMEZONE
BEGIN:VEVENT
DTSTART;TZID=Europe/Berlin:20250618T180000
DTEND;TZID=Europe/Berlin:20250618T193000
DTSTAMP:20260426T051414
CREATED:20250618T154720Z
LAST-MODIFIED:20250617T111824Z
UID:39331-1750269600-1750275000@dev.our-events.de
SUMMARY:Vortrag: Lebensräume für Insekten schaffen -NABU Bremen
DESCRIPTION:Lasst Euch von der Biologin Sandra Bischoff in die faszinierende Welt der Sechsbeiner mitnehmen. Wie kann man mit der richtigen Struktur- und Pflanzenvielfalt Wohnraum (Sand\, Holz\, Lehm und Wasser) und Nahrung (Stauden\, Gehölze\, Blumenwiese etc.) bereitstellen und welche Arten können wir dann beobachten? Anhand von ansprechenden Fotos werden die verschiedenen Lebensräume für Insekten im Garten und im urbanen Raum vorgestellt. Der Vortrag richtet sich an Interessierte mit und ohne Garten. Im Anschluss gibt es Zeit für Fragen. \nCopyright Text & Bild: NABU
URL:https://dev.our-events.de/event/vortrag-lebensraeume-fuer-insekten-schaffen-nabu-bremen/
LOCATION:Botanica\, Mitten im Bremer Rhododendron-Park\, Deliusweg 40\, Bremen\, 28359
CATEGORIES:Vorträge
ATTACH;FMTTYPE=image/jpeg:https://dev.our-events.de/wp-content/uploads/2024/01/NABU_Logo_RGB_bremen.jpeg
END:VEVENT
BEGIN:VEVENT
DTSTART;TZID=Europe/Berlin:20250618T190000
DTEND;TZID=Europe/Berlin:20250618T220000
DTSTAMP:20260426T051414
CREATED:20250514T132906Z
LAST-MODIFIED:20250514T132906Z
UID:38669-1750273200-1750284000@dev.our-events.de
SUMMARY:DragonForce - Warp Speed Warriors – Tour 2025 im Modernes
DESCRIPTION:Erwartet ein elektrisierendes Spektakel aus Geschwindigkeit\, Power\, Shredding und epischen Melodien. Verpasst nicht eure letzte Chance\, den Wahnsinn zu erleben!“ – Herman Li \nDie legendäre Band\, bestehend aus den Gitarrenvirtuosen und Gründungsmitgliedern Herman Li und Sam Totman\, dem Sänger Marc Hudson\, der Bassistin Alicia Vigil und dem Schlagzeuger Gee Anzalone\, veröffentlichte letztes Jahr Warp Speed Warriors und tourt seitdem rund um den Globus\, unter anderem auf Festivals wie Wacken und dem Knotfest Brazil. Letztes Jahr veröffentlichte die Band auch ihre neueste Single „A Draco Tale“ in Zusammenarbeit mit dem erfolgreichen Handyspiel Brawl Stars und stellte den Song live bei der SuperFestworld Meisterschaft in Helsinki vor. Der weltweite Livestream erreichte einen Spitzenwert von 1 Million Zuschauern. \nDie legendäre Band\, bestehend aus den Gitarrenvirtuosen und Gründungsmitgliedern Herman Li und Sam Totman\, dem Sänger Marc Hudson\, der Bassistin Alicia Vigil und dem Schlagzeuger Gee Anzalone\, veröffentlichte im vergangenen Jahr Warp Speed Warriors und tourt seitdem rund um den Globus\, unter anderem auf Festivals wie Wacken und dem Knotfest Brazil. \nCopyright Text & Bild
URL:https://dev.our-events.de/event/dragonforce-warp-speed-warriors-tour-2025-im-modernes/
LOCATION:Modernes\, Neustadtswall 28\, Bremen\, 28199
CATEGORIES:Musik
ATTACH;FMTTYPE=image/webp:https://dev.our-events.de/wp-content/uploads/2025/05/credits-Dragonforce.webp
END:VEVENT
BEGIN:VEVENT
DTSTART;TZID=Europe/Berlin:20250618T193000
DTEND;TZID=Europe/Berlin:20250618T220000
DTSTAMP:20260426T051414
CREATED:20250515T112835Z
LAST-MODIFIED:20250515T112835Z
UID:38717-1750275000-1750284000@dev.our-events.de
SUMMARY:ELISABETH – DAS MUSICAL - im Metropoltheater
DESCRIPTION:DIE ERFOLGSGESCHICHTE GEHT WEITER: AB DEZEMBER 2024 ERSTMALS AUF GASTSPIELSERIE! \nELISABETH – Das Musical von Michael Kunze und Sylvester Levay hat sich seit seiner Uraufführung 1992 in Wien zum beliebtesten und weltweit erfolgreichsten deutschsprachigen Musical entwickelt: Die dramatische und berührende Geschichte über Leben\, Wirken und Leiden der österreichischen Kaiserin sorgte bislang bei über zwölf Millionen Zuschauern in 14 Ländern für Jubel und Begeisterung! \nIn den letzten Jahren verzauberte die neue spektakuläre Wiener Open-Air Inszenierung von ELISABETH im Ehrenhof von Schloss Schönbrunn über 100.000 Besucher*innen. Nun ist diese Version erstmals als große Theater-Fassung auf ausgewählten Bühnen in Deutschland zu bewundern. \nDas Publikum wird bei dieser mitreißenden halbszenischen Aufführung des Welterfolgs der Vereinigten Bühnen Wien in eine Welt voller Emotionen\, aber auch der Intrigen und Leidenschaft entführt. Das große Orchester ist dabei erstmalig mitten auf der Bühne platziert und sorgt im Zusammenspiel mit den starbesetzten Hauptrollen – natürlich in Originalkostümen – für einen noch stärkeren Fokus auf die Darsteller\, ihre wunderschönen Songs und die bewegenden Schicksale ihrer Figuren. \nDie gefeierte Inszenierung des bekannten Regisseurs Gil Mehmert verspricht ein besonderes Erlebnis für alle Musical-Liebhaber. Auch die beiden Autoren waren von der Idee dieser neuen Umsetzung ihres Werkes begeistert: „Wir freuen uns wirklich sehr\, dass die Schönbrunn-Version unseres Stücks nun endlich auch in Deutschland zu sehen sein wird. Das Team hat eine wirklich berührende und intensive Theater-Fassung geschaffen\, die es sich zu sehen lohnt\,“ sind Michael Kunze und Sylvester Levay überzeugt. \nMit ihrer kraftvollen Musik\, den opulenten Kostümen und mitreißenden Choreografien wird die fesselnde Geschichte der Kaiserin Elisabeth von Österreich in dieser aufregenden Umsetzung noch einmal neu und authentisch erlebbar! \nDER SISI-MYTHOS ALS VIELSCHICHTIGES MUSICALERLEBNIS\nDas Schicksal der bildhübschen Kaiserin Elisabeth von Österreich\, besser bekannt als Sisi\, hat ganze Generationen berührt und zugleich fasziniert. Bis heute ist ihr Mythos weit über die Grenzen Europas hinaus lebendig. Michael Kunze und Sylvester Levay haben aus ihrer außergewöhnlichen Lebensgeschichte ein vielschichtiges und emotionales Musicalerlebnis gemacht\, welches Sisis Motive zu ergründen sucht und ihren Weg bis zu ihrer Ermordung durch den italienischen Anarchisten Luigi Lucheni am Genfer See 1898 nacherzählt. \nBeide bedienten sich dafür zahlreicher historischer Vorlagen und Quellen. Herausgekommen ist ein mitreißendes Stück über Ruhm und Macht\, Liebe und Verlust\, um Schönheit\, Eifersucht und Mord. Weg vom rührseligen Charme der alten Filme\, dafür lebensecht\, faszinierend und ein wenig düster. Aber auch beizeiten grotesk und witzig\, sentimental und zart. \nDie Bandbreite an Emotionen spiegelt sich auch in der Musik von Sylvester Levay: Ob Gänsehaut-Balladen wie „Ich gehör´ nur mir“ oder schnelle\, rockige Nummern wie „So wie man denkt…“ – die eingängigen Melodien lassen den Zuschauer einfach nicht mehr los. \nEINE JUNGE STARKE FRAU IN DEN ZWÄNGEN IHRER ZEIT\nElisabeths Leben beginnt\, wie im Märchen: Als strahlend-schöne junge Frau besteigt sie mit nur 16 Jahren den österreichischen Thron. Statt ihre Schwester Helene\, die dafür ausersehen war\, erwählt Kaiser Franz Joseph sie zur Frau. Ihrer Lebensfreude\, Unbeschwertheit und Jugendlichkeit kann er nicht widerstehen. Doch schon bald nach der feierlichen Hochzeit ziehen erste Schatten auf: Die junge starke Frau strebt mit für ihre Zeit ungewöhnlicher Selbstständigkeit nach Verwirklichung und Unabhängigkeit. Die Zwänge des Hofes setzen Elisabeth jedoch enge Grenzen. Sie leidet immer mehr darunter\, fühlt sich eingesperrt im sprichwörtlichen goldenen Käfig. \nKaum noch hält es sie in Wien\, ihre innere Zerrissenheit treibt sie von Ort zu Ort. Rastlos reist sie durch Europa\, für niemanden erreichbar\, weder für ihren Sohn noch ihren Mann. Sie verliert sich in ihrer eigenen Welt\, stets begleitet von einer mysteriösen Macht – dem Tod. Gescheiterte Träume und ein Leben in Fesseln: Mehr und mehr schlägt ihre Melancholie in Todessehnsucht um. Und so erscheint im Musical der „Tod“ in Gestalt eines verführerischen jungen Mannes\, der sich Elisabeth in ihrer wachsenden Verzweiflung immer als Geliebter anbietet.\nNach dem Selbstmord ihres Sohnes Rudolf erkennt Elisabeth ihr verfehltes Leben und verliert nun vollständig ihren Lebensmut. Sie zieht sich nach Korfu zurück\, dichtet\, schreibt Tagebuch\, während in Wien Nationalismus und Völkerhass mehr und mehr die Oberhand gewinnen. Kaiser Franz Joseph kann diese Kräfte nicht mehr steuern und steht auch seinem Nebenbuhler\, dem allgewaltigen Tod\, hilflos gegenüber. \nDas Attentat durch Luigi Lucheni am Ufer des Genfer Sees führt die „Liebenden“ zusammen. Elisabeths Kämpfen und Sehnen endet in einer leidenschaftlichen Umarmung mit dem Tod.\nEine Epoche versinkt\, eine neue Zeit beginnt. \nCopyright Text & Bild: Semmel Concert \n 
URL:https://dev.our-events.de/event/elisabeth-das-musical-im-metropoltheater-2/
LOCATION:Metropoltheater\, Richtweg 7\, Bremen\, 28195
CATEGORIES:Musical,Musical,Musik,Unterhaltung
ATTACH;FMTTYPE=image/jpeg:https://dev.our-events.de/wp-content/uploads/2025/05/Elisabeth_24_600x850.jpg
END:VEVENT
BEGIN:VEVENT
DTSTART;TZID=Europe/Berlin:20250618T200000
DTEND;TZID=Europe/Berlin:20250618T220000
DTSTAMP:20260426T051414
CREATED:20250603T152929Z
LAST-MODIFIED:20250603T153146Z
UID:39171-1750276800-1750284000@dev.our-events.de
SUMMARY:Penny Krawatte  Deutsch Rock\, Achim im Meisenfrei
DESCRIPTION:Diese Band hat sich nach einem misslungenen Autokorrektur-Vorschlag benannt. Wer kennt das nicht? Keineswegs korrekturbedürftig ist die Musik der Truppe. Geboten wird Deutschrock mit Alternativ-Elementen\, der durch die Stimme der Frontfrau eine ganz besondere Note bekommt. Doch auch den Instrumentalisten hört man an\, dass sie nicht erst seit gestern im Geschäft sind. Hier kann man Musik genießen\, bei der sich das genaue Zuhören auf alle Fälle lohnt. \nCopyright Text & Bild: Meisenfrei
URL:https://dev.our-events.de/event/penny-krawatte-deutsch-rock-achim-im-meisenfrei-2/
LOCATION:Meisenfrei\, Hankenstraße 18\, Bremen\, 28195
CATEGORIES:Konzert
ATTACH;FMTTYPE=image/jpeg:https://dev.our-events.de/wp-content/uploads/2025/06/2025-06-18-PennyKrawatte.jpg
END:VEVENT
END:VCALENDAR