BEGIN:VCALENDAR
VERSION:2.0
PRODID:-//Our Events - ECPv6.15.20//NONSGML v1.0//EN
CALSCALE:GREGORIAN
METHOD:PUBLISH
X-WR-CALNAME:Our Events
X-ORIGINAL-URL:https://dev.our-events.de
X-WR-CALDESC:Veranstaltungen für Our Events
REFRESH-INTERVAL;VALUE=DURATION:PT1H
X-Robots-Tag:noindex
X-PUBLISHED-TTL:PT1H
BEGIN:VTIMEZONE
TZID:Europe/Berlin
BEGIN:DAYLIGHT
TZOFFSETFROM:+0100
TZOFFSETTO:+0200
TZNAME:CEST
DTSTART:20240331T010000
END:DAYLIGHT
BEGIN:STANDARD
TZOFFSETFROM:+0200
TZOFFSETTO:+0100
TZNAME:CET
DTSTART:20241027T010000
END:STANDARD
BEGIN:DAYLIGHT
TZOFFSETFROM:+0100
TZOFFSETTO:+0200
TZNAME:CEST
DTSTART:20250330T010000
END:DAYLIGHT
BEGIN:STANDARD
TZOFFSETFROM:+0200
TZOFFSETTO:+0100
TZNAME:CET
DTSTART:20251026T010000
END:STANDARD
BEGIN:DAYLIGHT
TZOFFSETFROM:+0100
TZOFFSETTO:+0200
TZNAME:CEST
DTSTART:20260329T010000
END:DAYLIGHT
BEGIN:STANDARD
TZOFFSETFROM:+0200
TZOFFSETTO:+0100
TZNAME:CET
DTSTART:20261025T010000
END:STANDARD
END:VTIMEZONE
BEGIN:VEVENT
DTSTART;TZID=Europe/Berlin:20250619T163000
DTEND;TZID=Europe/Berlin:20250619T180000
DTSTAMP:20260426T034216
CREATED:20250406T193344Z
LAST-MODIFIED:20250409T080818Z
UID:37398-1750350600-1750356000@dev.our-events.de
SUMMARY:Reisebericht: Abenteuer Alaska
DESCRIPTION:Horst Wehrse nimmt uns mit zu einem der letzten Paradiese der Erde – Alaska. Dort erwartete ihn ungezähmte Wildnis\, spektakuläre Tierbegegnungen\, kalbende Gletscher und grandiose Natur.
URL:https://dev.our-events.de/event/reisebericht-abenteuer-alaska/
LOCATION:Haus der Zukunft – Kulur-Cafe\, Lüssumer Heide 6\, Bremen\, 28777
CATEGORIES:Fotografie,Menschen treffen
ATTACH;FMTTYPE=image/jpeg:https://dev.our-events.de/wp-content/uploads/2025/04/P1220165.jpg
ORGANIZER;CN="Kultur-Caf%C3%A9":MAILTO:haus-der-zukunft-kultur-cafe@gmx.de
END:VEVENT
BEGIN:VEVENT
DTSTART;TZID=Europe/Berlin:20250619T193000
DTEND;TZID=Europe/Berlin:20250619T220000
DTSTAMP:20260426T034216
CREATED:20250515T113117Z
LAST-MODIFIED:20250515T154524Z
UID:38723-1750361400-1750370400@dev.our-events.de
SUMMARY:ELISABETH – DAS MUSICAL - im Metropoltheater
DESCRIPTION:DIE ERFOLGSGESCHICHTE GEHT WEITER: AB DEZEMBER 2024 ERSTMALS AUF GASTSPIELSERIE! \nELISABETH – Das Musical von Michael Kunze und Sylvester Levay hat sich seit seiner Uraufführung 1992 in Wien zum beliebtesten und weltweit erfolgreichsten deutschsprachigen Musical entwickelt: Die dramatische und berührende Geschichte über Leben\, Wirken und Leiden der österreichischen Kaiserin sorgte bislang bei über zwölf Millionen Zuschauern in 14 Ländern für Jubel und Begeisterung! \nIn den letzten Jahren verzauberte die neue spektakuläre Wiener Open-Air Inszenierung von ELISABETH im Ehrenhof von Schloss Schönbrunn über 100.000 Besucher*innen. Nun ist diese Version erstmals als große Theater-Fassung auf ausgewählten Bühnen in Deutschland zu bewundern. \nDas Publikum wird bei dieser mitreißenden halbszenischen Aufführung des Welterfolgs der Vereinigten Bühnen Wien in eine Welt voller Emotionen\, aber auch der Intrigen und Leidenschaft entführt. Das große Orchester ist dabei erstmalig mitten auf der Bühne platziert und sorgt im Zusammenspiel mit den starbesetzten Hauptrollen – natürlich in Originalkostümen – für einen noch stärkeren Fokus auf die Darsteller\, ihre wunderschönen Songs und die bewegenden Schicksale ihrer Figuren. \nDie gefeierte Inszenierung des bekannten Regisseurs Gil Mehmert verspricht ein besonderes Erlebnis für alle Musical-Liebhaber. Auch die beiden Autoren waren von der Idee dieser neuen Umsetzung ihres Werkes begeistert: „Wir freuen uns wirklich sehr\, dass die Schönbrunn-Version unseres Stücks nun endlich auch in Deutschland zu sehen sein wird. Das Team hat eine wirklich berührende und intensive Theater-Fassung geschaffen\, die es sich zu sehen lohnt\,“ sind Michael Kunze und Sylvester Levay überzeugt. \nMit ihrer kraftvollen Musik\, den opulenten Kostümen und mitreißenden Choreografien wird die fesselnde Geschichte der Kaiserin Elisabeth von Österreich in dieser aufregenden Umsetzung noch einmal neu und authentisch erlebbar! \nDER SISI-MYTHOS ALS VIELSCHICHTIGES MUSICALERLEBNIS\nDas Schicksal der bildhübschen Kaiserin Elisabeth von Österreich\, besser bekannt als Sisi\, hat ganze Generationen berührt und zugleich fasziniert. Bis heute ist ihr Mythos weit über die Grenzen Europas hinaus lebendig. Michael Kunze und Sylvester Levay haben aus ihrer außergewöhnlichen Lebensgeschichte ein vielschichtiges und emotionales Musicalerlebnis gemacht\, welches Sisis Motive zu ergründen sucht und ihren Weg bis zu ihrer Ermordung durch den italienischen Anarchisten Luigi Lucheni am Genfer See 1898 nacherzählt. \nBeide bedienten sich dafür zahlreicher historischer Vorlagen und Quellen. Herausgekommen ist ein mitreißendes Stück über Ruhm und Macht\, Liebe und Verlust\, um Schönheit\, Eifersucht und Mord. Weg vom rührseligen Charme der alten Filme\, dafür lebensecht\, faszinierend und ein wenig düster. Aber auch beizeiten grotesk und witzig\, sentimental und zart. \nDie Bandbreite an Emotionen spiegelt sich auch in der Musik von Sylvester Levay: Ob Gänsehaut-Balladen wie „Ich gehör´ nur mir“ oder schnelle\, rockige Nummern wie „So wie man denkt…“ – die eingängigen Melodien lassen den Zuschauer einfach nicht mehr los. \nEINE JUNGE STARKE FRAU IN DEN ZWÄNGEN IHRER ZEIT\nElisabeths Leben beginnt\, wie im Märchen: Als strahlend-schöne junge Frau besteigt sie mit nur 16 Jahren den österreichischen Thron. Statt ihre Schwester Helene\, die dafür ausersehen war\, erwählt Kaiser Franz Joseph sie zur Frau. Ihrer Lebensfreude\, Unbeschwertheit und Jugendlichkeit kann er nicht widerstehen. Doch schon bald nach der feierlichen Hochzeit ziehen erste Schatten auf: Die junge starke Frau strebt mit für ihre Zeit ungewöhnlicher Selbstständigkeit nach Verwirklichung und Unabhängigkeit. Die Zwänge des Hofes setzen Elisabeth jedoch enge Grenzen. Sie leidet immer mehr darunter\, fühlt sich eingesperrt im sprichwörtlichen goldenen Käfig. \nKaum noch hält es sie in Wien\, ihre innere Zerrissenheit treibt sie von Ort zu Ort. Rastlos reist sie durch Europa\, für niemanden erreichbar\, weder für ihren Sohn noch ihren Mann. Sie verliert sich in ihrer eigenen Welt\, stets begleitet von einer mysteriösen Macht – dem Tod. Gescheiterte Träume und ein Leben in Fesseln: Mehr und mehr schlägt ihre Melancholie in Todessehnsucht um. Und so erscheint im Musical der „Tod“ in Gestalt eines verführerischen jungen Mannes\, der sich Elisabeth in ihrer wachsenden Verzweiflung immer als Geliebter anbietet.\nNach dem Selbstmord ihres Sohnes Rudolf erkennt Elisabeth ihr verfehltes Leben und verliert nun vollständig ihren Lebensmut. Sie zieht sich nach Korfu zurück\, dichtet\, schreibt Tagebuch\, während in Wien Nationalismus und Völkerhass mehr und mehr die Oberhand gewinnen. Kaiser Franz Joseph kann diese Kräfte nicht mehr steuern und steht auch seinem Nebenbuhler\, dem allgewaltigen Tod\, hilflos gegenüber. \nDas Attentat durch Luigi Lucheni am Ufer des Genfer Sees führt die „Liebenden“ zusammen. Elisabeths Kämpfen und Sehnen endet in einer leidenschaftlichen Umarmung mit dem Tod.\nEine Epoche versinkt\, eine neue Zeit beginnt. \nCopyright Text & Bild: Semmel Concert \n 
URL:https://dev.our-events.de/event/elisabeth-das-musical-im-metropoltheater-3/
LOCATION:Metropoltheater\, Richtweg 7\, Bremen\, 28195
CATEGORIES:Musical,Musical,Musik,Unterhaltung
ATTACH;FMTTYPE=image/jpeg:https://dev.our-events.de/wp-content/uploads/2025/05/Elisabeth_24_600x850.jpg
END:VEVENT
BEGIN:VEVENT
DTSTART;TZID=Europe/Berlin:20250619T200000
DTEND;TZID=Europe/Berlin:20250619T220000
DTSTAMP:20260426T034216
CREATED:20250603T153800Z
LAST-MODIFIED:20250603T153846Z
UID:39177-1750363200-1750370400@dev.our-events.de
SUMMARY:The Grey  Hard Rock\, Braunschweig in Bremen
DESCRIPTION:Unsere heutigen Protagonisten mischen die Musik von Black Sabbath\, Thin Lizzy\, Whitesnake oder Rainbow und fügen eine moderne\, aber dennoch klassische Hardrock-Attitüde bei. Das Ergebnis ist etwas Kräftiges zwischen vielen Polen\, aber dennoch mit klarer eigener musikalischer Linie. Dem Publikum wird ein breites Repertoire von harten Uptempo-Nummern bis hin zu melancholischen und ruhigeren Songs geboten. Die Jungs haben den Anspruch\, auch und gerade live zu überzeugen – und das hat bei ihrem letzten Besuch vortrefflich geklappt. Stellt euch daher auf ein (metaphorisch) ganz hartes Brett ein. \nCopyright Text & Bild: Meisenfrei
URL:https://dev.our-events.de/event/the-grey-hard-rock-braunschweig-in-bremen/
LOCATION:Meisenfrei\, Hankenstraße 18\, Bremen\, 28195
CATEGORIES:Konzert
ATTACH;FMTTYPE=image/jpeg:https://dev.our-events.de/wp-content/uploads/2025/06/2025-06-19-Grey.jpg
END:VEVENT
END:VCALENDAR