BEGIN:VCALENDAR
VERSION:2.0
PRODID:-//Our Events - ECPv6.15.20//NONSGML v1.0//EN
CALSCALE:GREGORIAN
METHOD:PUBLISH
X-WR-CALNAME:Our Events
X-ORIGINAL-URL:https://dev.our-events.de
X-WR-CALDESC:Veranstaltungen für Our Events
REFRESH-INTERVAL;VALUE=DURATION:PT1H
X-Robots-Tag:noindex
X-PUBLISHED-TTL:PT1H
BEGIN:VTIMEZONE
TZID:Europe/Berlin
BEGIN:DAYLIGHT
TZOFFSETFROM:+0100
TZOFFSETTO:+0200
TZNAME:CEST
DTSTART:20240331T010000
END:DAYLIGHT
BEGIN:STANDARD
TZOFFSETFROM:+0200
TZOFFSETTO:+0100
TZNAME:CET
DTSTART:20241027T010000
END:STANDARD
BEGIN:DAYLIGHT
TZOFFSETFROM:+0100
TZOFFSETTO:+0200
TZNAME:CEST
DTSTART:20250330T010000
END:DAYLIGHT
BEGIN:STANDARD
TZOFFSETFROM:+0200
TZOFFSETTO:+0100
TZNAME:CET
DTSTART:20251026T010000
END:STANDARD
BEGIN:DAYLIGHT
TZOFFSETFROM:+0100
TZOFFSETTO:+0200
TZNAME:CEST
DTSTART:20260329T010000
END:DAYLIGHT
BEGIN:STANDARD
TZOFFSETFROM:+0200
TZOFFSETTO:+0100
TZNAME:CET
DTSTART:20261025T010000
END:STANDARD
END:VTIMEZONE
BEGIN:VEVENT
DTSTART;TZID=Europe/Berlin:20250301T110000
DTEND;TZID=Europe/Berlin:20250301T160000
DTSTAMP:20260426T003710
CREATED:20250228T160841Z
LAST-MODIFIED:20250823T065010Z
UID:35915-1740826800-1740844800@dev.our-events.de
SUMMARY:Eintrittskarten Vegesacker Geschichtenhaus - Gültig zu den Öffnungszeiten
DESCRIPTION:Das Vegesacker Geschichtenhaus macht die Stadtgeschichte von Bremen-Nord lebendig. In kleinen Theaterszenen entführen unsere Darsteller Sie in das Vegesack des 19. Jahrhunderts.  \nBesuchen Sie uns auf der legendären Lange-Werft\, sprechen Sie mit den Handwerkern über die Arbeit in dieser Zeit oder trinken Sie auf ein langes Leben in der Hafenschänke und vor allem: Lassen Sie sich nicht erwischen\, wenn der Hafenmeister wieder seine Runde macht! \nGeöffnet haben wir immer mittwochs bis samstags zwischen 11 und 16 Uhr (letzter Einlass um 15 Uhr). Für Schulklassen öffnen wir auf Anfrage gerne auch früher. \nEine Spielführung dauert zur Zeit 30 – 45 Minuten. Zum Abschluss haben Sie die Möglichkeit bei Kaffee und süßem “Havenfutter” im GalerieCafe oder auf der Dachterrasse zu verweilen. \nFotos: Matthias Sabelhaus \nBitte aktiviere JavaScript in deinem Browser\, um dieses Formular fertigzustellen.Bitte aktiviere JavaScript in deinem Browser\, um dieses Formular fertigzustellen.Bitte die Anzahl zu reservierender Karten auswählenIch bin *KulturgastKulturbegleiter:inAnrede Interessent:in *FrauHerrDiversVorname  *Name *Straße & Hausnummer *Postleitzahl  *Ort *Telefon Nr. der Interessent:in *E-Mail  *Ich benötige Unterstützung für den Besuch der Veranstaltung *janeinWelche Form der Unterstützung  benötigen Sie?Ich möchte den Programm Newsletter der Kulturtafel abonnieren. Das kann ich jederzeit rückgängig machen.janeinDSGVO Einverständnis *Ich willige ein\, dass diese Website meine übermittelten Informationen speichert\, sodass meine Anfrage beantwortet werden kann.Angaben bestätigen  \n 
URL:https://dev.our-events.de/event/eintrittskarten-fuer-das-vegesacker-geschichtenhaus-2/
LOCATION:Vegesacker Geschichtenhaus\, Zum Alten Speicher 5a\, Bremen\, 28759
CATEGORIES:Museum,Theater
ATTACH;FMTTYPE=image/png:https://dev.our-events.de/wp-content/uploads/2025/02/geschichtenhaus.png
END:VEVENT
BEGIN:VEVENT
DTSTART;TZID=Europe/Berlin:20250621T133000
DTEND;TZID=Europe/Berlin:20250621T143000
DTSTAMP:20260426T003710
CREATED:20250603T163439Z
LAST-MODIFIED:20250603T163439Z
UID:39213-1750512600-1750516200@dev.our-events.de
SUMMARY:Die Sterne über Bremen im Olbers-Planetarium
DESCRIPTION:Entdecken Sie den Sternenhimmel über Bremen!\nWelche Sterne kann ich in den nächsten Nächten von Bremen aus sehen? Wie finde ich den Polarstern und damit die Nordrichtung? Welche Planeten stehen derzeit am Himmel? Was gibt es außer den Sternen noch am Nachthimmel zu beobachten? Wir zeigen\, was es alles am Himmel zu Entdecken gibt! \nEmpfehlung ab 8 Jahre. \nCopyright Text & Bild: Olbers-Planetarium
URL:https://dev.our-events.de/event/die-sterne-ueber-bremen-im-olbers-planetarium-2/
LOCATION:Olbers-Planetarium Bremen\, Werderstrasse 73\, Bremen\, 28199
CATEGORIES:Planetarium
ATTACH;FMTTYPE=image/png:https://dev.our-events.de/wp-content/uploads/2025/06/SterneHB-2.png
END:VEVENT
BEGIN:VEVENT
DTSTART;TZID=Europe/Berlin:20250621T160000
DTEND;TZID=Europe/Berlin:20250621T220000
DTSTAMP:20260426T003710
CREATED:20250519T141227Z
LAST-MODIFIED:20250519T141227Z
UID:38996-1750521600-1750543200@dev.our-events.de
SUMMARY:Open-Air-Kino - Ghost Busters & Hui Buh - am Bürgerhaus Obervieland
DESCRIPTION:Die „echten“ Ghostbusters kommen und am Nachmittag treibt Hui Buh sein Unwesen. Livemusik und Popcorn versüßen den Tag. Musikalisch begleitet von dem Duo Moon Fever. \nEintrittskarten können alle registrierten Teilnehmer der Kulturtafel Bremen auf Anfrage und bei Verfügbarkeit beziehen. Fragen zur Kulturtafel und wie man sich dort registrieren kann\, werden hier beantwortet. \nCopyright Text & Bild: BGO \n 
URL:https://dev.our-events.de/event/open-air-kino-ghost-busters-hui-buh-am-buergerhaus-obervieland/
LOCATION:Bürgerhaus Obervieland\, Alfred-Faust-Str. 4\, Bremen\, 28279
CATEGORIES:Film
ATTACH;FMTTYPE=image/jpeg:https://dev.our-events.de/wp-content/uploads/2025/05/nostalgie.jpg
END:VEVENT
BEGIN:VEVENT
DTSTART;TZID=Europe/Berlin:20250621T200000
DTEND;TZID=Europe/Berlin:20250621T213000
DTSTAMP:20260426T003710
CREATED:20250415T190039Z
LAST-MODIFIED:20250416T094516Z
UID:37665-1750536000-1750541400@dev.our-events.de
SUMMARY:She She Pop: Alles Mögliche - in der Schwankhalle
DESCRIPTION:Performance \nÜber die Veranstaltung:\n\nWenn in diesem Raum\, in dem wir uns gerade treffen\, eine Wunsch­maschine in Gang gesetzt würde. Wenn alles Mögliche\, also jede Idee und jede Vorstellung\, die wir hier ins Mikrofon sprechen\, im Laufe des Abends eingelöst würden; vielleicht nicht genau wie gedacht\, aber doch erkennbar – trotz aller Unzuläng­lichkeiten und Wider­sprüche. Wenn ab jetzt nichts mehr verloren ginge\, sobald es nur aus­gesprochen wurde. Wenn sich also dieser Ort\, unser Zusammen­sein\, unauf­hörlich verwandeln könnte – in eine Trauer­feier? eine Séance? ein Wahrheits­tribunal? – bis wir uns schließlich wieder­fänden im unberechen­baren Raum unserer schieren geteilten Vorstellungs­kraft. \nAlles Mögliche ist ein Happening auf einer leeren Theater­bühne. Es folgt zwei einfachen Regeln: Alle machen was sie wollen. Aber was auch immer hier passiert – es muss vorher öffentlich herauf­beschworen werden. Das entwaffnend einfache Rezept verbindet die Strenge und Transparenz der Konzept­kunst mit dem chaotischen Reichtum des Spektakels. Die Akteur*innen bereiten sich individuell vor. In spontanen Koopera­tionen und un­erwarteten Über­lagerungen entsteht ein skizzen­haftes utopisches Gesellschafts­bild. Welche Gesetze\, Grenzen und Möglich­keiten bestehen an diesem öffentlichen Ort\, an dem wir uns gerade versammeln? Welche anderen sind denkbar? Die Performance beginnt als Zeremonie und verwandelt sich allmählich in andere unvorherseh­bare Formate. \nAlles Mögliche ist ein Training der gemeinsamen Imagination\, der individuellen Initiative und der Kollaboration. Und eine Feier der einzig­artigen Gegenwart im Theater. \nÜber die Künstler*innen:\n\n\nShe She Pop sind ein in Berlin ansässiges feministisches Performance-Kollektiv\, das in den 1990er-Jahren aus dem Gießener Institut für Angewandte Theater­wissenschaft hervorging. Die Mitglieder verstehen sich als Autor*innen\, Dramaturg*innen und Ausführende ihrer Bühnen­handlung. Das Ein­beziehen der eigenen Auto­biografie ist dabei vor allem Methode\, nicht Zweck der Arbeit. She She Pop praktizieren eine Theaterform\, die dem Experiment verpflichtet ist. Sie nutzen die Bühne als Ort der akuten Öffent­lichkeit: Hier werden Entscheidungen getroffen\, Gesprächs­weisen und Gesellschafts­systeme ausprobiert\, Sprech-Gesten und soziale Rituale einstudiert oder verworfen. She She Pop sehen ihre Aufgabe in der Suche nach den gesellschaft­lichen Grenzen der Kommunikation – und in deren gezielter und kunst­voller Überschreitung im Schutzraum der Kunst. Das Theater wird zu einem Ort für utopische Kommunikation. Auch das Publikum erhält häufig eine besonder Funktion: Sämtliche Arbeiten von She She Pop sind auf ihre Weise Experimente oder Beweis­führungen\, die ohne Zeug*innen­schaft ungültig würden.sheshepop.de ↗ \nInfo zur Barrierefreiheit:\nAlle öffentlichen Bereiche der Schwankhalle sind ebenerdig und stufenlos erreichbar. \nEs gibt drei verschiedene WCs: Eine barierrefreie Toilette\, die auch für Rollstuhl-­Fahrer*innen nutzbar ist\, eine Toilette mit 3 WC-­Kabinen und eine Toilette mit Pissoirs und einer WC-Kabine. \nDer Publikumsbereich auf der Tribüne ist bestuhlt.Die Rollstuhlplätze befinden sich in der Regel in der ersten Reihe und können im Vorfeld telefonisch 0421 520 80 70\, per Email an ticket@schwankhalle.de oder per Eingabe im Ticketshop reserviert werden. \nIndividuelle Bedarfe wie bestimmte Sitzplätze\, Early Boarding oder ein zusätzliches Ticket für eine Begleitperson können Sie ebenfalls bei Ticketkauf bzw. -reservierung angeben. \nKinderbetreuung:\n\n\nDie Vorstellung am So 22.6. ist familien*freundlich mit kostenloser Kinderbetreuung für Kinder ab 3 Jahren. \nDie Betreuung findet im Foyer statt – Kinder können dort bei Bedarf jederzeit wieder abgeholt werden. \nEine Anmeldung zur Betreuung ist nicht erforderlich. Bitte kommen Sie mindestens 30 Minuten vor Veranstaltungsbeginn\, um ein entspanntes Ankommen zu ermöglichen. \n\n\n 
URL:https://dev.our-events.de/event/she-she-pop-alles-moegliche/
LOCATION:Schwankhalle\, Buntentorsteinweg 112/116\, Bremen\, 28201
CATEGORIES:Performance,Theater
ATTACH;FMTTYPE=image/jpeg:https://dev.our-events.de/wp-content/uploads/2025/04/She-She-Pop_Alles-Moegliche_c_She-She-Pop.jpg
END:VEVENT
BEGIN:VEVENT
DTSTART;TZID=Europe/Berlin:20250621T210000
DTEND;TZID=Europe/Berlin:20250621T230000
DTSTAMP:20260426T003710
CREATED:20250417T151314Z
LAST-MODIFIED:20250417T152756Z
UID:37853-1750539600-1750546800@dev.our-events.de
SUMMARY:Led Zep  Led Zeppelin Cover\, Bremerhaven im Meisenfrei
DESCRIPTION:Hier kommt das traditionell sommerliche Konzert von Led Zep. Heute treten bei uns Musiker aus Norddeutschland auf\, die aus Liebe zur großartigen Musik von Led Zeppelin eine Coverband gründeten – und dann im Laufe der Jahre aber auch sowas von verdammt gut in ihrem Metier werden\, dass man sie mit geschlossenen Augen beim besten Willen nicht mehr vom Original unterscheiden kann. Und während es doch eher zweifelhaft ist\, dass einem die englische Formation spontan über die Füße läuft\, könnt Ihr diesen formidablen Vierer tatsächlich und echt hier und heute live erleben. Und wenn wir schreiben “erleben” – dann meinen wir das auch so! \nCopyright Text & Bild: Meisenfrei
URL:https://dev.our-events.de/event/led-zep-led-zeppelin-cover-bremerhaven-im-meisenfrei/
LOCATION:Meisenfrei\, Hankenstraße 18\, Bremen\, 28195
CATEGORIES:Konzert,Rock / Pop / Jazz / Country
ATTACH;FMTTYPE=image/jpeg:https://dev.our-events.de/wp-content/uploads/2025/04/2025-06-21-LedZep.jpg
END:VEVENT
END:VCALENDAR