BEGIN:VCALENDAR
VERSION:2.0
PRODID:-//Our Events - ECPv6.15.20//NONSGML v1.0//EN
CALSCALE:GREGORIAN
METHOD:PUBLISH
X-WR-CALNAME:Our Events
X-ORIGINAL-URL:https://dev.our-events.de
X-WR-CALDESC:Veranstaltungen für Our Events
REFRESH-INTERVAL;VALUE=DURATION:PT1H
X-Robots-Tag:noindex
X-PUBLISHED-TTL:PT1H
BEGIN:VTIMEZONE
TZID:Europe/Berlin
BEGIN:DAYLIGHT
TZOFFSETFROM:+0100
TZOFFSETTO:+0200
TZNAME:CEST
DTSTART:20240331T010000
END:DAYLIGHT
BEGIN:STANDARD
TZOFFSETFROM:+0200
TZOFFSETTO:+0100
TZNAME:CET
DTSTART:20241027T010000
END:STANDARD
BEGIN:DAYLIGHT
TZOFFSETFROM:+0100
TZOFFSETTO:+0200
TZNAME:CEST
DTSTART:20250330T010000
END:DAYLIGHT
BEGIN:STANDARD
TZOFFSETFROM:+0200
TZOFFSETTO:+0100
TZNAME:CET
DTSTART:20251026T010000
END:STANDARD
BEGIN:DAYLIGHT
TZOFFSETFROM:+0100
TZOFFSETTO:+0200
TZNAME:CEST
DTSTART:20260329T010000
END:DAYLIGHT
BEGIN:STANDARD
TZOFFSETFROM:+0200
TZOFFSETTO:+0100
TZNAME:CET
DTSTART:20261025T010000
END:STANDARD
END:VTIMEZONE
BEGIN:VEVENT
DTSTART;TZID=Europe/Berlin:20250511T110000
DTEND;TZID=Europe/Berlin:20250511T170000
DTSTAMP:20260425T225056
CREATED:20250508T140851Z
LAST-MODIFIED:20250707T124929Z
UID:38536-1746961200-1746982800@dev.our-events.de
SUMMARY:Eintrittskarten Overbeck-Museum: IST MIR EINE EHRE - Die Lieblingsbilder unserer EhrenamtlichenAusstellung - Karten täglich gültig zu den Öffnungszeiten
DESCRIPTION:Die Karten sind  täglich zu den Öffnungszeiten gültig. Letzter Tag für eine Ticket-Reservierung ist der 23.10.2024. \n\n\n\nDas Overbeck-Museum ist seit seiner Gründung vor 35 Jahren ohne ehrenamtliches Engagement nicht denkbar. Von Beginn an hat sich ein großer Kreis Menschen ehrenamtlich eingebracht und damit den lebendigen Alltag und das stetige Wachstum des Museums überhaupt erst ermöglicht. Aktuell leisten rund 55 Personen ehrenamtlich Aufsichtsdienste am Wochenende\, weitere 10 engagieren sich ehrenamtlich in Gremien wie Vorstand und Aufsichtsrat. Dafür kann man gar nicht oft genug und laut genug DANKE sagen. \n\nEhrenamt geschieht meist im Verborgenen. Wir wollen es sichtbar machen und zeigen: Seht her – ohne diese vielen tollen Menschen ginge es nicht! Zum 35. Geburtstag des Overbeck-Museums bestimmen unsere Ehrenamtlichen\, welche Bilder gezeigt werden. \n\nLieblingsbilder\, nahezu Unbekanntes und besondere Schätze – wer schon so viele Stunden ehrenamtlich Aufsicht in den Ausstellungsräumen gemacht hat\, der hat zu manch einem Kunstwerk eine besondere Beziehung und kann etwas darüber erzählen. Deshalb sind den Kunstwerken kurze Texte unserer Ehrenamtlichen zur Seite gestellt\, die erzählen\, was dieses Werk für sie persönlich bedeutet. \n\n\nBitte aktiviere JavaScript in deinem Browser\, um dieses Formular fertigzustellen.Bitte aktiviere JavaScript in deinem Browser\, um dieses Formular fertigzustellen.Bitte das Datum der Veranstaltung angeben *Bitte die Anzahl der zu reservierenden Tickets auswählenIch bin *KulturgastKulturbegleiter:inAnrede Interessent:in *FrauHerrDiversVorname  *Name *E-Mail  *Ich benötige Unterstützung für den Besuch der Veranstaltung *janeinIch möchte den Programm Newsletter der Kulturtafel abonnieren. Das kann ich jederzeit rückgängig machen.janeinDSGVO Einverständnis *Ich willige ein\, dass diese Website meine übermittelten Informationen speichert\, sodass meine Anfrage beantwortet werden kann.Angaben bestätigen
URL:https://dev.our-events.de/event/eintrittskarten-overbeck-museum-ist-mir-eine-ehre-die-lieblingsbilder-unserer-ehrenamtlichenausstellung-karten-taeglich-gueltig-zu-den-oeffnungszeiten/
LOCATION:Overbeck Museum\, Alte Hafenstraße 30\, Bremen\, Bremen\, 28757\, Deutschland
CATEGORIES:Ausstellung,Grohn
ATTACH;FMTTYPE=image/png:https://dev.our-events.de/wp-content/uploads/2024/09/Overbeck-Museum.png
END:VEVENT
BEGIN:VEVENT
DTSTART;TZID=Europe/Berlin:20250622T150000
DTEND;TZID=Europe/Berlin:20250622T170000
DTSTAMP:20260425T225056
CREATED:20250603T164300Z
LAST-MODIFIED:20250603T164622Z
UID:39220-1750604400-1750611600@dev.our-events.de
SUMMARY:Special: Queen – Heaven im Olbers-Planetarium
DESCRIPTION:Endlich auch in Bremen: Queen – Heaven\, eine der erfolgreichsten Musikshows in 360° Projektion!\nZu fulminanten Bildwelten erklingen die größten Hits der britischen Ausnahmeband um Sänger Freddie Mercury. Die bekannten Videoclips zu den Songs wurden dabei ebenso in die Planetariumsprojektion integriert wie neugestaltete Sequenzen\, die die gesamte riesige Kuppelfläche ausnutzen. So entsteht ein gigantisches Bild- und Tonerlebnis im Retrolook der 70er\, 80er und frühen  90er Jahre. Lassen Sie sich dieses Erlebnis nicht entgehen! \nEs handelt sich hier um eine reine Unterhaltungsshow ohne astronomische Inhalte!\nEmpfehlung ab 14 Jahre. \nCopyright Text & Bild: Olbers-Planetariummitte
URL:https://dev.our-events.de/event/special-queen-heaven-im-olbers-planetarium-3/
LOCATION:Olbers-Planetarium Bremen\, Werderstrasse 73\, Bremen\, 28199
CATEGORIES:Planetarium
ATTACH;FMTTYPE=image/jpeg:https://dev.our-events.de/wp-content/uploads/2025/06/Queen-2.jpg
END:VEVENT
BEGIN:VEVENT
DTSTART;TZID=Europe/Berlin:20250622T200000
DTEND;TZID=Europe/Berlin:20250622T213000
DTSTAMP:20260425T225056
CREATED:20250416T094643Z
LAST-MODIFIED:20250416T094643Z
UID:37719-1750622400-1750627800@dev.our-events.de
SUMMARY:She She Pop: Alles Mögliche - in der Schwankhalle
DESCRIPTION:Performance \nÜber die Veranstaltung:\n\nWenn in diesem Raum\, in dem wir uns gerade treffen\, eine Wunsch­maschine in Gang gesetzt würde. Wenn alles Mögliche\, also jede Idee und jede Vorstellung\, die wir hier ins Mikrofon sprechen\, im Laufe des Abends eingelöst würden; vielleicht nicht genau wie gedacht\, aber doch erkennbar – trotz aller Unzuläng­lichkeiten und Wider­sprüche. Wenn ab jetzt nichts mehr verloren ginge\, sobald es nur aus­gesprochen wurde. Wenn sich also dieser Ort\, unser Zusammen­sein\, unauf­hörlich verwandeln könnte – in eine Trauer­feier? eine Séance? ein Wahrheits­tribunal? – bis wir uns schließlich wieder­fänden im unberechen­baren Raum unserer schieren geteilten Vorstellungs­kraft. \nAlles Mögliche ist ein Happening auf einer leeren Theater­bühne. Es folgt zwei einfachen Regeln: Alle machen was sie wollen. Aber was auch immer hier passiert – es muss vorher öffentlich herauf­beschworen werden. Das entwaffnend einfache Rezept verbindet die Strenge und Transparenz der Konzept­kunst mit dem chaotischen Reichtum des Spektakels. Die Akteur*innen bereiten sich individuell vor. In spontanen Koopera­tionen und un­erwarteten Über­lagerungen entsteht ein skizzen­haftes utopisches Gesellschafts­bild. Welche Gesetze\, Grenzen und Möglich­keiten bestehen an diesem öffentlichen Ort\, an dem wir uns gerade versammeln? Welche anderen sind denkbar? Die Performance beginnt als Zeremonie und verwandelt sich allmählich in andere unvorherseh­bare Formate. \nAlles Mögliche ist ein Training der gemeinsamen Imagination\, der individuellen Initiative und der Kollaboration. Und eine Feier der einzig­artigen Gegenwart im Theater. \nÜber die Künstler*innen:\n\n\nShe She Pop sind ein in Berlin ansässiges feministisches Performance-Kollektiv\, das in den 1990er-Jahren aus dem Gießener Institut für Angewandte Theater­wissenschaft hervorging. Die Mitglieder verstehen sich als Autor*innen\, Dramaturg*innen und Ausführende ihrer Bühnen­handlung. Das Ein­beziehen der eigenen Auto­biografie ist dabei vor allem Methode\, nicht Zweck der Arbeit. She She Pop praktizieren eine Theaterform\, die dem Experiment verpflichtet ist. Sie nutzen die Bühne als Ort der akuten Öffent­lichkeit: Hier werden Entscheidungen getroffen\, Gesprächs­weisen und Gesellschafts­systeme ausprobiert\, Sprech-Gesten und soziale Rituale einstudiert oder verworfen. She She Pop sehen ihre Aufgabe in der Suche nach den gesellschaft­lichen Grenzen der Kommunikation – und in deren gezielter und kunst­voller Überschreitung im Schutzraum der Kunst. Das Theater wird zu einem Ort für utopische Kommunikation. Auch das Publikum erhält häufig eine besonder Funktion: Sämtliche Arbeiten von She She Pop sind auf ihre Weise Experimente oder Beweis­führungen\, die ohne Zeug*innen­schaft ungültig würden.sheshepop.de ↗ \nInfo zur Barrierefreiheit:\nAlle öffentlichen Bereiche der Schwankhalle sind ebenerdig und stufenlos erreichbar. \nEs gibt drei verschiedene WCs: Eine barierrefreie Toilette\, die auch für Rollstuhl-­Fahrer*innen nutzbar ist\, eine Toilette mit 3 WC-­Kabinen und eine Toilette mit Pissoirs und einer WC-Kabine. \nDer Publikumsbereich auf der Tribüne ist bestuhlt.Die Rollstuhlplätze befinden sich in der Regel in der ersten Reihe und können im Vorfeld telefonisch 0421 520 80 70\, per Email an ticket@schwankhalle.de oder per Eingabe im Ticketshop reserviert werden. \nIndividuelle Bedarfe wie bestimmte Sitzplätze\, Early Boarding oder ein zusätzliches Ticket für eine Begleitperson können Sie ebenfalls bei Ticketkauf bzw. -reservierung angeben. \nKinderbetreuung:\n\n\nDie Vorstellung am So 22.6. ist familien*freundlich mit kostenloser Kinderbetreuung für Kinder ab 3 Jahren. \nDie Betreuung findet im Foyer statt – Kinder können dort bei Bedarf jederzeit wieder abgeholt werden. \nEine Anmeldung zur Betreuung ist nicht erforderlich. Bitte kommen Sie mindestens 30 Minuten vor Veranstaltungsbeginn\, um ein entspanntes Ankommen zu ermöglichen. \n\n\n 
URL:https://dev.our-events.de/event/she-she-pop-alles-moegliche-in-der-schwankhalle/
LOCATION:Schwankhalle\, Buntentorsteinweg 112/116\, Bremen\, 28201
CATEGORIES:Performance,Theater
ATTACH;FMTTYPE=image/jpeg:https://dev.our-events.de/wp-content/uploads/2025/04/She-She-Pop_Alles-Moegliche_c_She-She-Pop.jpg
END:VEVENT
BEGIN:VEVENT
DTSTART;TZID=Europe/Berlin:20250622T200000
DTEND;TZID=Europe/Berlin:20250622T220000
DTSTAMP:20260425T225056
CREATED:20250611T100415Z
LAST-MODIFIED:20250611T100435Z
UID:39300-1750622400-1750629600@dev.our-events.de
SUMMARY:Latvian Voices: Timeless im Sendesaal
DESCRIPTION:Die menschliche Stimme ist das älteste und eines der unglaublichsten Musikinstrumente aller Zeiten. In ihrem akustischen Programm „Timeless” zeigen die Latvian Voices anhand von baltischer Folklore\, Transkriptionen instrumentaler Musik\, Originalliedern und A-cappella-Versionen bekannter Pop-Melodien\, dass gerade der Ensemblegesang zeitlos ist. \nJumalo – Lettische Volksweise\nJo dziedāju\, jo skanēja –  Lettische Volksweise\nKad es guoju tauteņos – Lettische Volksweise\nVakarā kalnā kāpu – Lettische Volksweise\nIlus Hääl Estnische Volksweise\nОй\, полечко – поле Ukrainisches Volkslied\nLaura Jēkabsone – Cauri vasarām\nLaura Jēkabsone – Atkal un no jauna\nFrigg – Keidas\nEmīls Dārziņš – Valse Mélancolique\nLaura Jēkabsone – Pillow Thoughts\nI. I Like to Dream About Mirrors\nII. You Remind Me of Home\nThe Beatles – Here Comes the Sun Musik/Text:\nPeter Gabriel – The Book of Love Musik/Text:\nClassical Medley Musik: Johann Pachelbel\, Johann Sebastian Bach\, Edvard Grieg u.a. \nLaura Jēkabsone – Sopran\nZane Stafecka – Sopran\nPaula Pērkone – Alt\nUna Stade – Alt\nJānis Strazdiņš – Bass \n\nNach der Gründung 2009 in der lettischen Hauptstadt Riga traten die Latvian Voices elf Jahre lang als Frauen-Vokalensemble auf – bis sich 2020 der Bass Jānis Strazdiņš der Gruppe anschloss und aus den Latvian Voices ein gemischtes Ensemble machte.\n\nDie Musik der Latvian Voices vereint das lettische Volkslied und den weltberühmten lettischen Chorklang mit Eigenkompositionen und Arrangements\, insbesondere aus der Feder der künstlerischen Leiterin Laura Jēkabsone. Die sechs SängerInnen kleiden mit ihren glockenklaren und kraftvollen Stimmen das kulturelle Erbe Lettlands in moderne A-Cappella-Klänge und tragen den Namen des „singenden Lands” in die Welt. 2014 waren die Latvian Voices die offiziellen musikalischen BotschafterInnen der Europäischen Kulturhauptstadt Riga.\nDas Ensemble ist weltweit in Kirchen\, Konzertsälen\, bei Musikfestivals\, Wettbewerben und Meisterkursen zu Gast und hat bisher acht Alben und das Hörbuch „Sounds of Latvian Nature” veröffentlicht. 2023 erschien die neueste CD „Atzīšanās” (Confession / Bekenntnisse)\, die unter dem Eindruck der Corona-Pandemie entstanden ist.\nLatvian Voices geben ihre Erfahrungen regelmäßig in Workshops und Meisterkursen im In- und Ausland weiter und haben unter diesem Aspekt ihr eigenes jährliches Festival\, das Latvian Voices A Cappella Festival in Valmiera\, ins Leben gerufen. \nCopyright Text & Bild: Sendesaal
URL:https://dev.our-events.de/event/latvian-voices-timeless-im-sendesaal/
LOCATION:Sendesaal Bremen\, Bürgermeister-Spitta-Allee 45\, Bremen\, 28329
ATTACH;FMTTYPE=image/jpeg:https://dev.our-events.de/wp-content/uploads/2025/06/session_museum1_latvian-voices_c_kaspars-teilans-1f1-scaled-2.jpg
END:VEVENT
END:VCALENDAR