BEGIN:VCALENDAR
VERSION:2.0
PRODID:-//Our Events - ECPv6.15.20//NONSGML v1.0//EN
CALSCALE:GREGORIAN
METHOD:PUBLISH
X-ORIGINAL-URL:https://dev.our-events.de
X-WR-CALDESC:Veranstaltungen für Our Events
REFRESH-INTERVAL;VALUE=DURATION:PT1H
X-Robots-Tag:noindex
X-PUBLISHED-TTL:PT1H
BEGIN:VTIMEZONE
TZID:Europe/Berlin
BEGIN:DAYLIGHT
TZOFFSETFROM:+0100
TZOFFSETTO:+0200
TZNAME:CEST
DTSTART:20240331T010000
END:DAYLIGHT
BEGIN:STANDARD
TZOFFSETFROM:+0200
TZOFFSETTO:+0100
TZNAME:CET
DTSTART:20241027T010000
END:STANDARD
BEGIN:DAYLIGHT
TZOFFSETFROM:+0100
TZOFFSETTO:+0200
TZNAME:CEST
DTSTART:20250330T010000
END:DAYLIGHT
BEGIN:STANDARD
TZOFFSETFROM:+0200
TZOFFSETTO:+0100
TZNAME:CET
DTSTART:20251026T010000
END:STANDARD
BEGIN:DAYLIGHT
TZOFFSETFROM:+0100
TZOFFSETTO:+0200
TZNAME:CEST
DTSTART:20260329T010000
END:DAYLIGHT
BEGIN:STANDARD
TZOFFSETFROM:+0200
TZOFFSETTO:+0100
TZNAME:CET
DTSTART:20261025T010000
END:STANDARD
END:VTIMEZONE
BEGIN:VEVENT
DTSTART;TZID=Europe/Berlin:20250627T191500
DTEND;TZID=Europe/Berlin:20250627T203000
DTSTAMP:20260425T144256
CREATED:20250516T112535Z
LAST-MODIFIED:20250516T112535Z
UID:38754-1751051700-1751056200@dev.our-events.de
SUMMARY:Orgelsommer 2025 - Thorsten Hülsemann (Maulbronn) spielt Werke von Lübeck\, Händel\, Buxtehude\, Bach\, Mendelssohn und Hakim - in St. Johann
DESCRIPTION:An allen Freitagen im Juni findet jeweils um 19.30 Uhr in der Propsteikirche St. Johann der Orgelsommer 2025 statt und bietet spannende Orgelkonzerte mit Interpretinnen und Interpreten aus ganz Deutschland und dem benachbarten Ausland. Die Orgel aus dem Hause Breil/Sauer wird dadurch nicht nur in vielen Klangfarben zu hören sein\, die Konzerteinführung eine Viertelstunde vor Konzertbeginn bietet auch Gelegenheit\, die unterschiedliche Herkunft und Prägung der Organistinnen und Organisten und deren Sichtweise auf die Musik kennenzulernen. \n\nKonzert IV: Thorsten Hülsemann (Maulbronn) spielt Werke von Lübeck\, Händel\, Buxtehude\, Bach\, Mendelssohn und Hakim \n\n\n\nEinführung im Chorraum: 19.15 Uhr \n\n\nKonzertbeginn: 19.30 Uhr \nCopyright Text & Bild: St. Johann
URL:https://dev.our-events.de/event/orgelsommer-2025-thorsten-huelsemann-maulbronn-spielt-werke-von-luebeck-haendel-buxtehude-bach-mendelssohn-und-hakim-in-st-johann/
LOCATION:Propsteikirche St. Johann\, Hohe Straße 2\, Bremen\, 28195
CATEGORIES:Klassik,Konzert,Musik
ATTACH;FMTTYPE=image/jpeg:https://dev.our-events.de/wp-content/uploads/2025/05/St_Johann_Orgel_1.jpg
END:VEVENT
BEGIN:VEVENT
DTSTART;TZID=Europe/Berlin:20250627T210000
DTEND;TZID=Europe/Berlin:20250627T230000
DTSTAMP:20260425T144256
CREATED:20250417T151701Z
LAST-MODIFIED:20250417T151701Z
UID:37869-1751058000-1751065200@dev.our-events.de
SUMMARY:New Comix  Rock Cover\, Bremen im Meisenfrei
DESCRIPTION:Seit fast vier Dekaden rockt New Comix die Bühnen Norddeutschlands\, heute toben sie sich bei uns aus! Die Band bietet das Feeling der rockigen 80er und 90er Jahre pur: Der charismatische Sänger der Band sorgt mit seinem Stimmumfang für ein breites Spektrum der rockigen Vergangenheit\, von ACDC über Queen\, Led Zeppelin\, Journey und Police bis zu Iron Maiden und noch viel mehr. Die Band verspricht eine absolut exzellente Darbietung des Programms und wir gehen fest davon aus\, dass sie das einhält\, denn beim letzten Besuch klappte es tadellos! \nCopyright Text & Bild: Meisenfrei
URL:https://dev.our-events.de/event/new-comix-rock-cover-bremen-im-meisenfrei/
LOCATION:Meisenfrei\, Hankenstraße 18\, Bremen\, 28195
CATEGORIES:Konzert,Rock / Pop / Jazz / Country
ATTACH;FMTTYPE=image/jpeg:https://dev.our-events.de/wp-content/uploads/2025/04/2025-06-27-NewComix.jpg
END:VEVENT
END:VCALENDAR