BEGIN:VCALENDAR
VERSION:2.0
PRODID:-//Our Events - ECPv6.15.20//NONSGML v1.0//EN
CALSCALE:GREGORIAN
METHOD:PUBLISH
X-ORIGINAL-URL:https://dev.our-events.de
X-WR-CALDESC:Veranstaltungen für Our Events
REFRESH-INTERVAL;VALUE=DURATION:PT1H
X-Robots-Tag:noindex
X-PUBLISHED-TTL:PT1H
BEGIN:VTIMEZONE
TZID:Europe/Berlin
BEGIN:DAYLIGHT
TZOFFSETFROM:+0100
TZOFFSETTO:+0200
TZNAME:CEST
DTSTART:20240331T010000
END:DAYLIGHT
BEGIN:STANDARD
TZOFFSETFROM:+0200
TZOFFSETTO:+0100
TZNAME:CET
DTSTART:20241027T010000
END:STANDARD
BEGIN:DAYLIGHT
TZOFFSETFROM:+0100
TZOFFSETTO:+0200
TZNAME:CEST
DTSTART:20250330T010000
END:DAYLIGHT
BEGIN:STANDARD
TZOFFSETFROM:+0200
TZOFFSETTO:+0100
TZNAME:CET
DTSTART:20251026T010000
END:STANDARD
BEGIN:DAYLIGHT
TZOFFSETFROM:+0100
TZOFFSETTO:+0200
TZNAME:CEST
DTSTART:20260329T010000
END:DAYLIGHT
BEGIN:STANDARD
TZOFFSETFROM:+0200
TZOFFSETTO:+0100
TZNAME:CET
DTSTART:20261025T010000
END:STANDARD
END:VTIMEZONE
BEGIN:VEVENT
DTSTART;TZID=Europe/Berlin:20250301T110000
DTEND;TZID=Europe/Berlin:20250301T160000
DTSTAMP:20260425T125528
CREATED:20250228T160841Z
LAST-MODIFIED:20250823T065010Z
UID:35915-1740826800-1740844800@dev.our-events.de
SUMMARY:Eintrittskarten Vegesacker Geschichtenhaus - Gültig zu den Öffnungszeiten
DESCRIPTION:Das Vegesacker Geschichtenhaus macht die Stadtgeschichte von Bremen-Nord lebendig. In kleinen Theaterszenen entführen unsere Darsteller Sie in das Vegesack des 19. Jahrhunderts.  \nBesuchen Sie uns auf der legendären Lange-Werft\, sprechen Sie mit den Handwerkern über die Arbeit in dieser Zeit oder trinken Sie auf ein langes Leben in der Hafenschänke und vor allem: Lassen Sie sich nicht erwischen\, wenn der Hafenmeister wieder seine Runde macht! \nGeöffnet haben wir immer mittwochs bis samstags zwischen 11 und 16 Uhr (letzter Einlass um 15 Uhr). Für Schulklassen öffnen wir auf Anfrage gerne auch früher. \nEine Spielführung dauert zur Zeit 30 – 45 Minuten. Zum Abschluss haben Sie die Möglichkeit bei Kaffee und süßem “Havenfutter” im GalerieCafe oder auf der Dachterrasse zu verweilen. \nFotos: Matthias Sabelhaus \nBitte aktiviere JavaScript in deinem Browser\, um dieses Formular fertigzustellen.Bitte aktiviere JavaScript in deinem Browser\, um dieses Formular fertigzustellen.Bitte die Anzahl zu reservierender Karten auswählenIch bin *KulturgastKulturbegleiter:inAnrede Interessent:in *FrauHerrDiversVorname  *Name *Straße & Hausnummer *Postleitzahl  *Ort *Telefon Nr. der Interessent:in *E-Mail  *Ich benötige Unterstützung für den Besuch der Veranstaltung *janeinWelche Form der Unterstützung  benötigen Sie?Ich möchte den Programm Newsletter der Kulturtafel abonnieren. Das kann ich jederzeit rückgängig machen.janeinDSGVO Einverständnis *Ich willige ein\, dass diese Website meine übermittelten Informationen speichert\, sodass meine Anfrage beantwortet werden kann.Angaben bestätigen  \n 
URL:https://dev.our-events.de/event/eintrittskarten-fuer-das-vegesacker-geschichtenhaus-2/
LOCATION:Vegesacker Geschichtenhaus\, Zum Alten Speicher 5a\, Bremen\, 28759
CATEGORIES:Museum,Theater
ATTACH;FMTTYPE=image/png:https://dev.our-events.de/wp-content/uploads/2025/02/geschichtenhaus.png
END:VEVENT
BEGIN:VEVENT
DTSTART;TZID=Europe/Berlin:20250628T150000
DTEND;TZID=Europe/Berlin:20250628T160000
DTSTAMP:20260425T125528
CREATED:20250603T165527Z
LAST-MODIFIED:20250603T165945Z
UID:39231-1751122800-1751126400@dev.our-events.de
SUMMARY:Zeitreise – Vom Urknall zum Menschen im Olbers-Planetarium
DESCRIPTION:Woher kommen wir? Was musste alles geschehen\, bevor wir Menschen uns entwickeln konnten? Das Planetarium wird zur Zeitmaschine: Erleben Sie in eindrucksvollen Bildern\, wie unsere Milchstraße\, die Sonne oder die Erde entstanden und wie das Leben sich entwickelte. Gewaltige Sternexplosionen und katastrophale Einschläge von Kometen auf der Erde sind ebenso ein Teil der Geschichte wie die Dinosaurier und andere Wesen der Urzeit. Begeben Sie sich auf eine einzigartige Zeitreise! \nEmpfehlung ab 10 Jahre. \nCopyright Text & Bild: Olbers-Planetarium
URL:https://dev.our-events.de/event/zeitreise-vom-urknall-zum-menschen-im-olbers-planetarium-2/
LOCATION:Olbers-Planetarium Bremen\, Werderstrasse 73\, Bremen\, 28199
CATEGORIES:Planetarium
ATTACH;FMTTYPE=image/jpeg:https://dev.our-events.de/wp-content/uploads/2025/06/Zeitreise-2.jpg
END:VEVENT
BEGIN:VEVENT
DTSTART;TZID=Europe/Berlin:20250628T200000
DTEND;TZID=Europe/Berlin:20250628T221500
DTSTAMP:20260425T125528
CREATED:20250620T121451Z
LAST-MODIFIED:20250620T121451Z
UID:39521-1751140800-1751148900@dev.our-events.de
SUMMARY:PLÁCIDO DOMINGO UND DIE BREMER PHILHARMONIKER – MY LIFE FOR MUSIC auf der Seebühne
DESCRIPTION:DER SPANISCHE STAR-TENOR GIBT EIN EXKLUSIVES KONZERT\, BLICKT AUF SEINE LANGJÄHRIGE KARRIERE ZURÜCK UND FEIERT MIT DEN BREMER PHILHARMONIKERN IHREN 200. GEBURTSTAG \nEr ist umjubelter Weltstar und zählt zu den Renommiertesten seines Fachs: Unter dem Motto My Life for Music gibt der spanische Tenor und Bariton Plácido Domingo am Samstag\, den 28. Juni 2025 eine besondere Gala im Rahmen des Eröffnungswochenendes der Seebühne 2025. Anlass ist der 200. Geburtstag der Bremer Philharmoniker. \nDer Konzertabend verspricht eine Reise quer durch das musikalische Wirken des Sängers. „In enger Zusammenarbeit mit Plácido Domingo kreieren wir einen Rückblick auf eine atemberaubende Karriere mit all ihren Facetten und Genres“\, erklärt Thorge Schramm vom Veranstalter & Produzenten bremen events & concerts. Begleitet wird Domingo von der US-Sopranistin Micaela Oeste und keinem geringeren als seinem Sohn Plácido Domingo Junior. Star-Dirigent Eugene Kohn (Andrea Bocelli\, Maria Callas) dirigiert dazu die große Besetzung der Bremer Philharmoniker\, die mit diesem Konzert ihre 200. Spielsaison beenden. \nCopyright Text & Bild: Seebühne
URL:https://dev.our-events.de/event/placido-domingo-und-die-bremer-philharmoniker-my-life-for-music-auf-der-seebuehne/
LOCATION:Seebühne\, AG-Weser-Straße 1\, Bremen\, 28237
CATEGORIES:Konzert,Musik
ATTACH;FMTTYPE=image/jpeg:https://dev.our-events.de/wp-content/uploads/2025/06/Placio.jpg
END:VEVENT
END:VCALENDAR