BEGIN:VCALENDAR
VERSION:2.0
PRODID:-//Our Events - ECPv6.15.20//NONSGML v1.0//EN
CALSCALE:GREGORIAN
METHOD:PUBLISH
X-ORIGINAL-URL:https://dev.our-events.de
X-WR-CALDESC:Veranstaltungen für Our Events
REFRESH-INTERVAL;VALUE=DURATION:PT1H
X-Robots-Tag:noindex
X-PUBLISHED-TTL:PT1H
BEGIN:VTIMEZONE
TZID:Europe/Berlin
BEGIN:DAYLIGHT
TZOFFSETFROM:+0100
TZOFFSETTO:+0200
TZNAME:CEST
DTSTART:20240331T010000
END:DAYLIGHT
BEGIN:STANDARD
TZOFFSETFROM:+0200
TZOFFSETTO:+0100
TZNAME:CET
DTSTART:20241027T010000
END:STANDARD
BEGIN:DAYLIGHT
TZOFFSETFROM:+0100
TZOFFSETTO:+0200
TZNAME:CEST
DTSTART:20250330T010000
END:DAYLIGHT
BEGIN:STANDARD
TZOFFSETFROM:+0200
TZOFFSETTO:+0100
TZNAME:CET
DTSTART:20251026T010000
END:STANDARD
BEGIN:DAYLIGHT
TZOFFSETFROM:+0100
TZOFFSETTO:+0200
TZNAME:CEST
DTSTART:20260329T010000
END:DAYLIGHT
BEGIN:STANDARD
TZOFFSETFROM:+0200
TZOFFSETTO:+0100
TZNAME:CET
DTSTART:20261025T010000
END:STANDARD
END:VTIMEZONE
BEGIN:VEVENT
DTSTART;TZID=Europe/Berlin:20250703T080000
DTEND;TZID=Europe/Berlin:20250823T170000
DTSTAMP:20260424T231314
CREATED:20250704T101241Z
LAST-MODIFIED:20250704T101241Z
UID:40186-1751529600-1755968400@dev.our-events.de
SUMMARY:Open Space Domshof - Bremen
DESCRIPTION:Über 50 Veranstaltungen im Herzen der Stadt. Mehr Infos unter openspace-domshof.de \n 
URL:https://dev.our-events.de/event/open-space-domshof-bremen/
LOCATION:Domshof\, Domshof\, Bremen
END:VEVENT
BEGIN:VEVENT
DTSTART;TZID=Europe/Berlin:20250801T080000
DTEND;TZID=Europe/Berlin:20250803T170000
DTSTAMP:20260424T231314
CREATED:20250704T094354Z
LAST-MODIFIED:20250725T100634Z
UID:40170-1754035200-1754240400@dev.our-events.de
SUMMARY:Internationales Festival Maritim in Vegesack
DESCRIPTION:30 internationale Bands und Gruppen direkt an der Weser. Hier gibt es mehr Infos.
URL:https://dev.our-events.de/event/internationales-festival-maritim/
LOCATION:Vegesack
CATEGORIES:Musik
ATTACH;FMTTYPE=image/jpeg:https://dev.our-events.de/wp-content/uploads/2025/07/FM-2025-1080x1440-1-e1751622574186.jpg
END:VEVENT
BEGIN:VEVENT
DTSTART;TZID=Europe/Berlin:20250511T110000
DTEND;TZID=Europe/Berlin:20250511T170000
DTSTAMP:20260424T231314
CREATED:20250508T140851Z
LAST-MODIFIED:20250707T124929Z
UID:38536-1746961200-1746982800@dev.our-events.de
SUMMARY:Eintrittskarten Overbeck-Museum: IST MIR EINE EHRE - Die Lieblingsbilder unserer EhrenamtlichenAusstellung - Karten täglich gültig zu den Öffnungszeiten
DESCRIPTION:Die Karten sind  täglich zu den Öffnungszeiten gültig. Letzter Tag für eine Ticket-Reservierung ist der 23.10.2024. \n\n\n\nDas Overbeck-Museum ist seit seiner Gründung vor 35 Jahren ohne ehrenamtliches Engagement nicht denkbar. Von Beginn an hat sich ein großer Kreis Menschen ehrenamtlich eingebracht und damit den lebendigen Alltag und das stetige Wachstum des Museums überhaupt erst ermöglicht. Aktuell leisten rund 55 Personen ehrenamtlich Aufsichtsdienste am Wochenende\, weitere 10 engagieren sich ehrenamtlich in Gremien wie Vorstand und Aufsichtsrat. Dafür kann man gar nicht oft genug und laut genug DANKE sagen. \n\nEhrenamt geschieht meist im Verborgenen. Wir wollen es sichtbar machen und zeigen: Seht her – ohne diese vielen tollen Menschen ginge es nicht! Zum 35. Geburtstag des Overbeck-Museums bestimmen unsere Ehrenamtlichen\, welche Bilder gezeigt werden. \n\nLieblingsbilder\, nahezu Unbekanntes und besondere Schätze – wer schon so viele Stunden ehrenamtlich Aufsicht in den Ausstellungsräumen gemacht hat\, der hat zu manch einem Kunstwerk eine besondere Beziehung und kann etwas darüber erzählen. Deshalb sind den Kunstwerken kurze Texte unserer Ehrenamtlichen zur Seite gestellt\, die erzählen\, was dieses Werk für sie persönlich bedeutet. \n\n\nBitte aktiviere JavaScript in deinem Browser\, um dieses Formular fertigzustellen.Bitte aktiviere JavaScript in deinem Browser\, um dieses Formular fertigzustellen.Bitte das Datum der Veranstaltung angeben *Bitte die Anzahl der zu reservierenden Tickets auswählenIch bin *KulturgastKulturbegleiter:inAnrede Interessent:in *FrauHerrDiversVorname  *Name *E-Mail  *Ich benötige Unterstützung für den Besuch der Veranstaltung *janeinIch möchte den Programm Newsletter der Kulturtafel abonnieren. Das kann ich jederzeit rückgängig machen.janeinDSGVO Einverständnis *Ich willige ein\, dass diese Website meine übermittelten Informationen speichert\, sodass meine Anfrage beantwortet werden kann.Angaben bestätigen
URL:https://dev.our-events.de/event/eintrittskarten-overbeck-museum-ist-mir-eine-ehre-die-lieblingsbilder-unserer-ehrenamtlichenausstellung-karten-taeglich-gueltig-zu-den-oeffnungszeiten/
LOCATION:Overbeck Museum\, Alte Hafenstraße 30\, Bremen\, Bremen\, 28757\, Deutschland
CATEGORIES:Ausstellung,Grohn
ATTACH;FMTTYPE=image/png:https://dev.our-events.de/wp-content/uploads/2024/09/Overbeck-Museum.png
END:VEVENT
BEGIN:VEVENT
DTSTART;TZID=Europe/Berlin:20250803T113000
DTEND;TZID=Europe/Berlin:20250803T123000
DTSTAMP:20260424T231314
CREATED:20250708T143738Z
LAST-MODIFIED:20250708T144121Z
UID:40435-1754220600-1754224200@dev.our-events.de
SUMMARY:Die Rettung der Sternenfee Mira Kinderprogramm im Olbers Planetarium
DESCRIPTION:„Hokuspokus eins\, zwei\, drei\, Zauberwolke\, eil herbei! Der Weg ist weit\, das Weltall groß\, Flieg zum Mond\, jetzt geht`s los!“\, so heißt es in der neuen Show. Große und kleine Zuschauer und Zuschauerinnen können in der Show Lilly und Tom helfen\, die Sternenfee Mira zu retten! In einer einzigen Nacht fliegen die Geschwister Lilly und Tom auf einer Zauberwolke durchs Universum\, um die Sternenfee Mira aus der Höhle des bösen Zauberers Urax zu befreien. Die abenteuerliche Reise beginnt mit einer geheimnisvollen Sternschnuppe und führt die beiden zur Sonne\, zum Mond und bis zum Saturn. Doch was steckt dahinter? Der Zauberer Urax kann Kinder gar nicht leiden und stiehlt ihnen ihr Spielzeug. Die Sternenfee Mira kann diese Ungerechtigkeit nicht mit ansehen und schenkt den Kindern neue Spielsachen. Daraufhin wird die Fee von Urax entführt und in seiner Höhle gefangen gehalten. Als aber die Geschwister Lilly und Tom eine Botschaft von einem Meteoriten erhalten\, beschließen sie\, Mira zu befreien. Der Meteorit ist kein gewöhnlicher Meteorit\, sondern ein verzauberter Stein\, mit dessen Kräften die Geschwister auf einer Zauberwolke durch das Universum reisen können. Um die Höhle des Zauberers zu öffnen\, müssen sie das Licht der Sonne „einfangen“\, zum Mond reisen und einen verschlafenen Saturn wecken. Das schaffen sie nur mit der Hilfe der Kinder im Publikum\, denn am besten zaubert man gemeinsam.\n\nEmpfehlung ab 5 Jahre.\n\nCopyright Text & Bild: Olbers-Planetarium
URL:https://dev.our-events.de/event/die-rettung-der-sternenfee-mira-kinderprogramm-im-olbers-planetarium-5/
LOCATION:Olbers-Planetarium Bremen\, Werderstrasse 73\, Bremen\, 28199
CATEGORIES:Planetarium
ATTACH;FMTTYPE=image/jpeg:https://dev.our-events.de/wp-content/uploads/2025/07/Mira-scaled-3.jpg
END:VEVENT
END:VCALENDAR