BEGIN:VCALENDAR
VERSION:2.0
PRODID:-//Our Events - ECPv6.15.20//NONSGML v1.0//EN
CALSCALE:GREGORIAN
METHOD:PUBLISH
X-ORIGINAL-URL:https://dev.our-events.de
X-WR-CALDESC:Veranstaltungen für Our Events
REFRESH-INTERVAL;VALUE=DURATION:PT1H
X-Robots-Tag:noindex
X-PUBLISHED-TTL:PT1H
BEGIN:VTIMEZONE
TZID:Europe/Berlin
BEGIN:DAYLIGHT
TZOFFSETFROM:+0100
TZOFFSETTO:+0200
TZNAME:CEST
DTSTART:20240331T010000
END:DAYLIGHT
BEGIN:STANDARD
TZOFFSETFROM:+0200
TZOFFSETTO:+0100
TZNAME:CET
DTSTART:20241027T010000
END:STANDARD
BEGIN:DAYLIGHT
TZOFFSETFROM:+0100
TZOFFSETTO:+0200
TZNAME:CEST
DTSTART:20250330T010000
END:DAYLIGHT
BEGIN:STANDARD
TZOFFSETFROM:+0200
TZOFFSETTO:+0100
TZNAME:CET
DTSTART:20251026T010000
END:STANDARD
BEGIN:DAYLIGHT
TZOFFSETFROM:+0100
TZOFFSETTO:+0200
TZNAME:CEST
DTSTART:20260329T010000
END:DAYLIGHT
BEGIN:STANDARD
TZOFFSETFROM:+0200
TZOFFSETTO:+0100
TZNAME:CET
DTSTART:20261025T010000
END:STANDARD
END:VTIMEZONE
BEGIN:VEVENT
DTSTART;TZID=Europe/Berlin:20250703T080000
DTEND;TZID=Europe/Berlin:20250823T170000
DTSTAMP:20260424T015247
CREATED:20250704T101241Z
LAST-MODIFIED:20250704T101241Z
UID:40186-1751529600-1755968400@dev.our-events.de
SUMMARY:Open Space Domshof - Bremen
DESCRIPTION:Über 50 Veranstaltungen im Herzen der Stadt. Mehr Infos unter openspace-domshof.de \n 
URL:https://dev.our-events.de/event/open-space-domshof-bremen/
LOCATION:Domshof\, Domshof\, Bremen
END:VEVENT
BEGIN:VEVENT
DTSTART;TZID=Europe/Berlin:20250813T080000
DTEND;TZID=Europe/Berlin:20250817T170000
DTSTAMP:20260424T015247
CREATED:20250704T100624Z
LAST-MODIFIED:20250704T100624Z
UID:40183-1755072000-1755450000@dev.our-events.de
SUMMARY:SAIL Bremerhaven
DESCRIPTION:250 Schiffe aus aller Welt und viel Unterhaltungsprogramm. Mehr Infos auf bremerhaven.de.
URL:https://dev.our-events.de/event/sail-bremerhaven/
LOCATION:Bremerhaven\, Friedrich-Ebert-Str. 73\, Bremerhaven\, 27570
END:VEVENT
BEGIN:VEVENT
DTSTART;TZID=Europe/Berlin:20250301T110000
DTEND;TZID=Europe/Berlin:20250301T160000
DTSTAMP:20260424T015247
CREATED:20250228T160841Z
LAST-MODIFIED:20250823T065010Z
UID:35915-1740826800-1740844800@dev.our-events.de
SUMMARY:Eintrittskarten Vegesacker Geschichtenhaus - Gültig zu den Öffnungszeiten
DESCRIPTION:Das Vegesacker Geschichtenhaus macht die Stadtgeschichte von Bremen-Nord lebendig. In kleinen Theaterszenen entführen unsere Darsteller Sie in das Vegesack des 19. Jahrhunderts.  \nBesuchen Sie uns auf der legendären Lange-Werft\, sprechen Sie mit den Handwerkern über die Arbeit in dieser Zeit oder trinken Sie auf ein langes Leben in der Hafenschänke und vor allem: Lassen Sie sich nicht erwischen\, wenn der Hafenmeister wieder seine Runde macht! \nGeöffnet haben wir immer mittwochs bis samstags zwischen 11 und 16 Uhr (letzter Einlass um 15 Uhr). Für Schulklassen öffnen wir auf Anfrage gerne auch früher. \nEine Spielführung dauert zur Zeit 30 – 45 Minuten. Zum Abschluss haben Sie die Möglichkeit bei Kaffee und süßem “Havenfutter” im GalerieCafe oder auf der Dachterrasse zu verweilen. \nFotos: Matthias Sabelhaus \nBitte aktiviere JavaScript in deinem Browser\, um dieses Formular fertigzustellen.Bitte aktiviere JavaScript in deinem Browser\, um dieses Formular fertigzustellen.Bitte die Anzahl zu reservierender Karten auswählenIch bin *KulturgastKulturbegleiter:inAnrede Interessent:in *FrauHerrDiversVorname  *Name *Straße & Hausnummer *Postleitzahl  *Ort *Telefon Nr. der Interessent:in *E-Mail  *Ich benötige Unterstützung für den Besuch der Veranstaltung *janeinWelche Form der Unterstützung  benötigen Sie?Ich möchte den Programm Newsletter der Kulturtafel abonnieren. Das kann ich jederzeit rückgängig machen.janeinDSGVO Einverständnis *Ich willige ein\, dass diese Website meine übermittelten Informationen speichert\, sodass meine Anfrage beantwortet werden kann.Angaben bestätigen  \n 
URL:https://dev.our-events.de/event/eintrittskarten-fuer-das-vegesacker-geschichtenhaus-2/
LOCATION:Vegesacker Geschichtenhaus\, Zum Alten Speicher 5a\, Bremen\, 28759
CATEGORIES:Museum,Theater
ATTACH;FMTTYPE=image/png:https://dev.our-events.de/wp-content/uploads/2025/02/geschichtenhaus.png
END:VEVENT
BEGIN:VEVENT
DTSTART;TZID=Europe/Berlin:20250816T180000
DTEND;TZID=Europe/Berlin:20250816T190000
DTSTAMP:20260424T015247
CREATED:20250710T122052Z
LAST-MODIFIED:20250710T122157Z
UID:40473-1755367200-1755370800@dev.our-events.de
SUMMARY:Geheimnis Dunkle Materie im Olbers-Planetarium
DESCRIPTION:Woraus besteht das Universum? Wir wissen\, dass es im Universum viel mehr als die sichtbare Materie aus Galaxien\, Nebeln\, Sternen und Planeten gibt. Aber worum handelt es sich bei dieser geheimnisvollen\, unsichtbaren dunklen Materie\, die die Masse des sichtbaren Universum vermutlich deutlich übersteigt? Begeben Sie sich mit uns auf die Suche nach einer Antwort! Neben aktuellen Forschungsergebnissen zeigen wir selbstverständlich auch den aktuelle Sternenhimmel. \nEmpfehlung ab 12 Jahre. \nCopyright Text & Bild: Olbers-Planetarium \n 
URL:https://dev.our-events.de/event/geheimnis-dunkle-materie-im-olbers-planetarium-2/
LOCATION:Olbers-Planetarium Bremen\, Werderstrasse 73\, Bremen\, 28199
CATEGORIES:Planetarium
ATTACH;FMTTYPE=image/png:https://dev.our-events.de/wp-content/uploads/2025/06/Dunkle-Materie.png
END:VEVENT
BEGIN:VEVENT
DTSTART;TZID=Europe/Berlin:20250816T210000
DTEND;TZID=Europe/Berlin:20250816T230000
DTSTAMP:20260424T015247
CREATED:20250708T140655Z
LAST-MODIFIED:20250708T140708Z
UID:40413-1755378000-1755385200@dev.our-events.de
SUMMARY:Rockfire - Rock\, Delmenhorst im Meisenfrei
DESCRIPTION:Rockfire ist eine Band\, bei der erfahrene Musiker ihre gesammelte musikalische Expertise vereint und etwas ganz Besonderes aus der Taufe gehoben haben. Nach dieser anfänglichen Betrachtung kann man ungeniert konstatieren\, dass diese furiose Truppe den Club ganz sicher zum Kochen bringen wird. Die Band bietet klassischen und harten Rock\, den sie mit Wumms durch ihre Verstärker schickt. Dabei kommen zahlreiche Songs zur Aufführung\, die man zwar gut kennt\, aber verdammt selten in einem Konzert zu hören bekommt. Außerdem sorgt die Band dafür\, dass die voll Power gespielten Titel immer einen Tick flippiger klingen als man es möglicherweise gewohnt ist. Und spätestens wenn die Frontfrau das Gaspedal durchdrückt\, ist die Party am Samstag gesichert! \nCopyright Text & Bild: Meisenfrei
URL:https://dev.our-events.de/event/rockfire-rock-delmenhorst-im-meisenfrei/
LOCATION:Meisenfrei\, Hankenstraße 18\, Bremen\, 28195
CATEGORIES:Konzert
ATTACH;FMTTYPE=image/jpeg:https://dev.our-events.de/wp-content/uploads/2025/07/2025-08-16-Rockfire.jpg
END:VEVENT
END:VCALENDAR