BEGIN:VCALENDAR
VERSION:2.0
PRODID:-//Our Events - ECPv6.15.20//NONSGML v1.0//EN
CALSCALE:GREGORIAN
METHOD:PUBLISH
X-ORIGINAL-URL:https://dev.our-events.de
X-WR-CALDESC:Veranstaltungen für Our Events
REFRESH-INTERVAL;VALUE=DURATION:PT1H
X-Robots-Tag:noindex
X-PUBLISHED-TTL:PT1H
BEGIN:VTIMEZONE
TZID:Europe/Berlin
BEGIN:DAYLIGHT
TZOFFSETFROM:+0100
TZOFFSETTO:+0200
TZNAME:CEST
DTSTART:20240331T010000
END:DAYLIGHT
BEGIN:STANDARD
TZOFFSETFROM:+0200
TZOFFSETTO:+0100
TZNAME:CET
DTSTART:20241027T010000
END:STANDARD
BEGIN:DAYLIGHT
TZOFFSETFROM:+0100
TZOFFSETTO:+0200
TZNAME:CEST
DTSTART:20250330T010000
END:DAYLIGHT
BEGIN:STANDARD
TZOFFSETFROM:+0200
TZOFFSETTO:+0100
TZNAME:CET
DTSTART:20251026T010000
END:STANDARD
BEGIN:DAYLIGHT
TZOFFSETFROM:+0100
TZOFFSETTO:+0200
TZNAME:CEST
DTSTART:20260329T010000
END:DAYLIGHT
BEGIN:STANDARD
TZOFFSETFROM:+0200
TZOFFSETTO:+0100
TZNAME:CET
DTSTART:20261025T010000
END:STANDARD
END:VTIMEZONE
BEGIN:VEVENT
DTSTART;TZID=Europe/Berlin:20250703T080000
DTEND;TZID=Europe/Berlin:20250823T170000
DTSTAMP:20260423T150454
CREATED:20250704T101241Z
LAST-MODIFIED:20250704T101241Z
UID:40186-1751529600-1755968400@dev.our-events.de
SUMMARY:Open Space Domshof - Bremen
DESCRIPTION:Über 50 Veranstaltungen im Herzen der Stadt. Mehr Infos unter openspace-domshof.de \n 
URL:https://dev.our-events.de/event/open-space-domshof-bremen/
LOCATION:Domshof\, Domshof\, Bremen
END:VEVENT
BEGIN:VEVENT
DTSTART;TZID=Europe/Berlin:20250822T193000
DTEND;TZID=Europe/Berlin:20250822T213000
DTSTAMP:20260423T150454
CREATED:20250514T130034Z
LAST-MODIFIED:20250514T130034Z
UID:38655-1755891000-1755898200@dev.our-events.de
SUMMARY:DAS WINTERMÄRCHEN VON WILLIAM SHAKESPEARE von der shakespear company im Bürgerpark / Melcherswiese
DESCRIPTION:In Sizilien ist alles Sonnenschein: König Leontes\, seine schwangere Frau Hermione und Polixenes\, König von Böhmen frönen ihrer gegenseitigen Liebe und Freundschaft. Doch aus heiterem Himmel bezichtigt König Leontes seine Frau Hermione der Untreue mit Polixenes. Trotz aller Beschwörungen von Hermiones Unschuld und aller Bitten\, wieder zur Vernunft zu kommen\, lässt Leontes seine Frau ins Gefängnis werfen. Er glaubt\, das neugeborene Mädchen „Perdita“ sei Polixenes’ Tochter und lässt es auf dem Meer aussetzen. Als urplötzlich auch noch der gemeinsame Sohn Mamillius stirbt\, bricht Hermione unter soviel Unglück zusammen und erstarrt\, so dass man von ihrem Tod berichtet. Von bitterer Reue geplagt\, sieht Leontes sein Unrecht ein\, doch zu spät – in einem Zug hat er sein ganzes Glück vernichtet. 20 Jahre später lebt Perdita als adoptierte Tochter von einfachen Schäfern in Böhmen. Mit dem Sohn des Königs Polixenes verbindet sie eine heimliche Liebe. Auf einem ausgelassenen Schafschurfest wird ihre Verbindung unerwartet entdeckt\, und die zwei fliehen vor Polixenes’ Zorn nach Sizilien… \nShakespeares Romanze „Das Wintermärchen“ ist ein märchenhaftes Theaterspiel\, das sich von realen topografischen und historischen Verortungen loslöst und dessen Fortgang ausschließlich von den emotionalen Impulsen seiner Protagonisten angetrieben wird. Es erzählt von der zerstörerischen Macht von Eifersucht und Tyrannei und der heilenden Wirkung von Liebe und Vergebung. So tragisch und düster wie das Stück beginnt\, so fröhlich\, hoffnungsvoll und komödiantisch entwickelt es sich nach dem Zeitsprung im zweiten Teil. \nDie Inszenierung erzählt Shakespeares Spätwerk als Perditas Reise in eine Vergangenheit\, die sie nicht kennt und in der ihre Familiengeschichte verborgen liegt. Stück für Stück\, wie eine langsam aus dem Vergessen aufsteigende Erinnerung\, entrollt sich die Geschichte ihrer Herkunft wie ein dunkles Märchen. Dort hat der Eifersuchtswahn ihres Vaters ihre Mutter im Unglück erstarren lassen und tiefe Reue über diese Schuld hält ihren Vater gefangen. Auf der Suche nach ihrer Identität und ihrer Zukunft beleuchtet Perdita ihr „Familien-Märchen“. Die Inszenierung entwirft mit Musik\, atmosphärischen Geräuschen und Tiermasken einen märchenhaften Erzählraum\, in dem sich die ganze Bandbreite der menschlichen Gefühlswelt entfalten kann. \nPatricia Benecke\, die in der Spielzeit 2018/19 für die bremer shakespeare company Mike Bartletts »Love Love Love« inszenierte\, hat Regie geführt. \nCopyright Text & Bild: Shakespeare Company
URL:https://dev.our-events.de/event/das-wintermaerchen-von-william-shakespeare-von-der-shakespear-company-im-buergerpark-melcherswiese/
LOCATION:Bürgerpark\, Bürgerpark\, Bremen\, 28209
CATEGORIES:Theater
ATTACH;FMTTYPE=image/png:https://dev.our-events.de/wp-content/uploads/2025/03/Unterstuetzer_Shakespeare-Company.png
END:VEVENT
BEGIN:VEVENT
DTSTART;TZID=Europe/Berlin:20250822T210000
DTEND;TZID=Europe/Berlin:20250822T230000
DTSTAMP:20260423T150454
CREATED:20250710T134218Z
LAST-MODIFIED:20250710T134232Z
UID:40542-1755896400-1755903600@dev.our-events.de
SUMMARY:Melrock - American Rock\, Bremen im Meisenfrei
DESCRIPTION:Heute Abend treffen im Blues Club Mel K.\, Sängerin aus South Dakota und vier Musiker aus heimischen Gefilden aufeinander und teilen mit uns ihre Leidenschaft für Rock\, Americana und Rhythm and Blues: Crazy Horse meets Bremer Stadtmusikanten\, zusammen sind sie „Melrock“! Auf dem Programm stehen ausgesuchte Titel großer amerikanischer Sängerinnen & Musikerinnen: Joan Jett\, Tina Turner\, Aretha Franklin\, Suzi Quatro\, Miley Cyrus oder Bette Midler. Komplettiert wird die Setlist mit Stücken aus dem goldenen Zeitalter der Rockmusik von Bands wie Led Zeppelin\, AC/DC\, Rolling Stones sowie den Hits von John Mellenkamp\, Tom Petty und Bob Seeger und vielen anderen. Und wir können versprechen: niemand singt die Songs so wie Mel K.! \nCopyright Text & Bild: Meisenfrei
URL:https://dev.our-events.de/event/melrock-american-rock-bremen-im-meisenfrei/
LOCATION:Meisenfrei\, Hankenstraße 18\, Bremen\, 28195
CATEGORIES:Konzert
ATTACH;FMTTYPE=image/jpeg:https://dev.our-events.de/wp-content/uploads/2025/07/2025-08-22-Melrock.jpg
END:VEVENT
END:VCALENDAR