BEGIN:VCALENDAR
VERSION:2.0
PRODID:-//Our Events - ECPv6.15.20//NONSGML v1.0//EN
CALSCALE:GREGORIAN
METHOD:PUBLISH
X-ORIGINAL-URL:https://dev.our-events.de
X-WR-CALDESC:Veranstaltungen für Our Events
REFRESH-INTERVAL;VALUE=DURATION:PT1H
X-Robots-Tag:noindex
X-PUBLISHED-TTL:PT1H
BEGIN:VTIMEZONE
TZID:Europe/Berlin
BEGIN:DAYLIGHT
TZOFFSETFROM:+0100
TZOFFSETTO:+0200
TZNAME:CEST
DTSTART:20240331T010000
END:DAYLIGHT
BEGIN:STANDARD
TZOFFSETFROM:+0200
TZOFFSETTO:+0100
TZNAME:CET
DTSTART:20241027T010000
END:STANDARD
BEGIN:DAYLIGHT
TZOFFSETFROM:+0100
TZOFFSETTO:+0200
TZNAME:CEST
DTSTART:20250330T010000
END:DAYLIGHT
BEGIN:STANDARD
TZOFFSETFROM:+0200
TZOFFSETTO:+0100
TZNAME:CET
DTSTART:20251026T010000
END:STANDARD
BEGIN:DAYLIGHT
TZOFFSETFROM:+0100
TZOFFSETTO:+0200
TZNAME:CEST
DTSTART:20260329T010000
END:DAYLIGHT
BEGIN:STANDARD
TZOFFSETFROM:+0200
TZOFFSETTO:+0100
TZNAME:CET
DTSTART:20261025T010000
END:STANDARD
END:VTIMEZONE
BEGIN:VEVENT
DTSTART;TZID=Europe/Berlin:20250825T180000
DTEND;TZID=Europe/Berlin:20250825T203000
DTSTAMP:20260421T123735
CREATED:20250806T164544Z
LAST-MODIFIED:20250806T164900Z
UID:41545-1756144800-1756153800@dev.our-events.de
SUMMARY:SHAKESPEARE IM PARK: EIN SOMMERNACHTSTRAUM mit der shakespear company im Bürgerpark
DESCRIPTION:Von William Shakespeare. In einer Version für 4 Schauspieler:innen. \nIn Athen hat wahre Liebe einen schweren Stand – kein Wunder: ihr Herrscher Theseus hat seine Braut Hippolyta als Kriegsbeute mitgebracht und zwingt sie zur Heirat. Auch Hermia soll zur Heirat gezwungen werden – mit Demetrius. Doch Hermia weigert sich\, Demetrius zu heiraten\, sie liebt Lysander und flieht mit ihm des Nachts in den Wald. Doch Demetrius ist ihnen auf den Fersen\, allerdings heftet sich an seine Fersen auch jemand. Helena\, die ihn schon lange vergeblich anhimmelt. Aber was kann schon gut werden in diesem nächtlichen Wald\, dessen Herrscher\, der Elfenkönig Oberon heillos zerstritten ist mit seiner Frau Titania – statt Liebe ist nur Eifersucht zwischen den beiden!\nShakespeare hat diese vielfache Liebesverwirrung in eine zauberhafte Komödie verwandelt\, in der Humor und sehnsuchtsvoller Traum magisch verschmelzen.\nDas Drama um die vier Liebenden\, die im nächtlichen Wald von dem zerstrittenen Elfenkönigspaar ins „Bockshorn“ gejagt werden\, ist in den vergangenen Jahrzehnten bereits dreimal von der bremer shakespeare company neu inszeniert worden. Mit Patricia Benecke (“Das Wintermärchen\, „Der seltsame Fall der Prudencia Hart“) als Regisseurin bringt sie die beliebte Traum-Komödie mit nur vier Schauspieler:innen neu auf die Bühne. Mit einfachen Requisiten und ein paar Musikinstrumenten wirft sich das Quartett unter dem Motto „Wenig Materialaufwand\, dafür umso mehr Fantasie“ in die rasant-wendigen Wechsel der Figuren und Spielsituationen und zieht die Zuschauer in Shakespeares sommernächtliche Licht- und Schattenwelten. Dauer: 2:20 inkl. Pause \nCopyright Text & Bild: Shakespeare Company
URL:https://dev.our-events.de/event/shakespeare-im-park-ein-sommernachtstraum-mit-der-shakespear-company-im-buergerpark/
LOCATION:Melcherswiese im Bürgerpark\, Bremen\, 28209
CATEGORIES:Theater
ATTACH;FMTTYPE=image/png:https://dev.our-events.de/wp-content/uploads/2025/03/Unterstuetzer_Shakespeare-Company.png
END:VEVENT
BEGIN:VEVENT
DTSTART;TZID=Europe/Berlin:20250825T193000
DTEND;TZID=Europe/Berlin:20250825T213000
DTSTAMP:20260421T123735
CREATED:20250514T131823Z
LAST-MODIFIED:20250814T131632Z
UID:38662-1756150200-1756157400@dev.our-events.de
SUMMARY:TO HELL WITH PARADISE -GASTSPIEL DES THEATERS BATIDA (DK) von der shakespear company Bürgerpark/Melcherswiese
DESCRIPTION:When Adam meets Juliet\, it is not just the story of two young people with a taste for forbidden fruit. It is at the same time two of world literature’s greatest dramas – The Old Testament and Shakespeare’s Romeo and Juliet – which are shaken into an explosive\, juicy\, socially satirical cocktail. And yes\, it all takes place here in Paradis\, but Adam is from Jutland and Julie is from Tingbjerg. Clear division lines are drawn. The band’s name is “Lawyers from Hell” and it doesn’t give up when “hygge” Denmark gets a well-deserved spanking in a crazy theater concert! 8 of Batida’s musical actors shake it all up. Put on your dancing shoes\, because no one can sit still when Paradise is sent to Hell. \nTheater mit Live-Musik. Gastspiel des Theaters BATIDA (DK) für Zuschauer:innen ab 10 Jahre. In englischer Sprache. \nCopyright Text & Bild: Shakespeare Company
URL:https://dev.our-events.de/event/to-hell-with-paradise-gastspiel-des-theaters-batida-dk-von-der-shakespear-companyauf-dem-goetheplatz/
LOCATION:Bürgerpark\, Bürgerpark\, Bremen\, 28209
CATEGORIES:Theater
ATTACH;FMTTYPE=image/png:https://dev.our-events.de/wp-content/uploads/2025/03/Unterstuetzer_Shakespeare-Company.png
END:VEVENT
END:VCALENDAR