BEGIN:VCALENDAR
VERSION:2.0
PRODID:-//Our Events - ECPv6.15.20//NONSGML v1.0//EN
CALSCALE:GREGORIAN
METHOD:PUBLISH
X-WR-CALNAME:Our Events
X-ORIGINAL-URL:https://dev.our-events.de
X-WR-CALDESC:Veranstaltungen für Our Events
REFRESH-INTERVAL;VALUE=DURATION:PT1H
X-Robots-Tag:noindex
X-PUBLISHED-TTL:PT1H
BEGIN:VTIMEZONE
TZID:Europe/Berlin
BEGIN:DAYLIGHT
TZOFFSETFROM:+0100
TZOFFSETTO:+0200
TZNAME:CEST
DTSTART:20240331T010000
END:DAYLIGHT
BEGIN:STANDARD
TZOFFSETFROM:+0200
TZOFFSETTO:+0100
TZNAME:CET
DTSTART:20241027T010000
END:STANDARD
BEGIN:DAYLIGHT
TZOFFSETFROM:+0100
TZOFFSETTO:+0200
TZNAME:CEST
DTSTART:20250330T010000
END:DAYLIGHT
BEGIN:STANDARD
TZOFFSETFROM:+0200
TZOFFSETTO:+0100
TZNAME:CET
DTSTART:20251026T010000
END:STANDARD
BEGIN:DAYLIGHT
TZOFFSETFROM:+0100
TZOFFSETTO:+0200
TZNAME:CEST
DTSTART:20260329T010000
END:DAYLIGHT
BEGIN:STANDARD
TZOFFSETFROM:+0200
TZOFFSETTO:+0100
TZNAME:CET
DTSTART:20261025T010000
END:STANDARD
END:VTIMEZONE
BEGIN:VEVENT
DTSTART;TZID=Europe/Berlin:20250829T173000
DTEND;TZID=Europe/Berlin:20250830T230000
DTSTAMP:20260421T222958
CREATED:20250725T094453Z
LAST-MODIFIED:20250725T094453Z
UID:40957-1756488600-1756594800@dev.our-events.de
SUMMARY:15. Überseefestival in Bremen
DESCRIPTION:Bremen feiert seine Musikszene! Das Festivalgelände wird am Freitag um 17:30 Uhr und Samstag um 16:30 Uhr geöffnet. \nHier gibt es weitere Infos.
URL:https://dev.our-events.de/event/15-ueberseefestival-in-bremen/
LOCATION:Hansator\, Hansator 1\, Bremen\, 28217
CATEGORIES:Musik
ATTACH;FMTTYPE=image/png:https://dev.our-events.de/wp-content/uploads/2025/07/Logo_Profilbild25-e1753436623132.png
END:VEVENT
BEGIN:VEVENT
DTSTART;TZID=Europe/Berlin:20250301T110000
DTEND;TZID=Europe/Berlin:20250301T160000
DTSTAMP:20260421T222958
CREATED:20250228T160841Z
LAST-MODIFIED:20250823T065010Z
UID:35915-1740826800-1740844800@dev.our-events.de
SUMMARY:Eintrittskarten Vegesacker Geschichtenhaus - Gültig zu den Öffnungszeiten
DESCRIPTION:Das Vegesacker Geschichtenhaus macht die Stadtgeschichte von Bremen-Nord lebendig. In kleinen Theaterszenen entführen unsere Darsteller Sie in das Vegesack des 19. Jahrhunderts.  \nBesuchen Sie uns auf der legendären Lange-Werft\, sprechen Sie mit den Handwerkern über die Arbeit in dieser Zeit oder trinken Sie auf ein langes Leben in der Hafenschänke und vor allem: Lassen Sie sich nicht erwischen\, wenn der Hafenmeister wieder seine Runde macht! \nGeöffnet haben wir immer mittwochs bis samstags zwischen 11 und 16 Uhr (letzter Einlass um 15 Uhr). Für Schulklassen öffnen wir auf Anfrage gerne auch früher. \nEine Spielführung dauert zur Zeit 30 – 45 Minuten. Zum Abschluss haben Sie die Möglichkeit bei Kaffee und süßem “Havenfutter” im GalerieCafe oder auf der Dachterrasse zu verweilen. \nFotos: Matthias Sabelhaus \nBitte aktiviere JavaScript in deinem Browser\, um dieses Formular fertigzustellen.Bitte aktiviere JavaScript in deinem Browser\, um dieses Formular fertigzustellen.Bitte die Anzahl zu reservierender Karten auswählenIch bin *KulturgastKulturbegleiter:inAnrede Interessent:in *FrauHerrDiversVorname  *Name *Straße & Hausnummer *Postleitzahl  *Ort *Telefon Nr. der Interessent:in *E-Mail  *Ich benötige Unterstützung für den Besuch der Veranstaltung *janeinWelche Form der Unterstützung  benötigen Sie?Ich möchte den Programm Newsletter der Kulturtafel abonnieren. Das kann ich jederzeit rückgängig machen.janeinDSGVO Einverständnis *Ich willige ein\, dass diese Website meine übermittelten Informationen speichert\, sodass meine Anfrage beantwortet werden kann.Angaben bestätigen  \n 
URL:https://dev.our-events.de/event/eintrittskarten-fuer-das-vegesacker-geschichtenhaus-2/
LOCATION:Vegesacker Geschichtenhaus\, Zum Alten Speicher 5a\, Bremen\, 28759
CATEGORIES:Museum,Theater
ATTACH;FMTTYPE=image/png:https://dev.our-events.de/wp-content/uploads/2025/02/geschichtenhaus.png
END:VEVENT
BEGIN:VEVENT
DTSTART;TZID=Europe/Berlin:20250830T113000
DTEND;TZID=Europe/Berlin:20250830T123000
DTSTAMP:20260421T222958
CREATED:20250710T131041Z
LAST-MODIFIED:20250710T131058Z
UID:40509-1756553400-1756557000@dev.our-events.de
SUMMARY:Die Abenteuer von Rosetta und Philae -Kinderprogramm im Olbers-Planetarium
DESCRIPTION:Es war einmal eine Raumsonde namens Rosetta. Eines Nachts wurde sie in den Himmel geschossen. Vor ihr lag eine lange\, lange Reise\, auf der die Geheimnisse unseres Sonnensystems gelüftet werden sollten. Mit an Bord war Rosettas ständiger Begleiter\, der Lander Philae. Ziel der Reise war ein Komet mit dem Namen “67P/Tschurjumow-Gerassimenko”.\nAuf der langen Reise von der Erde ins Weltall lernst Du von Rosetta und Philae\, was es braucht\, um einen Kometen aus der Nähe zu erkunden. Außerdem erfährst Du\, was man mit Missionen wie Rosetta alles über Kometen herausfinden kann. \nEmpfehlung ab 6 Jahre. \nCopyright Text & Bild: Olbers-Planetarium
URL:https://dev.our-events.de/event/die-abenteuer-von-rosetta-und-philae-kinderprogramm-im-olbers-planetarium/
LOCATION:Olbers-Planetarium Bremen\, Werderstrasse 73\, Bremen\, 28199
CATEGORIES:Planetarium
ATTACH;FMTTYPE=image/png:https://dev.our-events.de/wp-content/uploads/2025/07/Rosetta.png
END:VEVENT
BEGIN:VEVENT
DTSTART;TZID=Europe/Berlin:20250830T120000
DTEND;TZID=Europe/Berlin:20250830T180000
DTSTAMP:20260421T222958
CREATED:20250722T131730Z
LAST-MODIFIED:20250722T131817Z
UID:40862-1756555200-1756576800@dev.our-events.de
SUMMARY:Sprechstunde / Vorstellung / Anmeldung Kulturtafel auf dem Straßenfest in der Bornstraße
DESCRIPTION:Ihr habt von der Kulturtafel gehört und möchtet mehr darüber erfahren? / Ви чули про Kulturtafel і хотіли б дізнатися більше? / Have you heard about the Kulturtafel and would like to find out more? / Vous avez entendu parler de la Kulturtafel et vous souhaitez en savoir plus ? \n\nWir erklären euch\, was die Kulturtafel ist\, wie sie funktioniert und wer teilnehmen kann.\nМи пояснюємо\, що таке Kulturtafel\, як він працює і хто може взяти в ньому участь.\nWe explain what the Kulturtafel is\, how it works and who can take part.\nNous vous expliquons ce qu’est le tableau culturel\, comment il fonctionne et qui peut y participer.\n\nNoch kein Mitglied bei der Kulturtafel? / Not yet a member of the Kulturtafel? / Ще не є членом Kulturtafel? / Pas encore membre de la Kulturtafel ? \n\nIn unseren Sprechstunden könnt ihr euch für die Kulturtafel registrieren. Wir helfen euch dabei.\nВи можете зареєструватися на Kulturtafel під час наших консультацій. Ми допоможемо вам у цьому.\nYou can register for the Kulturtafel during our consultation hours. We will help you with this.\nLors de nos permanences\, vous pouvez vous inscrire au tableau culturel. Nous vous aiderons à le faire.\n\nIhr möchtet\, dass wir euch bei der Reservierung einer Veranstaltung helfen? / Хочете\, щоб ми допомогли вам забронювати захід? / Would you like us to help you book an event? / Vous souhaitez que nous vous aidions à réserver un événement ? \n\nWir helfen euch dabei eine passende Veranstaltung für euch zu finden und eine Reservierung vorzunehmen.\nМи допоможемо вам знайти відповідний для вас захід і зробити бронювання.\nWe will help you find a suitable event for you and make a reservation.\nNous vous aidons à trouver un événement qui vous convient et à faire une réservation.\n\nWo findet ihr uns? Auf unserem Stand in der Bornstraße. \nWhere can you find us? At our stand in the Bornstraßel. \nДе нас можна знайти? біля входу до Seebühne\, де квитки видає Kulturtafel. \n 
URL:https://dev.our-events.de/event/sprechstunde-vorstellung-anmeldung-kulturtafel-auf-dem-strassenfest-in-der-bornstrasse/
LOCATION:Bornstraße\, Bornstraße\, Bremen\, 28195
CATEGORIES:Sprechstunde Kulturtafel
ATTACH;FMTTYPE=application/pdf:https://dev.our-events.de/wp-content/uploads/2025/07/Flyer-Bornstrassenfest-2025.pdf
END:VEVENT
BEGIN:VEVENT
DTSTART;TZID=Europe/Berlin:20250830T120000
DTEND;TZID=Europe/Berlin:20250830T180000
DTSTAMP:20260421T222958
CREATED:20250722T132700Z
LAST-MODIFIED:20250722T132700Z
UID:40869-1756555200-1756576800@dev.our-events.de
SUMMARY:Straßenfest in der Bornstraße
DESCRIPTION:Auf ein Neues: Zwischen 12-18 Uhr findet in der Bornstraße ein Straßenfest statt. Zum Programm gehören Musik\, Vorführungen\, Kinder und Jugendangebote. \n 
URL:https://dev.our-events.de/event/strassenfest-in-der-bornstrasse/
LOCATION:Bornstraße\, Bornstraße\, Bremen\, 28195
CATEGORIES:Party,Spiele spielen,Treffpunkt
ATTACH;FMTTYPE=application/pdf:https://dev.our-events.de/wp-content/uploads/2025/07/Flyer-Bornstrassenfest-2025-1.pdf
END:VEVENT
BEGIN:VEVENT
DTSTART;TZID=Europe/Berlin:20250830T133000
DTEND;TZID=Europe/Berlin:20250830T150000
DTSTAMP:20260421T222958
CREATED:20250626T170826Z
LAST-MODIFIED:20250626T170852Z
UID:39877-1756560600-1756566000@dev.our-events.de
SUMMARY:Waldgarten-Führung beim NABU Bremen
DESCRIPTION:Was sind Waldgärten und was macht diese so besonders? Bei einer Führung durch unseren Waldgarten zeigen wir Euch das mehrschichtige Anbausystem aus Obst- und Nussbäumen\, Beerensträuchern\, Kräutern und Bodendeckern. Dabei erklären wir\, wie Waldgärten zur Artenvielfalt und dem Klimaschutz beitragen und geben einen kleinen Überblick in die Planung und Entstehung unseres Waldgartens.Die Führung findet bei jedem Wetter statt! \nCopyright Text & Bild: NABU Bremen
URL:https://dev.our-events.de/event/waldgarten-fuehrung-beim-nabu-bremen-2/
LOCATION:NABU Naturschutztreff\, Vahrer Feldweg 185\, Bremen\, 28309
CATEGORIES:Spaziergänge
ATTACH;FMTTYPE=image/jpeg:https://dev.our-events.de/wp-content/uploads/2024/01/NABU_Logo_RGB_bremen.jpeg
END:VEVENT
BEGIN:VEVENT
DTSTART;TZID=Europe/Berlin:20250830T193000
DTEND;TZID=Europe/Berlin:20250830T220000
DTSTAMP:20260421T222958
CREATED:20250630T102622Z
LAST-MODIFIED:20250630T102622Z
UID:40015-1756582200-1756591200@dev.our-events.de
SUMMARY:Risikofreude! - Musikfest Bremen in der Glocke
DESCRIPTION:Ludwig van Beethoven: Violinkonzert D-Dur op. 61\nDmitri Schostakowitsch: Sinfonie Nr. 5 d-Moll op. 47 \nDas englische Aurora Orchestra und sein Dirigent Nicholas Collon scheren sich um keine Konventionen! 2019 sorgten sie für ein furioses Musikfest-Finale\, als sie Hector Berlioz‘ Symphonie fantastique auswendig im Stehen spielten – und das Publikum in der Glocke zu Begeisterungsstürmen hinrissen. Das könnte man als Effekthascherei abtun\, ist es aber nicht! Diese für jedes Orchestermitglied höchst fordernde Musizierhaltung beflügelt nämlich einen gemeinsamen Spirit und ermöglicht wendig und einander zugewandt einen unverstellten Blickkontakt. Auf ein Neues also mit Schostakowitschs fünfter Sinfonie! 1937 in Leningrad uraufgeführt\, war sie keineswegs ein rein der Rehabilitation dienendes Werk\, nachdem der Komponist wegen seiner Oper »Lady Macbeth von Mzensk« harten Anfeindungen ausgesetzt war. Vielmehr gilt sie mit ihrer Doppelbödigkeit heute als eine subtile Anprangerung der Brutalität des stalinistischen Regimes. Die risikofreudige Philosophie des Orchesters kommt bestimmt auch der gefeierten Violinistin Alena Baeva entgegen\, die mit ihrer magnetischen Präsenz und ihrem dynamischen\, energiegeladenen Spiel eine Garantin für neue Perspektiven auf Beethovens Violinkonzert ist! \nAurora Orchestra\nAlena Baeva Violine\nNicholas Collon Dirigent \n\n\nCopyright Text: Musikfest Bremen \nCopyright Bild: Marco Borggreve
URL:https://dev.our-events.de/event/risikofreude-musikfest-bremen-in-der-glocke/
LOCATION:Die Glocke\, Domsheide 6-8\, Bremen\, 28195
CATEGORIES:Klassik,Konzert,Musik
ATTACH;FMTTYPE=image/jpeg:https://dev.our-events.de/wp-content/uploads/2025/06/Alena-Baeva-5-c-Marco-Borggreve-1-e1740752725335-2048x1155-1.jpeg
END:VEVENT
BEGIN:VEVENT
DTSTART;TZID=Europe/Berlin:20250830T210000
DTEND;TZID=Europe/Berlin:20250830T230000
DTSTAMP:20260421T222958
CREATED:20250627T111153Z
LAST-MODIFIED:20250627T111153Z
UID:39907-1756587600-1756594800@dev.our-events.de
SUMMARY:Ancient Curse  Heavy Metal\, Bremen im Meisenfrei
DESCRIPTION:Ancient Curse sind inzwischen eine Institution in Sachen Schwermetall. Kenner der Bremer Metal-Szene wissen\, dass sie Ende letzten Jahrtausends eine kleine Pause eingelegt haben\, die aber keineswegs geschadet hat – ganz im Gegenteil. Diese Herren\, die doch tatsächlich den Metal nach Kuba getragen haben\, sind noch besser geworden. Hier kommt Progressive Power Metal mit messerscharfen Riffs\, energiegeladenen Powerparts\, melancholischen akustischen Zwischenteilen\, ausdrucksstarken und dynamischen Vocals und komplexen Arrangements – alles entwickelt in langjährigem Zusammenspiel. Diese Truppe zeichnet sich durch Teamarbeit und eine höchst professionelle Einstellung zur Musik aus. Apropos Auszeichnungen: Die haben die Herren natürlich auch schon eingeheimst. Von Profis für Genießer \nCopyright Text & Bild: Meisenfrei
URL:https://dev.our-events.de/event/ancient-curse-heavy-metal-bremen-im-meisenfrei/
LOCATION:Meisenfrei\, Hankenstraße 18\, Bremen\, 28195
CATEGORIES:Konzert,Rock / Pop / Jazz / Country
ATTACH;FMTTYPE=image/jpeg:https://dev.our-events.de/wp-content/uploads/2025/06/2025-08-30-AncientCurse.jpg
END:VEVENT
END:VCALENDAR