BEGIN:VCALENDAR
VERSION:2.0
PRODID:-//Our Events - ECPv6.15.20//NONSGML v1.0//EN
CALSCALE:GREGORIAN
METHOD:PUBLISH
X-WR-CALNAME:Our Events
X-ORIGINAL-URL:https://dev.our-events.de
X-WR-CALDESC:Veranstaltungen für Our Events
REFRESH-INTERVAL;VALUE=DURATION:PT1H
X-Robots-Tag:noindex
X-PUBLISHED-TTL:PT1H
BEGIN:VTIMEZONE
TZID:Europe/Berlin
BEGIN:DAYLIGHT
TZOFFSETFROM:+0100
TZOFFSETTO:+0200
TZNAME:CEST
DTSTART:20240331T010000
END:DAYLIGHT
BEGIN:STANDARD
TZOFFSETFROM:+0200
TZOFFSETTO:+0100
TZNAME:CET
DTSTART:20241027T010000
END:STANDARD
BEGIN:DAYLIGHT
TZOFFSETFROM:+0100
TZOFFSETTO:+0200
TZNAME:CEST
DTSTART:20250330T010000
END:DAYLIGHT
BEGIN:STANDARD
TZOFFSETFROM:+0200
TZOFFSETTO:+0100
TZNAME:CET
DTSTART:20251026T010000
END:STANDARD
BEGIN:DAYLIGHT
TZOFFSETFROM:+0100
TZOFFSETTO:+0200
TZNAME:CEST
DTSTART:20260329T010000
END:DAYLIGHT
BEGIN:STANDARD
TZOFFSETFROM:+0200
TZOFFSETTO:+0100
TZNAME:CET
DTSTART:20261025T010000
END:STANDARD
END:VTIMEZONE
BEGIN:VEVENT
DTSTART;TZID=Europe/Berlin:20250824T110000
DTEND;TZID=Europe/Berlin:20250824T170000
DTSTAMP:20260421T204301
CREATED:20250807T113312Z
LAST-MODIFIED:20250807T113549Z
UID:41596-1756033200-1756054800@dev.our-events.de
SUMMARY:Eintrittskarten Overbeck-Museum: In den Bergen - Karten täglich gültig zu den Öffnungszeiten
DESCRIPTION:Die Karten sind  täglich zu den Öffnungszeiten gültig. Letzter Tag für eine Ticket-Reservierung ist der 02.11.2025. \n\n\n\n\n\n\nDie aus Bremen stammende Malerin Katrin Ullmann lebt und arbeitet im Wallis in der Schweiz. Ihre Ölgemälde und Aquarelle der Schweizer Bergwelt zeigen die vielfältige Schönheit der Alpenregion mit ihren markanten Gipfeln und scharfen Graten\, mit grünen Tälern und klaren Bergseen. \n\n\n\n\n\n\nHier\, wo die Landschaft mehrere tausend Meter in die Höhe Richtung Himmel vorstößt\, verbinden sich Wolken und Berggipfel zu einer überwältigenden Einheit\, die einzigartige Farben und Lichtverhältnisse hervorbringt. Aber auch einzelne Seenlandschaften in Finnland und Norwegen und norddeutsche Wolkenhimmel hält die Malerin in Bildern fest. \n\n\n\n\n\n\nErgänzt wird die Ausstellung durch Landschaftsgemälde von Fritz und Hermine Overbeck aus der Zeit um 1900. Neben einigen norddeutschen Landschaften stehen auch hier die Schweizer Berge im Mittelpunkt. Denn was kaum jemand weiß: Fritz Overbeck malte im Winter 1908/09 mehrere Wochen lang in der Nähe von Davos. \n\n\n\n\n\n\n\nBitte aktiviere JavaScript in deinem Browser\, um dieses Formular fertigzustellen.Bitte aktiviere JavaScript in deinem Browser\, um dieses Formular fertigzustellen.Bitte das Datum der Veranstaltung angeben *Bitte die Anzahl der zu reservierenden Tickets auswählenIch bin *KulturgastKulturbegleiter:inAnrede Interessent:in *FrauHerrDiversVorname  *Name *E-Mail  *Ich benötige Unterstützung für den Besuch der Veranstaltung *janeinIch möchte den Programm Newsletter der Kulturtafel abonnieren. Das kann ich jederzeit rückgängig machen.janeinDSGVO Einverständnis *Ich willige ein\, dass diese Website meine übermittelten Informationen speichert\, sodass meine Anfrage beantwortet werden kann.Angaben bestätigen
URL:https://dev.our-events.de/event/eintrittskarten-overbeck-museum-in-den-bergen-karten-taeglich-gueltig-zu-den-oeffnungszeiten/
LOCATION:Overbeck Museum\, Alte Hafenstraße 30\, Bremen\, Bremen\, 28757\, Deutschland
CATEGORIES:Ausstellung,Grohn
ATTACH;FMTTYPE=image/png:https://dev.our-events.de/wp-content/uploads/2024/09/Overbeck-Museum.png
END:VEVENT
BEGIN:VEVENT
DTSTART;TZID=Europe/Berlin:20250831T150000
DTEND;TZID=Europe/Berlin:20250831T160000
DTSTAMP:20260421T204301
CREATED:20250710T131608Z
LAST-MODIFIED:20250710T131625Z
UID:40517-1756652400-1756656000@dev.our-events.de
SUMMARY:Die Sterne über Bremen im Olbers-Planetarium
DESCRIPTION:Entdecken Sie den Sternenhimmel über Bremen!\nWelche Sterne kann ich in den nächsten Nächten von Bremen aus sehen? Wie finde ich den Polarstern und damit die Nordrichtung? Welche Planeten stehen derzeit am Himmel? Was gibt es außer den Sternen noch am Nachthimmel zu beobachten? Wir zeigen\, was es alles am Himmel zu Entdecken gibt! \nEmpfehlung ab 8 Jahre. \nCopyright Text & Bild: Olbers-Planetarium
URL:https://dev.our-events.de/event/die-sterne-ueber-bremen-im-olbers-planetarium-3/
LOCATION:Olbers-Planetarium Bremen\, Werderstrasse 73\, Bremen\, 28199
CATEGORIES:Planetarium
ATTACH;FMTTYPE=image/png:https://dev.our-events.de/wp-content/uploads/2025/06/SterneHB-2.png
END:VEVENT
BEGIN:VEVENT
DTSTART;TZID=Europe/Berlin:20250831T183000
DTEND;TZID=Europe/Berlin:20250831T200000
DTSTAMP:20260421T204301
CREATED:20250818T094427Z
LAST-MODIFIED:20250819T090408Z
UID:42113-1756665000-1756670400@dev.our-events.de
SUMMARY:JOUJOUVILLE im Theater Bremen
DESCRIPTION:von Samir Akika / Unusual Symptoms \nVon „Funny\, how?“ bis „Fools At Work“ hat Hauschoreograf Samir Akika bereits so manchen Winkel zwischen persönlicher Geschichte\, künstlerischem Experiment und Tanzspektakel ausgefüllt. In „Joujouville“ führt er das Ensemble von Unusual Symptoms nun an einen imaginären Ort des Spiels und der Fantasie. Mit Humor und Absurdität besuchen die Tänzer:innern einen Raum der Kindheit\, in dem nicht die Regeln der Vernunft\, sondern die Freiheit der Vorstellungskraft das Zusammenleben bestimmen. Doch wie unschuldig kann man spielen\, wenn man kein Kind mehr ist? Und was kommt zum Vorschein\, wenn über die vertrauten Orte der Imagination die Nacht hereinbricht?
URL:https://dev.our-events.de/event/joujouville-im-theater-bremen/
LOCATION:Theater Bremen\, Goetheplatz 1-3\, Bremen\, Bremen\, 28203\, Deutschland
CATEGORIES:Theater
ATTACH;FMTTYPE=image/jpeg:https://dev.our-events.de/wp-content/uploads/2025/08/IMGL2148-scaled.jpg
ORGANIZER;CN="Theater Bemen":MAILTO:marketing@theaterbremen.de
END:VEVENT
BEGIN:VEVENT
DTSTART;TZID=Europe/Berlin:20250831T190000
DTEND;TZID=Europe/Berlin:20250831T210000
DTSTAMP:20260421T204301
CREATED:20250723T134051Z
LAST-MODIFIED:20250723T134104Z
UID:40906-1756666800-1756674000@dev.our-events.de
SUMMARY:Kumbia Queers im Lagerhaus
DESCRIPTION:Die unverwechselbaren und unvergesslichen Kumbia Queers aus Buenos Aires sind wieder auf Tour in Europa! Das non-binary und lesbische Quintett kreiert aus dem düsteren\, elektronisch geprägten Subgenre der Cumbia Villera mit treibendem Gitarrenrock eine einzigartige dynamische Fusion aus traditionellen und modernen Klängen. Die Band beschreibt ihren Stl als 1000% Tropi Punk – mit einer wilden Mischung aus afrokubanischen und lateinamerikanischen Cumbia-Einfüssen\, Queerness und Punk-Spirit interpretieren die Musiker*innen lateinamerikanischen Herzschmerz und Macho- Gehabe neu und bringen Spaß und Politk in ihrem eigenen fesselnden Stl zusammen. Präsentiert von Cosmo. \nIm Saal – Einlass 18 Uhr \nCopyright Text & Bild: Lagerhaus
URL:https://dev.our-events.de/event/kumbia-queers-im-lagerhaus/
LOCATION:Kulturzentrum Lagerhaus\, Schildstraße 12-19\, Bremen\, 28203
CATEGORIES:Konzert
ATTACH;FMTTYPE=image/png:https://dev.our-events.de/wp-content/uploads/2025/03/dreieck_kultur_100-6.png
END:VEVENT
BEGIN:VEVENT
DTSTART;TZID=Europe/Berlin:20250831T193000
DTEND;TZID=Europe/Berlin:20250831T220000
DTSTAMP:20260421T204301
CREATED:20250630T103512Z
LAST-MODIFIED:20250630T103512Z
UID:40021-1756668600-1756677600@dev.our-events.de
SUMMARY:Zu neuen Ufern - Musikfest Bremen in der Glocke
DESCRIPTION:Das Chamber Orchestra of Europe (COE)\, 1981 von ehemaligen Mitgliedern des European Community Youth Orchestra gegründet\, zählt längst zu den international führenden Klangkörpern. Seit 1994 ist dieser immer noch als projektbezogenes Independant-Ensemble organisierte Klangkörper kontinuierlich beim Musikfest zu Gast\, dieses Jahr bereits zum zwölften Mal. Mit Robin Ticciati\, dem Chefdirigenten des Deutschen Symphonie-Orchesters Berlin\, Music Director der Glyndebourne Festival Opera und frisch ernannten Ehrenmitglied des COE\, erklingt ein Programm\, das den Reichtum der Musik der ersten Hälfte des 20. Jahrhunderts zeigt. Alle auf dem Programm stehenden Komponisten hatten Tuchfühlung mit den verschiedensten musikalischen Strömungen\, agierten also durchaus stilpluralistisch\, stellten in ihren Werken von großer Ausdrucksdichte die Tonalität dennoch nie infrage. Wenn dann noch die südafrikanische Sopranistin Golda Schultz bei ihrem Musikfest- Debüt mit ihrer herrlich warmen\, dabei extrem ausdrucksstarken und technisch makellos geführten Stimme Songs und Arien von Gershwin\, Weill\, Korngold oder Bernstein singt\, ist das Glück perfekt! \nProgramm:\nFranz Schreker: Kammersinfonie in einem Satz\nGeorge Gershwin: »By Strauss« und »Summertime«\nKurt Weill: »Youkali« und »Lost in the Stars«\nErich Wolfgang Korngold: »Glück\, das mir verblieb« aus »Die tote Stadt«\nLeonard Bernstein: »Somewhere« aus »West Side Story«\nIgor Strawinsky: »No Word from Tom« aus »The Rake’s Progress« und Ballettsuite »Der Feuervogel« (1945) \nChamber Orchestra of Europe\nGolda Schultz Sopran\nRobin Ticciati Dirigent \nCopyright Text: Musikfest Bremen \n\nCopyright Bild: Vittorio Greco
URL:https://dev.our-events.de/event/zu-neuen-ufern-musikfest-bremen-in-der-glocke/
LOCATION:Die Glocke\, Domsheide 6-8\, Bremen\, 28195
CATEGORIES:Klassik,Konzert,Musik
ATTACH;FMTTYPE=image/jpeg:https://dev.our-events.de/wp-content/uploads/2025/06/Golda-Schultz-1-c-Vittorio-Greco-1-scaled-e1740755937570-2048x1154-1.jpg
END:VEVENT
END:VCALENDAR