BEGIN:VCALENDAR
VERSION:2.0
PRODID:-//Our Events - ECPv6.15.20//NONSGML v1.0//EN
CALSCALE:GREGORIAN
METHOD:PUBLISH
X-WR-CALNAME:Our Events
X-ORIGINAL-URL:https://dev.our-events.de
X-WR-CALDESC:Veranstaltungen für Our Events
REFRESH-INTERVAL;VALUE=DURATION:PT1H
X-Robots-Tag:noindex
X-PUBLISHED-TTL:PT1H
BEGIN:VTIMEZONE
TZID:Europe/Berlin
BEGIN:DAYLIGHT
TZOFFSETFROM:+0100
TZOFFSETTO:+0200
TZNAME:CEST
DTSTART:20240331T010000
END:DAYLIGHT
BEGIN:STANDARD
TZOFFSETFROM:+0200
TZOFFSETTO:+0100
TZNAME:CET
DTSTART:20241027T010000
END:STANDARD
BEGIN:DAYLIGHT
TZOFFSETFROM:+0100
TZOFFSETTO:+0200
TZNAME:CEST
DTSTART:20250330T010000
END:DAYLIGHT
BEGIN:STANDARD
TZOFFSETFROM:+0200
TZOFFSETTO:+0100
TZNAME:CET
DTSTART:20251026T010000
END:STANDARD
BEGIN:DAYLIGHT
TZOFFSETFROM:+0100
TZOFFSETTO:+0200
TZNAME:CEST
DTSTART:20260329T010000
END:DAYLIGHT
BEGIN:STANDARD
TZOFFSETFROM:+0200
TZOFFSETTO:+0100
TZNAME:CET
DTSTART:20261025T010000
END:STANDARD
END:VTIMEZONE
BEGIN:VEVENT
DTSTART;TZID=Europe/Berlin:20250901T160000
DTEND;TZID=Europe/Berlin:20250901T180000
DTSTAMP:20260421T191059
CREATED:20250811T130043Z
LAST-MODIFIED:20250811T130232Z
UID:41770-1756742400-1756749600@dev.our-events.de
SUMMARY:Teammeeting Kulturtafel am 01.09.2025 - nur für ehrenamtliche Mitarbeiter
DESCRIPTION:Schreibt mir bitte\, wer ab 15:30 bei der Vorbereitung helfen kann.
URL:https://dev.our-events.de/event/teammeeting-kulturtafel-am-01-09-2025-nur-fuer-ehrenamtliche-mitarbeiter/
LOCATION:World Trade Center Bremen\, Hermann-Köhl-Str. 7\, Bremen\, 28199
ATTACH;FMTTYPE=image/png:https://dev.our-events.de/wp-content/uploads/2024/10/Logo-KTB.png
END:VEVENT
END:VCALENDAR