BEGIN:VCALENDAR
VERSION:2.0
PRODID:-//Our Events - ECPv6.15.20//NONSGML v1.0//EN
CALSCALE:GREGORIAN
METHOD:PUBLISH
X-WR-CALNAME:Our Events
X-ORIGINAL-URL:https://dev.our-events.de
X-WR-CALDESC:Veranstaltungen für Our Events
REFRESH-INTERVAL;VALUE=DURATION:PT1H
X-Robots-Tag:noindex
X-PUBLISHED-TTL:PT1H
BEGIN:VTIMEZONE
TZID:Europe/Berlin
BEGIN:DAYLIGHT
TZOFFSETFROM:+0100
TZOFFSETTO:+0200
TZNAME:CEST
DTSTART:20240331T010000
END:DAYLIGHT
BEGIN:STANDARD
TZOFFSETFROM:+0200
TZOFFSETTO:+0100
TZNAME:CET
DTSTART:20241027T010000
END:STANDARD
BEGIN:DAYLIGHT
TZOFFSETFROM:+0100
TZOFFSETTO:+0200
TZNAME:CEST
DTSTART:20250330T010000
END:DAYLIGHT
BEGIN:STANDARD
TZOFFSETFROM:+0200
TZOFFSETTO:+0100
TZNAME:CET
DTSTART:20251026T010000
END:STANDARD
BEGIN:DAYLIGHT
TZOFFSETFROM:+0100
TZOFFSETTO:+0200
TZNAME:CEST
DTSTART:20260329T010000
END:DAYLIGHT
BEGIN:STANDARD
TZOFFSETFROM:+0200
TZOFFSETTO:+0100
TZNAME:CET
DTSTART:20261025T010000
END:STANDARD
END:VTIMEZONE
BEGIN:VEVENT
DTSTART;TZID=Europe/Berlin:20250902T200000
DTEND;TZID=Europe/Berlin:20250902T220000
DTSTAMP:20260421T171937
CREATED:20250723T141652Z
LAST-MODIFIED:20250723T141706Z
UID:40927-1756843200-1756850400@dev.our-events.de
SUMMARY:Kolumne Fatal Band - Deutsch Pop & Rock\, Bremen im Meisenfrei
DESCRIPTION:Dieses deutschsprachige Independent-Trio bewegt sich musikalisch zwischen John Mayer\, Rory Gallagher\, Blumfeld und den klassischen Deutsch/Rock/Poppern. Ihre Texte handeln von allgemein zu kurz gekommenen\, Trinkern\, Jung Eltern\, Träumern und in Mittelschicht Gefangenen oder “Großstadt Hektikern” und “Mama Söhnchen”. In zum Teil trügerisch harmonischem Gewand dringen die Songs tief in die Hörenden ein\, wenn sie dabei auch nicht immer ganz ernst gemeint sein sollen. \nCopyright Text & Bild: Meisenfrei
URL:https://dev.our-events.de/event/kolumne-fatal-band-deutsch-pop-rock-bremen-im-meisenfrei/
LOCATION:Meisenfrei\, Hankenstraße 18\, Bremen\, 28195
CATEGORIES:Konzert
ATTACH;FMTTYPE=image/jpeg:https://dev.our-events.de/wp-content/uploads/2025/07/2025-09-02-KolumneFatalBand.jpg
END:VEVENT
END:VCALENDAR