BEGIN:VCALENDAR
VERSION:2.0
PRODID:-//Our Events - ECPv6.15.20//NONSGML v1.0//EN
CALSCALE:GREGORIAN
METHOD:PUBLISH
X-WR-CALNAME:Our Events
X-ORIGINAL-URL:https://dev.our-events.de
X-WR-CALDESC:Veranstaltungen für Our Events
REFRESH-INTERVAL;VALUE=DURATION:PT1H
X-Robots-Tag:noindex
X-PUBLISHED-TTL:PT1H
BEGIN:VTIMEZONE
TZID:Europe/Berlin
BEGIN:DAYLIGHT
TZOFFSETFROM:+0100
TZOFFSETTO:+0200
TZNAME:CEST
DTSTART:20240331T010000
END:DAYLIGHT
BEGIN:STANDARD
TZOFFSETFROM:+0200
TZOFFSETTO:+0100
TZNAME:CET
DTSTART:20241027T010000
END:STANDARD
BEGIN:DAYLIGHT
TZOFFSETFROM:+0100
TZOFFSETTO:+0200
TZNAME:CEST
DTSTART:20250330T010000
END:DAYLIGHT
BEGIN:STANDARD
TZOFFSETFROM:+0200
TZOFFSETTO:+0100
TZNAME:CET
DTSTART:20251026T010000
END:STANDARD
BEGIN:DAYLIGHT
TZOFFSETFROM:+0100
TZOFFSETTO:+0200
TZNAME:CEST
DTSTART:20260329T010000
END:DAYLIGHT
BEGIN:STANDARD
TZOFFSETFROM:+0200
TZOFFSETTO:+0100
TZNAME:CET
DTSTART:20261025T010000
END:STANDARD
END:VTIMEZONE
BEGIN:VEVENT
DTSTART;TZID=Europe/Berlin:20250904T133000
DTEND;TZID=Europe/Berlin:20250904T143000
DTSTAMP:20260421T134107
CREATED:20250813T131051Z
LAST-MODIFIED:20250814T100643Z
UID:41893-1756992600-1756996200@dev.our-events.de
SUMMARY:Sprechstunde / Vorstellung / Anmeldung Kulturtafel im Klamottencafé in der Tagesstätte Süd
DESCRIPTION:Ihr habt von der Kulturtafel gehört und möchtet mehr darüber erfahren? / Ви чули про Kulturtafel і хотіли б дізнатися більше? / Have you heard about the Kulturtafel and would like to find out more? / Vous avez entendu parler de la Kulturtafel et vous souhaitez en savoir plus ? \n\nWir erklären euch\, was die Kulturtafel ist\, wie sie funktioniert und wer teilnehmen kann.\nМи пояснюємо\, що таке Kulturtafel\, як він працює і хто може взяти в ньому участь.\nWe explain what the Kulturtafel is\, how it works and who can take part.\nNous vous expliquons ce qu’est le tableau culturel\, comment il fonctionne et qui peut y participer.\n\nNoch kein Mitglied bei der Kulturtafel? / Not yet a member of the Kulturtafel? / Ще не є членом Kulturtafel? / Pas encore membre de la Kulturtafel ? \n\nIn unseren Sprechstunden könnt ihr euch für die Kulturtafel registrieren. Wir helfen euch dabei.\nВи можете зареєструватися на Kulturtafel під час наших консультацій. Ми допоможемо вам у цьому.\nYou can register for the Kulturtafel during our consultation hours. We will help you with this.\nLors de nos permanences\, vous pouvez vous inscrire au tableau culturel. Nous vous aiderons à le faire.\n\nIhr möchtet\, dass wir euch bei der Reservierung einer Veranstaltung helfen? / Хочете\, щоб ми допомогли вам забронювати захід? / Would you like us to help you book an event? / Vous souhaitez que nous vous aidions à réserver un événement ? \n\nWir helfen euch dabei eine passende Veranstaltung für euch zu finden und eine Reservierung vorzunehmen.\nМи допоможемо вам знайти відповідний для вас захід і зробити бронювання.\nWe will help you find a suitable event for you and make a reservation.\nNous vous aidons à trouver un événement qui vous convient et à faire une réservation.\n\n\n\n\n\n\n\n\n\n\n\n\n\n\n\n\n\n\n\n\n\n\n\n\n\n\n\n\n\n\n\n\n\n\n\n 
URL:https://dev.our-events.de/event/sprechstunde-vorstellung-anmeldung-kulturtafel-im-klamottencafe-in-der-tagesstaette-sued/
LOCATION:Klamottencafé in der Tagesstätte Süd\, Hohentorsheerstr. 76/78\, Bremen\, Bremen\, 28199
CATEGORIES:Beratung
ATTACH;FMTTYPE=image/png:https://dev.our-events.de/wp-content/uploads/2024/10/Logo-KTB.png
END:VEVENT
BEGIN:VEVENT
DTSTART;TZID=Europe/Berlin:20250904T163000
DTEND;TZID=Europe/Berlin:20250904T180000
DTSTAMP:20260421T134107
CREATED:20250831T184022Z
LAST-MODIFIED:20250901T100154Z
UID:42796-1757003400-1757008800@dev.our-events.de
SUMMARY:Wie geht es dir? Ausstellungseröffnung Comiczeichnungen
DESCRIPTION:„Wie geht es dir?“ – eine einfache Frage\, doch unter dem Eindruck des Leids der Menschen infolge des Überfalls der Hamas auf Israel am 7. Oktober 2023 und der Angriffe des israelischen Militärs im Gazastreifen herrscht auch bei uns Sprachlosigkeit und eine tiefe gesellschaftliche Spaltung. Comic von Jeff Hemmer nach einer Erzählung Rania Enan\, der Gründerin des Arabischen Frauenbundes Bremen. Frau Sina Meyer spricht mit Frau Enan über ihre Erlebnisse.
URL:https://dev.our-events.de/event/wie-geht-es-dir-ausstellungseroeffnung-comiczeichnungen/
LOCATION:Mehrgenerationenhaus Lüssum\, Lüssumer Heide 6\, Bremen\, 28777
CATEGORIES:Diskussion,Kunst
ATTACH;FMTTYPE=image/jpeg:https://dev.our-events.de/wp-content/uploads/2025/08/A1IlICIwYcL._AC_UY218_.jpg
ORGANIZER;CN="Kultur-Caf%C3%A9":MAILTO:haus-der-zukunft-kultur-cafe@gmx.de
END:VEVENT
BEGIN:VEVENT
DTSTART;TZID=Europe/Berlin:20250904T200000
DTEND;TZID=Europe/Berlin:20250904T220000
DTSTAMP:20260421T134107
CREATED:20250731T153735Z
LAST-MODIFIED:20250731T153849Z
UID:41241-1757016000-1757023200@dev.our-events.de
SUMMARY:Sonic Health Club - Funk\, Pop & Soul\, Bremen/Oldenburg im Meisenfrei
DESCRIPTION:Club trifft Club: Die Band Sonic Health Club ist mal wieder zu Gast. Mitreißender Funk-Pop\, gefühlvoller Soul und tanzbare Grooves: Andrea Schwanzer interpretiert die selbstverfassten Songs gefühlvoll und mitreißend\, während Felle\, Bass und Tasten mit gewohnter Güte bearbeitet werden. Die Qualität der Sounds und Songs zeigt deutlich\, mit wie viel Ideenreichtum\, Spielfreude und Erfahrung die Bandmitglieder zu Werke gehen. Denn der Anspruch von Sonic Health Club ist\, das Publikum mit intelligenter\, frischer und erwachsener Musik zu begeistern\, was ein ums andere Mal hervorragend klappt! \nCopyright Text & Bild: Meisenfrei
URL:https://dev.our-events.de/event/sonic-health-club-funk-pop-soul-bremen-oldenburg-im-meisenfrei/
LOCATION:Meisenfrei\, Hankenstraße 18\, Bremen\, 28195
CATEGORIES:Konzert
ATTACH;FMTTYPE=image/jpeg:https://dev.our-events.de/wp-content/uploads/2025/07/2025-09-04-SonicHealthClub.jpg
END:VEVENT
END:VCALENDAR