BEGIN:VCALENDAR
VERSION:2.0
PRODID:-//Our Events - ECPv6.15.20//NONSGML v1.0//EN
CALSCALE:GREGORIAN
METHOD:PUBLISH
X-ORIGINAL-URL:https://dev.our-events.de
X-WR-CALDESC:Veranstaltungen für Our Events
REFRESH-INTERVAL;VALUE=DURATION:PT1H
X-Robots-Tag:noindex
X-PUBLISHED-TTL:PT1H
BEGIN:VTIMEZONE
TZID:Europe/Berlin
BEGIN:DAYLIGHT
TZOFFSETFROM:+0100
TZOFFSETTO:+0200
TZNAME:CEST
DTSTART:20240331T010000
END:DAYLIGHT
BEGIN:STANDARD
TZOFFSETFROM:+0200
TZOFFSETTO:+0100
TZNAME:CET
DTSTART:20241027T010000
END:STANDARD
BEGIN:DAYLIGHT
TZOFFSETFROM:+0100
TZOFFSETTO:+0200
TZNAME:CEST
DTSTART:20250330T010000
END:DAYLIGHT
BEGIN:STANDARD
TZOFFSETFROM:+0200
TZOFFSETTO:+0100
TZNAME:CET
DTSTART:20251026T010000
END:STANDARD
BEGIN:DAYLIGHT
TZOFFSETFROM:+0100
TZOFFSETTO:+0200
TZNAME:CEST
DTSTART:20260329T010000
END:DAYLIGHT
BEGIN:STANDARD
TZOFFSETFROM:+0200
TZOFFSETTO:+0100
TZNAME:CET
DTSTART:20261025T010000
END:STANDARD
END:VTIMEZONE
BEGIN:VEVENT
DTSTART;TZID=Europe/Berlin:20250905T200000
DTEND;TZID=Europe/Berlin:20250905T220000
DTSTAMP:20260421T151613
CREATED:20250723T130512Z
LAST-MODIFIED:20250723T131458Z
UID:40884-1757102400-1757109600@dev.our-events.de
SUMMARY:Habenhauser Schafferkonzerte - JAZZ Open Air im Innenhof
DESCRIPTION:In unseren Reihen JAZZ + KLASSIK präsentieren die musikalischen Leiter Jens Schöwing und Leonard Trommel immer wieder besondere Hörerlebnisse. In der Jazzreihe sorgt der Bremer Pianist Jens Schöwing für ein vielfältiges und interessantes Programm\, in dem sich traditionelle und moderne Spielarten begegnen und die Vielfalt des Jazz verdeutlicht. Für die klassischen Konzerte stellt der Cellist Leonard Trommel abwechslungsreiche und anspruchsvolle Programme zusammen\, die den reichen Fundus der verschiedenen Musikepochen darstellen. \nDer Sound der 70er-Jahre\, THE CRUSADERS – Joe Sample\, Wilton Felder\, „Stix“ Hooper\, Wayne Henderson\, Larry Carlton. Da weiß der Kenner gleich\, was ihn erwartet. Eine Band\, die mit ihrem Mix aus Jazz\, Funk\, Soul und Rhythm & Blues seit den 60er Jahren Musikgeschichte geschrieben hat. Das sind rollende Grooves\, vertrackt-erdige Rhythmen\, fetter Instrumentalsound und Songs\, denen die Sonne aus jedem Knopfloch scheint. Die Bremer Band „NIGHTWATCH“ hat die musikalische Herausforderung angenommen und ein Programm aus Songs der Band aus der Zeit von 1971–1978 zurück auf die Bühne gebracht. Für das Crusaders-Special konnte der Hamburger Posaunist Stefan Golinski gewonnen werden\, der unter anderem durch sein Mitwirken im Roy-Frank- Orchestra vielen ein Begriff sein dürfte. \nCrusaders\nOliver Helmert – Saxofon\nStefan Golinski – Posaune\nGunnar Heyse – Gitarre\nBernd Junker – Schlagzeug\nMarcello Albrecht – Bass\nAxel Meyer – Keyboards \nCopyright Text & Bild: Simon-Petrus-Kirche
URL:https://dev.our-events.de/event/habenhauser-schafferkonzerte-jazz-open-air-im-innenhof/
LOCATION:Simon-Petri-Kirche Habenhausen\, Ev. Kirchengemeinde Arsten-Habenhausen\, Bremen\, Bremen\, 28279\, Germany
CATEGORIES:Konzert
ATTACH;FMTTYPE=image/jpeg:https://dev.our-events.de/wp-content/uploads/2025/07/stefan-golinski_september_700.jpg
END:VEVENT
END:VCALENDAR