BEGIN:VCALENDAR
VERSION:2.0
PRODID:-//Our Events - ECPv6.15.20//NONSGML v1.0//EN
CALSCALE:GREGORIAN
METHOD:PUBLISH
X-WR-CALNAME:Our Events
X-ORIGINAL-URL:https://dev.our-events.de
X-WR-CALDESC:Veranstaltungen für Our Events
REFRESH-INTERVAL;VALUE=DURATION:PT1H
X-Robots-Tag:noindex
X-PUBLISHED-TTL:PT1H
BEGIN:VTIMEZONE
TZID:Europe/Berlin
BEGIN:DAYLIGHT
TZOFFSETFROM:+0100
TZOFFSETTO:+0200
TZNAME:CEST
DTSTART:20240331T010000
END:DAYLIGHT
BEGIN:STANDARD
TZOFFSETFROM:+0200
TZOFFSETTO:+0100
TZNAME:CET
DTSTART:20241027T010000
END:STANDARD
BEGIN:DAYLIGHT
TZOFFSETFROM:+0100
TZOFFSETTO:+0200
TZNAME:CEST
DTSTART:20250330T010000
END:DAYLIGHT
BEGIN:STANDARD
TZOFFSETFROM:+0200
TZOFFSETTO:+0100
TZNAME:CET
DTSTART:20251026T010000
END:STANDARD
BEGIN:DAYLIGHT
TZOFFSETFROM:+0100
TZOFFSETTO:+0200
TZNAME:CEST
DTSTART:20260329T010000
END:DAYLIGHT
BEGIN:STANDARD
TZOFFSETFROM:+0200
TZOFFSETTO:+0100
TZNAME:CET
DTSTART:20261025T010000
END:STANDARD
END:VTIMEZONE
BEGIN:VEVENT
DTSTART;TZID=Europe/Berlin:20250814T153000
DTEND;TZID=Europe/Berlin:20250814T163000
DTSTAMP:20260422T020316
CREATED:20250508T135629Z
LAST-MODIFIED:20251010T105002Z
UID:38533-1755185400-1755189000@dev.our-events.de
SUMMARY:Sprechstunde / Vorstellung / Anmeldung Kulturtafel im Café Pax der Evangelischen Friedensgemeinde i.d. Östlichen Vorstadt / Mitte
DESCRIPTION:Jeden 2. Donnerstag im Monat. \nIhr habt von der Kulturtafel gehört und möchtet mehr darüber erfahren? / Ви чули про Kulturtafel і хотіли б дізнатися більше? / Have you heard about the Kulturtafel and would like to find out more? / Vous avez entendu parler de la Kulturtafel et vous souhaitez en savoir plus ? \n\nWir erklären euch\, was die Kulturtafel ist\, wie sie funktioniert und wer teilnehmen kann.\nМи пояснюємо\, що таке Kulturtafel\, як він працює і хто може взяти в ньому участь.\nWe explain what the Kulturtafel is\, how it works and who can take part.\nNous vous expliquons ce qu’est le tableau culturel\, comment il fonctionne et qui peut y participer.\n\nNoch kein Mitglied bei der Kulturtafel? / Not yet a member of the Kulturtafel? / Ще не є членом Kulturtafel? / Pas encore membre de la Kulturtafel ? \n\nIn unseren Sprechstunden könnt ihr euch für die Kulturtafel registrieren. Wir helfen euch dabei.\nВи можете зареєструватися на Kulturtafel під час наших консультацій. Ми допоможемо вам у цьому.\nYou can register for the Kulturtafel during our consultation hours. We will help you with this.\nLors de nos permanences\, vous pouvez vous inscrire au tableau culturel. Nous vous aiderons à le faire.\n\nIhr möchtet\, dass wir euch bei der Reservierung einer Veranstaltung helfen? / Хочете\, щоб ми допомогли вам забронювати захід? / Would you like us to help you book an event? / Vous souhaitez que nous vous aidions à réserver un événement ? \n\nWir helfen euch dabei eine passende Veranstaltung für euch zu finden und eine Reservierung vorzunehmen.\nМи допоможемо вам знайти відповідний для вас захід і зробити бронювання.\nWe will help you find a suitable event for you and make a reservation.\nNous vous aidons à trouver un événement qui vous convient et à faire une réservation.
URL:https://dev.our-events.de/event/sprechstunde-vorstellung-anmeldung-kulturtafel-im-cafe-pax-der-evangelischen-friedensgemeinde-i-d-oestlichen-vorstadt-mitte-7/
LOCATION:Cafe Pax\, Humboldtstraße 175\, Bremen\, 28203
CATEGORIES:Sprechstunde Kulturtafel
ATTACH;FMTTYPE=image/png:https://dev.our-events.de/wp-content/uploads/2024/05/Logo-rot_RGB-e1717588951578.png
END:VEVENT
BEGIN:VEVENT
DTSTART;TZID=Europe/Berlin:20250911T200000
DTEND;TZID=Europe/Berlin:20250911T220000
DTSTAMP:20260422T020316
CREATED:20250723T135433Z
LAST-MODIFIED:20250723T135447Z
UID:40913-1757620800-1757628000@dev.our-events.de
SUMMARY:Slam Bremen im Lagerhaus
DESCRIPTION:Luca Zmatlik lebt in Bonn und studiert dort Kulturanthropologie. Seit 2022 steht er auf Slam Bühnen\, wo er mit schnellem Sprachtempo\, feinem Humor und einem wachen Blick für gesellschaftliche Schieflagen überzeugt. 2023 wurde er Hamburger Vize-Stadtmeister und ntrat bei den deutschsprachigen Meister*innenschaften an\, zuvor und danach war er bei\nverschiedenen Landesmeister*innenschaften vertreten. Und dann kommt Ihr: Slam Bremen. Dein Wort. Dein Ort\, ohne (Genre-)Grenzen\, für Wort\, für Musik\, für Performance. Ein Ort für Kunst und Schrott\, für Fremdscham und Verehrung. Ein Ort für Wettbewerb. \nIm SAAL Einlass: 19.30 Uhr. \nCopyright Text & Bild: Lagerhaus
URL:https://dev.our-events.de/event/slam-bremen-im-lagerhaus-5/
LOCATION:Kulturzentrum Lagerhaus\, Schildstraße 12-19\, Bremen\, 28203
CATEGORIES:Poetry-Slam
ATTACH;FMTTYPE=image/png:https://dev.our-events.de/wp-content/uploads/2025/03/dreieck_kultur_100-6.png
END:VEVENT
BEGIN:VEVENT
DTSTART;TZID=Europe/Berlin:20250911T200000
DTEND;TZID=Europe/Berlin:20250911T220000
DTSTAMP:20260422T020316
CREATED:20250731T155105Z
LAST-MODIFIED:20250731T155149Z
UID:41253-1757620800-1757628000@dev.our-events.de
SUMMARY:HamMmer - Hard Rock\, Bremen im Meisenfrei
DESCRIPTION:Bei HamMmeR wird der Name zum Programm. Harter Rock mit deutschen Texten ist das Credo der vier “Jungs”\, die sich und den Rest der Welt nicht immer ganz ernst nehmen. Und das trifft sich gut\, denn wir halten das für gewöhnlich auch so. Das Programm\, welches ausschließlich aus eigenen Stücken besteht\, wird energiegeladen auf die Bühnenbretter gehämmert und dabei wird auch gradlinig ins Hinterteil getreten. Das Ergebnis kann sich jederzeit bestens hören lassen\, wie wir inzwischen aus Erfahrung wissen. \nCopyright Text & Bild: Meisenfrei
URL:https://dev.our-events.de/event/hammmer-hard-rock-bremen-im-meisenfrei/
LOCATION:Meisenfrei\, Hankenstraße 18\, Bremen\, 28195
CATEGORIES:Konzert
ATTACH;FMTTYPE=image/jpeg:https://dev.our-events.de/wp-content/uploads/2025/07/2025-09-11-HamMmer.jpg
END:VEVENT
END:VCALENDAR