BEGIN:VCALENDAR
VERSION:2.0
PRODID:-//Our Events - ECPv6.15.20//NONSGML v1.0//EN
CALSCALE:GREGORIAN
METHOD:PUBLISH
X-ORIGINAL-URL:https://dev.our-events.de
X-WR-CALDESC:Veranstaltungen für Our Events
REFRESH-INTERVAL;VALUE=DURATION:PT1H
X-Robots-Tag:noindex
X-PUBLISHED-TTL:PT1H
BEGIN:VTIMEZONE
TZID:Europe/Berlin
BEGIN:DAYLIGHT
TZOFFSETFROM:+0100
TZOFFSETTO:+0200
TZNAME:CEST
DTSTART:20240331T010000
END:DAYLIGHT
BEGIN:STANDARD
TZOFFSETFROM:+0200
TZOFFSETTO:+0100
TZNAME:CET
DTSTART:20241027T010000
END:STANDARD
BEGIN:DAYLIGHT
TZOFFSETFROM:+0100
TZOFFSETTO:+0200
TZNAME:CEST
DTSTART:20250330T010000
END:DAYLIGHT
BEGIN:STANDARD
TZOFFSETFROM:+0200
TZOFFSETTO:+0100
TZNAME:CET
DTSTART:20251026T010000
END:STANDARD
BEGIN:DAYLIGHT
TZOFFSETFROM:+0100
TZOFFSETTO:+0200
TZNAME:CEST
DTSTART:20260329T010000
END:DAYLIGHT
BEGIN:STANDARD
TZOFFSETFROM:+0200
TZOFFSETTO:+0100
TZNAME:CET
DTSTART:20261025T010000
END:STANDARD
END:VTIMEZONE
BEGIN:VEVENT
DTSTART;TZID=Europe/Berlin:20250914T110000
DTEND;TZID=Europe/Berlin:20250914T130000
DTSTAMP:20260422T074152
CREATED:20250829T130818Z
LAST-MODIFIED:20250829T130818Z
UID:42731-1757847600-1757854800@dev.our-events.de
SUMMARY:Die Deutsche Kammerphilharmonie Bremen - Konzert im KITO
DESCRIPTION:Musik zum Ausdruck nationaler Identifikation zu nutzen\, war im 19. Jahrhundert nicht nur im osteuropäischen Raum üblich geworden. Volkslieder wurden allerorten gesammelt und in die Kunstmusik integriert\, sei es in Großbritannien\, Skandinavien oder den noch österreichischen Gebieten Böhmen und Mähren. Leoš Janáček schrieb mit seinem Klavierzyklus ›Auf verwachsenem Pfade‹\, der hier in der Bearbeitung für Streichquartett erklingt\, ein anrührendes Stück voller persönlicher Erinnerungen – ähnlich wie später Gustav Mahler versuchte er\, den frühen Tod eines geliebten Kindes musikalisch zu verarbeiten. Antonín Dvořák schließlich integrierte Melodien seiner Jugend auf dem Lande in seine reifen Werke\, so in das 10. Streichquartett\, das auf Wunsch des Auftraggebers mit so vielen leicht eingängigen\, typisch slawischen Melodien aufwartet\, dass es den Beinamen ›Slawisches Quartett‹ erhielt. \nProgramm: \nstatt B. Bartók – RumänischenVolkstänze Sz 56 für Streichquartett: Andante Cantabile aus dem Streichquartett Nr. 1 D-Dur op. 11 von Peter Iljitsch Tschaikowsky \nL. Janácek – Auf verwachsenem Pfade für Streichquartett \nPause \nA. Dvořák – Streichquartett Nr. 10 Es-Dur op.51 \nBesetzung: \nSarah Christian\, Violine \nEmma Yoon\, Violine \nJürgen Winkler\, Viola \nTristan Cornut\, Violoncello \n  \n© Text: KITO / © Bild: KITO
URL:https://dev.our-events.de/event/die-deutsche-kammerphilharmonie-bremen-konzert-im-kito/
LOCATION:KITO – altes Packhaus\, Alte Hafenstraße 30\, Bremen\, 28757
CATEGORIES:Konzert
ATTACH;FMTTYPE=image/jpeg:https://dev.our-events.de/wp-content/uploads/2025/08/Design_ohne_Titel_56__1753081952.jpeg
END:VEVENT
BEGIN:VEVENT
DTSTART;TZID=Europe/Berlin:20250824T110000
DTEND;TZID=Europe/Berlin:20250824T170000
DTSTAMP:20260422T074152
CREATED:20250807T113312Z
LAST-MODIFIED:20250807T113549Z
UID:41596-1756033200-1756054800@dev.our-events.de
SUMMARY:Eintrittskarten Overbeck-Museum: In den Bergen - Karten täglich gültig zu den Öffnungszeiten
DESCRIPTION:Die Karten sind  täglich zu den Öffnungszeiten gültig. Letzter Tag für eine Ticket-Reservierung ist der 02.11.2025. \n\n\n\n\n\n\nDie aus Bremen stammende Malerin Katrin Ullmann lebt und arbeitet im Wallis in der Schweiz. Ihre Ölgemälde und Aquarelle der Schweizer Bergwelt zeigen die vielfältige Schönheit der Alpenregion mit ihren markanten Gipfeln und scharfen Graten\, mit grünen Tälern und klaren Bergseen. \n\n\n\n\n\n\nHier\, wo die Landschaft mehrere tausend Meter in die Höhe Richtung Himmel vorstößt\, verbinden sich Wolken und Berggipfel zu einer überwältigenden Einheit\, die einzigartige Farben und Lichtverhältnisse hervorbringt. Aber auch einzelne Seenlandschaften in Finnland und Norwegen und norddeutsche Wolkenhimmel hält die Malerin in Bildern fest. \n\n\n\n\n\n\nErgänzt wird die Ausstellung durch Landschaftsgemälde von Fritz und Hermine Overbeck aus der Zeit um 1900. Neben einigen norddeutschen Landschaften stehen auch hier die Schweizer Berge im Mittelpunkt. Denn was kaum jemand weiß: Fritz Overbeck malte im Winter 1908/09 mehrere Wochen lang in der Nähe von Davos. \n\n\n\n\n\n\n\nBitte aktiviere JavaScript in deinem Browser\, um dieses Formular fertigzustellen.Bitte aktiviere JavaScript in deinem Browser\, um dieses Formular fertigzustellen.Bitte das Datum der Veranstaltung angeben *Bitte die Anzahl der zu reservierenden Tickets auswählenIch bin *KulturgastKulturbegleiter:inAnrede Interessent:in *FrauHerrDiversVorname  *Name *E-Mail  *Ich benötige Unterstützung für den Besuch der Veranstaltung *janeinIch möchte den Programm Newsletter der Kulturtafel abonnieren. Das kann ich jederzeit rückgängig machen.janeinDSGVO Einverständnis *Ich willige ein\, dass diese Website meine übermittelten Informationen speichert\, sodass meine Anfrage beantwortet werden kann.Angaben bestätigen
URL:https://dev.our-events.de/event/eintrittskarten-overbeck-museum-in-den-bergen-karten-taeglich-gueltig-zu-den-oeffnungszeiten/
LOCATION:Overbeck Museum\, Alte Hafenstraße 30\, Bremen\, Bremen\, 28757\, Deutschland
CATEGORIES:Ausstellung,Grohn
ATTACH;FMTTYPE=image/png:https://dev.our-events.de/wp-content/uploads/2024/09/Overbeck-Museum.png
END:VEVENT
BEGIN:VEVENT
DTSTART;TZID=Europe/Berlin:20250914T133000
DTEND;TZID=Europe/Berlin:20250914T143000
DTSTAMP:20260422T074152
CREATED:20250810T085306Z
LAST-MODIFIED:20250810T085731Z
UID:41696-1757856600-1757860200@dev.our-events.de
SUMMARY:Der Sternenhimmel live für Kinder Kinderprogramm im Olbers-Planetarium
DESCRIPTION:Eure Entdeckungsreise am Sternenhimmel!\nWir zeigen\, was es zur Zeit am Sternenhimmel zu entdecken gibt und berichten über Sternbilder\, ihre Geschichten\, über Planeten und vieles mehr im All.\nIhr lernt die wichtigsten Sterne unseres Himmels kennen. Wir erzählen spannende Geschichten zu den Sternbildern und erklären\, wie man ohne Kompass nur mit Hilfe der Sterne die Himmelsrichtungen finden kann. Ihr reist mit uns durch das Sonnensystem\, die Milchstraße und weit entfernte Galaxien. \nEmpfehlung ab 6 Jahre. \nCopyright Text & Bild: Olbers-Planetarium
URL:https://dev.our-events.de/event/der-sternenhimmel-live-fuer-kinder-kinderprogramm-im-olbers-planetarium-15/
LOCATION:Olbers-Planetarium Bremen\, Werderstrasse 73\, Bremen\, 28199
CATEGORIES:Kinderveranstaltung,Planetarium
ATTACH;FMTTYPE=image/png:https://dev.our-events.de/wp-content/uploads/2025/08/Kinderlive-3.png
END:VEVENT
END:VCALENDAR