BEGIN:VCALENDAR
VERSION:2.0
PRODID:-//Our Events - ECPv6.15.20//NONSGML v1.0//EN
CALSCALE:GREGORIAN
METHOD:PUBLISH
X-WR-CALNAME:Our Events
X-ORIGINAL-URL:https://dev.our-events.de
X-WR-CALDESC:Veranstaltungen für Our Events
REFRESH-INTERVAL;VALUE=DURATION:PT1H
X-Robots-Tag:noindex
X-PUBLISHED-TTL:PT1H
BEGIN:VTIMEZONE
TZID:Europe/Berlin
BEGIN:DAYLIGHT
TZOFFSETFROM:+0100
TZOFFSETTO:+0200
TZNAME:CEST
DTSTART:20240331T010000
END:DAYLIGHT
BEGIN:STANDARD
TZOFFSETFROM:+0200
TZOFFSETTO:+0100
TZNAME:CET
DTSTART:20241027T010000
END:STANDARD
BEGIN:DAYLIGHT
TZOFFSETFROM:+0100
TZOFFSETTO:+0200
TZNAME:CEST
DTSTART:20250330T010000
END:DAYLIGHT
BEGIN:STANDARD
TZOFFSETFROM:+0200
TZOFFSETTO:+0100
TZNAME:CET
DTSTART:20251026T010000
END:STANDARD
BEGIN:DAYLIGHT
TZOFFSETFROM:+0100
TZOFFSETTO:+0200
TZNAME:CEST
DTSTART:20260329T010000
END:DAYLIGHT
BEGIN:STANDARD
TZOFFSETFROM:+0200
TZOFFSETTO:+0100
TZNAME:CET
DTSTART:20261025T010000
END:STANDARD
END:VTIMEZONE
BEGIN:VEVENT
DTSTART;TZID=Europe/Berlin:20250916T170000
DTEND;TZID=Europe/Berlin:20250916T190000
DTSTAMP:20260422T114042
CREATED:20250814T145341Z
LAST-MODIFIED:20250815T103615Z
UID:41983-1758042000-1758049200@dev.our-events.de
SUMMARY:sudoraع presents: turvis in der Schwankhalle
DESCRIPTION:Lecture Performance & gemeinsames Essen \n\nsudoraع lädt ein zu einer rollenbasierten Lecture-­Performance\, in der sich ihre Praxis an der Schnittstelle mehrerer Disziplinen entfaltet. Das Format basiert auf dem oxels framework\, das vom XORG Kollektiv ↗ entwickelt wurde und auf Organisations­theorie und Game Design zurückgreift\, um experimentelle Ansätze kollektiver Strukturierung durch Handlung zu ermöglichen. \nIn dieser Lecture-­Performance bezieht sich sudoraع auf die kontinuierliche Praxis mit Klang\, Musik und Kunst\, geleitet von der Vorstellung\, dass Wissen in Gemeinschaften bereits vorhanden ist und sich durch Austausch entfaltet. Die Teilnehmenden folgen den ausgewählten Textfragmenten in wechselnden Rollen\, wobei sich mit jedem neuen Absatz die Rollen verschieben und verschiedene Formen des Zuhörens eingenommen werden. Die gemeinsame Lektüre endet in einer offenen Diskussion begleitet von einem Essen\, das in der mobilen Küche der Schwankhalle zubereitet wird. \nsudoraع ist ein in Bremen ansässiges Kollektiv von Künstler*innen und Kulturschaffenden. Geprägt von Improvisation und Kollaboration ist sudoraع in einer Praxis der Interkollektivität verwurzelt und schafft Räume zur Reflexion gemeinschaftlicher Formen klanglicher Ausdrucksweisen. Die interdisziplinären Projekte bewegen sich zwischen Installationen\, Klang­improvisationen\, Lecture-­Performances\, Webprojekten\, Konzerten und Austausch­formaten. \nInstagram sudora3 ↗ \n\nMit: Pablo Somonte Ruano\, Gabriela Valdespino\, Paria Moraghebi\, Farzad Golghasemi\, Abd Tamaaa\, Vicc Repasi \nBarrierefreiheit:\nMehrsprachig (Schwerpunkt engl. Lautsprache)Teilnahme kostenlos\, Anmeldung bis 14.9. unter sudoraa@proton.me
URL:https://dev.our-events.de/event/sudora%d8%b9-presents-turvis/
LOCATION:Schwankhalle\, Buntentorsteinweg 112/116\, Bremen\, 28201
CATEGORIES:Kunst,Lesung,Treffpunkt
ATTACH;FMTTYPE=image/jpeg:https://dev.our-events.de/wp-content/uploads/2025/08/sudora_turvis_c_sonic-tactics-docu_web.jpg
END:VEVENT
END:VCALENDAR