BEGIN:VCALENDAR
VERSION:2.0
PRODID:-//Our Events - ECPv6.15.20//NONSGML v1.0//EN
CALSCALE:GREGORIAN
METHOD:PUBLISH
X-ORIGINAL-URL:https://dev.our-events.de
X-WR-CALDESC:Veranstaltungen für Our Events
REFRESH-INTERVAL;VALUE=DURATION:PT1H
X-Robots-Tag:noindex
X-PUBLISHED-TTL:PT1H
BEGIN:VTIMEZONE
TZID:Europe/Berlin
BEGIN:DAYLIGHT
TZOFFSETFROM:+0100
TZOFFSETTO:+0200
TZNAME:CEST
DTSTART:20240331T010000
END:DAYLIGHT
BEGIN:STANDARD
TZOFFSETFROM:+0200
TZOFFSETTO:+0100
TZNAME:CET
DTSTART:20241027T010000
END:STANDARD
BEGIN:DAYLIGHT
TZOFFSETFROM:+0100
TZOFFSETTO:+0200
TZNAME:CEST
DTSTART:20250330T010000
END:DAYLIGHT
BEGIN:STANDARD
TZOFFSETFROM:+0200
TZOFFSETTO:+0100
TZNAME:CET
DTSTART:20251026T010000
END:STANDARD
BEGIN:DAYLIGHT
TZOFFSETFROM:+0100
TZOFFSETTO:+0200
TZNAME:CEST
DTSTART:20260329T010000
END:DAYLIGHT
BEGIN:STANDARD
TZOFFSETFROM:+0200
TZOFFSETTO:+0100
TZNAME:CET
DTSTART:20261025T010000
END:STANDARD
END:VTIMEZONE
BEGIN:VEVENT
DTSTART;TZID=Europe/Berlin:20250917T190000
DTEND;TZID=Europe/Berlin:20250917T210000
DTSTAMP:20260422T132729
CREATED:20250731T161939Z
LAST-MODIFIED:20250731T162023Z
UID:41271-1758135600-1758142800@dev.our-events.de
SUMMARY:queer.lit! im Lagerhaus
DESCRIPTION:Simoné Goldschmidt-Lechner kommt auf Einladung des [virt.] Literaturhaus Bremen. Sie schreibt\, übersetzt\, interessiert sich für (queere) Fandoms online\, Horror aus postmigrantischer Perspektive\, Sprache in Videospielen und sprachlich Experimentelles. Seit 2022 ist sie Teil verschiedener Theater-\, Performance- sowie Filmprojekte. Sie gibt das Literaturmagazin process*in mit heraus. 2022 erschien der Debütroman Messer\, Zungen\, 2024 das zweisprachige Buch Ich kann dich noch sehen (an diesen Tagen)\, das mit dem Preis für das Buch des Jahres der Hamburger Literaturpreise ausgezeichnet wurde. Moderation: Janin Rominger. Eine Kooperation des [virt.] Literaturhaus\, von Queeraspora e.V.\, des Kulturzentrum Lagerhaus\, des Bremer Literaturkontors und des Rat&Tat–Zentrum für queeres Leben. Einlass: 18.30 Uhr. Im SAAL. \nCopyright Text & Bild: Lagerhaus
URL:https://dev.our-events.de/event/queer-lit-im-lagerhaus/
LOCATION:Kulturzentrum Lagerhaus\, Schildstraße 12-19\, Bremen\, 28203
CATEGORIES:Literatur
ATTACH;FMTTYPE=image/png:https://dev.our-events.de/wp-content/uploads/2025/03/dreieck_kultur_100-6.png
END:VEVENT
BEGIN:VEVENT
DTSTART;TZID=Europe/Berlin:20250917T193000
DTEND;TZID=Europe/Berlin:20250917T220000
DTSTAMP:20260422T132729
CREATED:20250829T131327Z
LAST-MODIFIED:20250829T131327Z
UID:42739-1758137400-1758146400@dev.our-events.de
SUMMARY:Sarah McCoy - Konzert im KITO
DESCRIPTION:Eine Sirene? Eine Hohepriesterin? Sarah McCoy versteht es\, in Rollen zu schlüpfen – zumal etwas davon tatsächlich in ihr steckt. \nGewiss ist: Die US-Amerikanerin\, die in Frankreich eine zweite Heimat fand\, hat das Potenzial einer künstlerischen Naturgewalt. Das befand auch Chilly Gonzalez\, der zum Freund wurde und McCoys Karriere wesentlich beförderte. Ihr Stimme\, ob durchdringend oder samtig-leise\, kann unter die Haut gehen. \nPianistisch bringt sie mühelos Blues\, Jazz\, Pop\, Chanson und Soul unter einen Hut. In den Songs wechselt sie zwischen Draufgängertum\, Witz\, Verletzlichkeit und abgründigen Visionen. Getragen wird all das von überbordenden Fähigkeiten als Performerin. Hinter McCoys schillerndem Auftreten versteckt sich eine empfindsame Person. Ihre schwierige Jugend in South Carolina ließ sie gen Kalifornien hinter sich\, im Gepäck eine Gitarre. Inzwischen ist das Klavier ihr Hauptinstrument. Fuß faßte sie Jahre später in der Club- und Kneipenszene von New Orleans. 2019 erschien auf dem Blue-Note-Label das Album “Blood Siren”. Ihre aktuelles Album heißt “High Priestess”. \n© Text: KITO / © Bild: KITO
URL:https://dev.our-events.de/event/sarah-mccoy-konzert-im-kito/
LOCATION:KITO – altes Packhaus\, Alte Hafenstraße 30\, Bremen\, 28757
CATEGORIES:Konzert
ATTACH;FMTTYPE=image/jpeg:https://dev.our-events.de/wp-content/uploads/2025/08/Design_ohne_Titel_58__1753103178.jpeg
END:VEVENT
BEGIN:VEVENT
DTSTART;TZID=Europe/Berlin:20250917T200000
DTEND;TZID=Europe/Berlin:20250917T220000
DTSTAMP:20260422T132729
CREATED:20250813T133043Z
LAST-MODIFIED:20250813T133044Z
UID:41906-1758139200-1758146400@dev.our-events.de
SUMMARY:Local Radio's Rocking Safari  Funk\, Soul\, Rock & Pop\, Delmenhorst im Meisenfrei
DESCRIPTION:Auch wenn die Tage langsam kühler werden\, hält das die Funkademy im Rahmen unserer Traditionsveranstaltung Rocking Safari nicht davon ab\, noch einmal für eine erhöhte Raumtemperatur zu sorgen. Die Truppe in mittlerer Bigband-Stärke hat – richtig – Funk\, aber auch Soul und Pop im Stil der 70er und 80er Jahre im Instrumentenkoffer\, modern inszeniert und samt und sonders aus eigener Feder. Die Band (inklusive fettem Bläseranteil) grooved sich in Party-Qualität durchs Programm\, berührt das Publikum mit emotionaler Tiefe und vergisst dabei jedoch niemals den Humor. Wir wünschen viel Vergnügen. \nCopyright Text & Bild: Meisenfrei
URL:https://dev.our-events.de/event/local-radios-rocking-safari-funk-soul-rock-pop-delmenhorst-im-meisenfrei-2/
LOCATION:Meisenfrei\, Hankenstraße 18\, Bremen\, 28195
CATEGORIES:Konzert
ATTACH;FMTTYPE=image/jpeg:https://dev.our-events.de/wp-content/uploads/2025/08/2025-09-17-Funkademy.jpg
END:VEVENT
END:VCALENDAR