BEGIN:VCALENDAR
VERSION:2.0
PRODID:-//Our Events - ECPv6.15.20//NONSGML v1.0//EN
CALSCALE:GREGORIAN
METHOD:PUBLISH
X-WR-CALNAME:Our Events
X-ORIGINAL-URL:https://dev.our-events.de
X-WR-CALDESC:Veranstaltungen für Our Events
REFRESH-INTERVAL;VALUE=DURATION:PT1H
X-Robots-Tag:noindex
X-PUBLISHED-TTL:PT1H
BEGIN:VTIMEZONE
TZID:Europe/Berlin
BEGIN:DAYLIGHT
TZOFFSETFROM:+0100
TZOFFSETTO:+0200
TZNAME:CEST
DTSTART:20240331T010000
END:DAYLIGHT
BEGIN:STANDARD
TZOFFSETFROM:+0200
TZOFFSETTO:+0100
TZNAME:CET
DTSTART:20241027T010000
END:STANDARD
BEGIN:DAYLIGHT
TZOFFSETFROM:+0100
TZOFFSETTO:+0200
TZNAME:CEST
DTSTART:20250330T010000
END:DAYLIGHT
BEGIN:STANDARD
TZOFFSETFROM:+0200
TZOFFSETTO:+0100
TZNAME:CET
DTSTART:20251026T010000
END:STANDARD
BEGIN:DAYLIGHT
TZOFFSETFROM:+0100
TZOFFSETTO:+0200
TZNAME:CEST
DTSTART:20260329T010000
END:DAYLIGHT
BEGIN:STANDARD
TZOFFSETFROM:+0200
TZOFFSETTO:+0100
TZNAME:CET
DTSTART:20261025T010000
END:STANDARD
END:VTIMEZONE
BEGIN:VEVENT
DTSTART;TZID=Europe/Berlin:20250918T163000
DTEND;TZID=Europe/Berlin:20250918T180000
DTSTAMP:20260422T150753
CREATED:20250831T184906Z
LAST-MODIFIED:20250901T100332Z
UID:42801-1758213000-1758218400@dev.our-events.de
SUMMARY:Glanzstücke\, Konzert mit Ella Winkelmann
DESCRIPTION:Die Bremer Pianistin und Entertainerin Ella Winkelmann spielt „Glanzstücke“ aus ihrem unerschöpflichen Repertoire\, das von Klassik bis Swing reicht.
URL:https://dev.our-events.de/event/glanzstuecke-konzert-mit-ella-winkelmann/
LOCATION:Haus der Zukunft – Kulur-Cafe\, Lüssumer Heide 6\, Bremen\, 28777
CATEGORIES:Klassik,Konzert,Rock / Pop / Jazz / Country
ATTACH;FMTTYPE=image/png:https://dev.our-events.de/wp-content/uploads/2025/08/Ella.png
ORGANIZER;CN="Kultur-Caf%C3%A9":MAILTO:haus-der-zukunft-kultur-cafe@gmx.de
END:VEVENT
BEGIN:VEVENT
DTSTART;TZID=Europe/Berlin:20250918T193000
DTEND;TZID=Europe/Berlin:20250918T213000
DTSTAMP:20260422T150753
CREATED:20250818T093814Z
LAST-MODIFIED:20250818T093828Z
UID:42112-1758223800-1758231000@dev.our-events.de
SUMMARY:HAMLET VON WILLIAM SHAKESPEARE. IN ORIGINAL SHAKESPEARE-ENGLISH in der shakespear company
DESCRIPTION:AN DAS PUBLIKUM\nTHOUGH THIS BE MADNESS\, YET THERE’S METHOD IN’T.\n“Ist es auch Wahnsinn\, so hat es doch Methode” – Warum spielen wir HAMLET in originalem Shakespeare-Englisch? Ist das für heutiges Publikum – noch dazu Deutsch-Muttersprachler mit Schul-Englischkenntnissen – nicht viel zu schwer zu verstehen? Wir denken\, nein\, ist es nicht. Denn Shakespeares Texte wurden nicht geschrieben\, um sie stumm lesend im “stillen Kämmerlein” als reine Literatur zu konsumieren\, sondern sie wurden für die Bühne geschrieben\, für Schauspieler\, die die Worte in ihrem Mund und mit ihrem körperlichen Spiel zum Leben erwecken.\nZu Shakespeares Zeit war das Theater keine hochgestochene “Akademiker-Veranstaltung”. Da saßen oder standen Menschen aller Stände und aller Grade von Bildung oder Unbildung zusammen und ließen sich von den Geschichten und Figuren in diese faszinierende Dramenwelt entführen. Es spielte keine Rolle\, wenn einem das eine oder andere Wort oder eine Anspielung in einer Zeile entging. Der Verständlichkeit des Dramas tat das keinen Abbruch – denn es war ja schließlich Theater und keine “lecture”. Was alle Zuschauer:innen gleichermaßen verband\, war der Genuss des unvergleichlichen “Sounds”\, der Shakespeares Verse so unverwechselbar macht und dessen Faszination die Jahrhunderte überdauert. Genießen Sie also einfach genau wie das Publikum zu Shakespeares Zeit\, und es entgeht Ihnen nichts! \nCopyright Text & Bild: Shakespeare Company
URL:https://dev.our-events.de/event/hamlet-von-william-shakespeare-in-original-shakespeare-english-in-der-shakespear-company/
LOCATION:Theater am Leibnitzplatz\, Schulstraße 26\,\, Bremen\, 28199
CATEGORIES:Theater
ATTACH;FMTTYPE=image/png:https://dev.our-events.de/wp-content/uploads/2025/08/Unterstuetzer_Shakespeare-Company.png
END:VEVENT
BEGIN:VEVENT
DTSTART;TZID=Europe/Berlin:20250918T200000
DTEND;TZID=Europe/Berlin:20250918T220000
DTSTAMP:20260422T150753
CREATED:20250905T055716Z
LAST-MODIFIED:20250905T060344Z
UID:42899-1758225600-1758232800@dev.our-events.de
SUMMARY:Cüneyt Akan Drama King im KUBA
DESCRIPTION:n seinem Programm „DRAMA KING“ zeigt der Wiesbadener Cüneyt Akan\, dass man nicht alles\, was im Leben passiert\, verstehen muss. Er tut es selbst auch nicht. Der sympathische Comedian nimmt Sie mit in seine Welt zwischen gescheiterten Beziehungen\, der Sehnsucht nach Früher und Identitätskrisen ­- aber bitte nicht so viel Drama… \nAlso lassen Sie sich durch seine Spontanität und schlagkräftigen Dialoge begeistern und mitreißen. Eines ist aber garantiert – es wird nicht\, wie man Comedy erwartet. \nWer erleben will\, was Empathie bedeutet\, muss Cüneyt einfach kennenlernen! Der Deutsch-Türke versteht es\, auf charmante und liebenswerte Weise über Familie\, Beruf und soziale Probleme zu sprechen. Natürlich immer mit einem kleinen Augenzwinkern. Aber Achtung: Wer bei ihm Klischee-Comedy erwartet\, hat sich geschnitten. Neben seinen zahlreichen Bühnenauftritten\, u.a. mit „NightWash live“ (Bundesweit) und im „Quatsch Comedy Club“ (Berlin\, Hamburg\, München)\, ist Cüneyt Akan auch immer wieder im TV zu sehen. \nCopyright Text & Bild: KITO
URL:https://dev.our-events.de/event/cueneyt-akan-drama-king-im-kuba/
LOCATION:Kulturbahnhof Vegesack\, Herman-Fortmann-Str. 32\, Bremen\, 28759
CATEGORIES:Konzert
ATTACH;FMTTYPE=image/jpeg:https://dev.our-events.de/wp-content/uploads/2025/09/Cueneyt_Akan_5___Cueneyt_Akan_1727785315.jpeg
END:VEVENT
BEGIN:VEVENT
DTSTART;TZID=Europe/Berlin:20250918T200000
DTEND;TZID=Europe/Berlin:20250918T230000
DTSTAMP:20260422T150753
CREATED:20250627T112026Z
LAST-MODIFIED:20250627T112026Z
UID:39930-1758225600-1758236400@dev.our-events.de
SUMMARY:Flying Circus  Progressive\, NRW im Meisenfrei
DESCRIPTION:Heute Abend gibt es einen Leckerbissen für Freunde der ausgefeilten Musik zu hören: Der Flying Circus ist in der Stadt. In der Manege des für Artistik bekannten Meisenfrei Blues Clubs finden sich heute fünf Musiker ein\, die jeder für sich zu den Könnern ihres Faches zählen und dazu auch noch jede Menge Erfahrung mitbringen. Kein Wunder\, wurde die Band doch bereits im Jahr 1990 gegründet. Flying Circus verbindet die Welten Hard Rock und Progressive Rock – und das auf bemerkenswerte und geniale Weise. Ein Rezensent meinte auch Weltmusik\, Folk und Klassik sowie Rush\, Led Zeppelin oder auch Rainbow zu erkennen. Wir meinen\, dass sich die Band vor allem wie Flying Circus anhört\, und das ist ebenso einzigartig wie absolut hörenswert! \nCopyright Text & Bild: Meisenfrei
URL:https://dev.our-events.de/event/flying-circus-progressive-nrw-im-meisenfrei/
LOCATION:Meisenfrei\, Hankenstraße 18\, Bremen\, 28195
CATEGORIES:Konzert,Rock / Pop / Jazz / Country
ATTACH;FMTTYPE=image/jpeg:https://dev.our-events.de/wp-content/uploads/2025/06/2025-09-18-FlyingCircus.jpg
END:VEVENT
END:VCALENDAR