BEGIN:VCALENDAR
VERSION:2.0
PRODID:-//Our Events - ECPv6.15.20//NONSGML v1.0//EN
CALSCALE:GREGORIAN
METHOD:PUBLISH
X-ORIGINAL-URL:https://dev.our-events.de
X-WR-CALDESC:Veranstaltungen für Our Events
REFRESH-INTERVAL;VALUE=DURATION:PT1H
X-Robots-Tag:noindex
X-PUBLISHED-TTL:PT1H
BEGIN:VTIMEZONE
TZID:Europe/Berlin
BEGIN:DAYLIGHT
TZOFFSETFROM:+0100
TZOFFSETTO:+0200
TZNAME:CEST
DTSTART:20240331T010000
END:DAYLIGHT
BEGIN:STANDARD
TZOFFSETFROM:+0200
TZOFFSETTO:+0100
TZNAME:CET
DTSTART:20241027T010000
END:STANDARD
BEGIN:DAYLIGHT
TZOFFSETFROM:+0100
TZOFFSETTO:+0200
TZNAME:CEST
DTSTART:20250330T010000
END:DAYLIGHT
BEGIN:STANDARD
TZOFFSETFROM:+0200
TZOFFSETTO:+0100
TZNAME:CET
DTSTART:20251026T010000
END:STANDARD
BEGIN:DAYLIGHT
TZOFFSETFROM:+0100
TZOFFSETTO:+0200
TZNAME:CEST
DTSTART:20260329T010000
END:DAYLIGHT
BEGIN:STANDARD
TZOFFSETFROM:+0200
TZOFFSETTO:+0100
TZNAME:CET
DTSTART:20261025T010000
END:STANDARD
END:VTIMEZONE
BEGIN:VEVENT
DTSTART;TZID=Europe/Berlin:20250919T100000
DTEND;TZID=Europe/Berlin:20250919T180000
DTSTAMP:20260422T185632
CREATED:20250807T152010Z
LAST-MODIFIED:20250813T133102Z
UID:41654-1758276000-1758304800@dev.our-events.de
SUMMARY:Ausflug zum Magic Park Verden / Екскурсія до Magic Park Verden / Excursion to Magic Park Verden
DESCRIPTION:Der Magic Park Verden bietet eine gute Mischung aus Abenteuer\, Unterhaltung und Entspannung für die ganze Familie. Der Park richtet sich vor allem an Familien mit kleineren Kindern. Er verbindet klassische Fahrgeschäfte mit einer Welt voller Zauberei und Märchen. Ihr könnt dort eine Vielzahl von Attraktionen erleben\, von Karussells über eine Märchenbahn bis hin zu einem Streichelzoo. Ein besonderes Highlight sind die Zaubershows\, die regelmäßig im Park aufgeführt werden. Der Park zeichnet sich durch seine liebevolle Gestaltung aus\, die eine magische Atmosphäre schafft. Zahlreiche Spielplätze und grüne Erholungsflächen laden dazu ein\, den Tag entspannt zu verbringen. \nDer Ausflug findet in der Gruppe statt. Ihr werdet begleitet von Achim. \nWann: 10:00 Uhr \nTreffpunkt ist die Bahnhofsinformation Bremen HBF (in der Mitte der Halle am Haupteingang des Bahnhofs). \nDie Teilnahme ist kostenlos. \nAnreise erfolgt auf eigene Kosten. \nAbreise kann individuell erfolgen oder ihr trefft euch um 17:00 an der Kasse im Eingangsbereich. \nЕкскурсія до Magic Park Verden\nMagic Park Verden пропонує чудове поєднання пригод\, розваг та відпочинку для всієї родини. Парк орієнтований переважно на сім’ї з маленькими дітьми. Він поєднує класичні атракціони зі світом чарівництва та казок. Ви можете відвідати безліч атракціонів\, від каруселей і казкового потяга до контактного зоопарку. Особливою родзинкою є магічні шоу\, які регулярно проводяться в парку. Парк вирізняється своїм чудовим оформленням\, яке створює магічну атмосферу. Численні ігрові майданчики та зелені зони відпочинку запрошують провести день у розслабленій атмосфері. \nЕкскурсія проводиться в групі. Вас супроводжуватиме Ахім. \nКоли: 10:00 \nМісце зустрічі — інформаційний центр залізничного вокзалу Бремен (у центрі зали біля головного входу на вокзал). \nУчасть безкоштовна. \nДоїзд за власний рахунок. \nВід’їзд можна організувати індивідуально або зустрітися о 17:00 біля каси у вестибюлі. \nTranslated with DeepL.com (free version) \nCopyright Bild: Magic Park Verden GmbH \nExcursion to Magic Park Verden\nMagic Park Verden offers a great mix of adventure\, entertainment\, and relaxation for the whole family. The park is primarily aimed at families with young children. It combines classic rides with a world full of magic and fairy tales. You can experience a variety of attractions there\, from carousels and a fairy tale train to a petting zoo. A special highlight are the magic shows that are regularly performed in the park. The park is characterized by its loving design\, which creates a magical atmosphere. Numerous playgrounds and green recreational areas invite you to spend a relaxing day. \nThe excursion takes place in a group. You will be accompanied by Achim. \nWhen: 10:00 a.m. \nThe meeting point is the Bremen HBF station information desk (in the middle of the hall at the main entrance of the station). \nParticipation is free of charge. \nTravel to the park is at your own expense. \nYou can leave individually or meet at 5:00 p.m. at the ticket office in the entrance area. \n  \nCopyright Text & Bild: Magic Park Verden GmbH
URL:https://dev.our-events.de/event/magic-park-verden-copy/
LOCATION:Magic Park Verden\, Heideweg 5-7\, Verden\, 27283
CATEGORIES:Freizeitpark,Unterhaltung
ATTACH;FMTTYPE=image/jpeg:https://dev.our-events.de/wp-content/uploads/2025/08/Magic_Park_Verden_012.jpg
END:VEVENT
BEGIN:VEVENT
DTSTART;TZID=Europe/Berlin:20250919T183000
DTEND;TZID=Europe/Berlin:20250919T193000
DTSTAMP:20260422T185632
CREATED:20250814T145930Z
LAST-MODIFIED:20250814T150051Z
UID:41986-1758306600-1758310200@dev.our-events.de
SUMMARY:Katze Greeven: Die Entfesselung des Sebastian
DESCRIPTION:Performance am Werdersee\n\nTreffpunkt: 18:15 bei der Schwankhalle\, Peter-­Zadek-­PlatzEintritt frei \n\n\n\n»Was ist langweiliger als Fahnenschwenken? Beim Fahnenschwenken zuschauen!«(Schützen-Weisheit) \nKatze Greeven ist mit dem Schützenfest am Niederrhein aufgewachsen und beobachtete Jahr für Jahr gebannt das Fahnen­schwenken auf der sonntäglichen Parade. Eine für die Region typische Fahnen­schwenk­abfolge ist »Die Fesselung und Entfesselung des heiligen Sebastian«\, bei der eine Fahne in horizontalen Kreisen von Kopf bis Fuß um den Körper geführt wird. Jede Umkreisung beschreibt eine Fläche so flach wie der Niederrhein selbst. \n\n\nIn Katzes Dorf waren alle Fahnen­schwenker Männer. Jetzt will die Künstler*in selbst zur Schwenker*in werden und lässt sich von ihrem Bruder die Abfolge beibringen\, um sie nach Bremen zu tragen. Gemeinsam mit der Musiker*in Cordula Heins und einer Blech­bläser*in entwirft Katze die Choreografie der (Ent-) Fesselung neu und lässt Sebastian sprechen. Wie formbar sind militärische\, christliche und patriarchale Wurzeln? Hat ein Heiliger das Potenzial zum Dragking? Und was befindet sich jenseits der Langeweile? \nIm Dialog zwischen Fahnen\, Gesang und Blasinstrument entsteht auf einer Wiese am Deich hinter der Schwankhalle ein Ritual zwischen Unterhaltungs­show und urbanem Brauchtum. Die Performance fragt nach der Rolle der Gemeinschaft in Städten und nach dem Weiterleben von kulturellem Erbe. Umkreisung für Umkreisung wird die Wiederholung zum Symbol für das Aufbrechen von Traditionen. \nKatze Greeven (alle Pronomen) kommt aus Griether­busch. In ihren performativen Arbeiten fordert die Künstler*in mittels Tanz\, Sprache und Humor bestehende Machtgefüge und Traditionen heraus. Im Fokus dabei: Der Körper und seine Geschichten als Ort für Verletzlichkeit und Veränderung. Katze arbeitet seit 2019 mit dem Performance­kollektiv b/w*itch ↗. Nach dem Master Performance Studies an der Universität Hamburg hat sie das Grund­stundstudium Tanz bei bewegungs-­art in Freiburg abgeschlossen. Aktuell ist sie Stipendiatin des »übenübenüben³« Stipendiums der Montag Stiftung Kunst und Gesellschaft in Mönchen­gladbach. Zuletzt produzierte Katze gemeinsam mit Kattú Mitxelena Newiger und der Rapperin Finna »lost particles – das Darmstück« in der Schwankhalle. \nInstagram @katzegreeven ↗ \n\n\nCredits\nChoreografie & Performance: Katze GreevenGesang & Performance: Cordula HeinsHorn: Karin KnoblochKostüm\, Fahnen & Bühne: Staeff GüntherDramaturgie: Judith StrodtkötterChoreografisches Outside Eye: Neus Ledesma VidalCritical Observing: Yvonne SembeneProduktionsleitung: Anne Storm \nKoproduktion: Schwankhalle. Gefördert vom Senator für Kultur der Freien Hansestadt Bremen\, der Sparkasse Bremen und dem Ortsbeirat Neustadt.
URL:https://dev.our-events.de/event/katze-greeven-die-entfesselung-des-sebastian/
LOCATION:Schwankhalle\, Buntentorsteinweg 112/116\, Bremen\, 28201
CATEGORIES:Performance,Theater
ATTACH;FMTTYPE=image/jpeg:https://dev.our-events.de/wp-content/uploads/2025/08/Katze-Greeven_Entfesselung_c_Todor-Joe-Musev_01_web.jpg
END:VEVENT
BEGIN:VEVENT
DTSTART;TZID=Europe/Berlin:20250919T193000
DTEND;TZID=Europe/Berlin:20250919T213000
DTSTAMP:20260422T185632
CREATED:20250818T094342Z
LAST-MODIFIED:20250818T094355Z
UID:42119-1758310200-1758317400@dev.our-events.de
SUMMARY:DER KAMPF UM ENTSCHÄDIGUNG Szenische Lesung aus der Reihe “Aus den Akten auf die Bühne” in der shakespear company
DESCRIPTION:100 Bremer Jüdinnen und Juden flüchten nach 1933 nach Argentinien\, Chile und Uruguay. Nach Chile flüchten zuerst bekannte Rechtsanwälte\, darunter z. B. Dr. Richard Hamburger und Dr. Hermann Lehmann\, denen im April 1933 ihre Zulassung als Anwalt entzogen wurde. Bis 1940 entschieden sich für die Flucht auch Viehhändler\, Baumwollklassierer\, Verkäuferinnen\, u.v.a. In der Lesung wird anhand einiger Biographien exemplarisch aufgezeigt\, wie das Landesamt für Wiedergutmachung nach dem Krieg mit ihnen umging. Während die Ansprüche von Rechtsanwälten meist vollständig bewilligt wurden\, hatten es Frauen\, z.B. Verkäuferinnen\, deutlich schwerer\, eine auch nur geringfügige Entschädigung zu bekommen. Die Ausgaben für Wiedergutmachung wurden in der Bevölkerung und von Politikern wie Bundesfinanzminister Fritz Schäffer (CSU) immer wieder kritisiert.\nDagegen setzte sich Gerhard van Heukelum\, 1948 bis 1959 Senator für Arbeit in Bremen\, immer wieder dafür ein\, Opfern des Nationalsozialismus Entschädigungen zu bewilligen. \nSzenische Lesung ass der Reihe »Aus den Akten auf die Bühne«. Kooperation bremer shakespeare company und Universität Bremen. \nCopyright Text & Bild: Shakespeare Company
URL:https://dev.our-events.de/event/der-kampf-um-entschaedigung-szenische-lesung-aus-der-reihe-aus-den-akten-auf-die-buehne-in-der-shakespear-company/
LOCATION:Theater am Leibnitzplatz\, Schulstraße 26\,\, Bremen\, 28199
CATEGORIES:Lesung
ATTACH;FMTTYPE=image/png:https://dev.our-events.de/wp-content/uploads/2025/08/Unterstuetzer_Shakespeare-Company.png
END:VEVENT
BEGIN:VEVENT
DTSTART;TZID=Europe/Berlin:20250919T200000
DTEND;TZID=Europe/Berlin:20250919T213000
DTSTAMP:20260422T185632
CREATED:20250814T150708Z
LAST-MODIFIED:20250815T103939Z
UID:41993-1758312000-1758317400@dev.our-events.de
SUMMARY:Manuel Gerst: Die Verwandlung - Happening in der Schwankhalle
DESCRIPTION:Performance / Happening \n\nGregor Samsa erwacht eines Morgens in ein riesiges Ungeziefer verwandelt. Das Mitleid seiner Familie schlägt bald in Entfremdung und Aggression um; die letzten Anker zur Sphäre des Menschlichen sind das Geigenspiel seiner geliebten Schwester und ein erotisch aufgeladenes Bild einer Dame im Pelz. Sein Tod ist am Ende eine Erlösung für alle. \nManuel Gerst bringt Kafkas berühmte Erzählung als Happening aus der Event-Industrie auf die Bühne. Referenzen zu Junggesellen-­Abschieden und Aggressionsabbau in der Gruppe treffen auf Aktionskunst und Destruction-Art. Im Spannungsfeld zwischen Versehrtheit und Unversehrtheit wird hier Kafkas Parabel als Geschichte über Behinderung gelesen. Die Aggression gegenüber dem deformierten Anderen aus der Erzählung wird auf der Bühne in Aggression gegen das Objekt gerichtet. Am Ende ist es egal\, welche Position das Publikum einnimmt – die Delle bleibt die gleiche. Wer ohne Sünde ist\, werfe den ersten Apfel. \n\n\nManuel Gerst studierte Angewandte Theater­wissenschaft in Gießen bei Heiner Goebbels und Bühnen- und Kostümbild in München bei Katrin Brack. Er ist Gründungs­mitglied der Performance­gruppe Monster Truck\, die von 2005 bis 2022 an der Schnittstelle von Theater und Bildender Kunst Projekte in der Freien Szene und am Stadttheater realisiert hat. Die Stücke von Monster Truck tourten international und wurden mehrfach ausgezeichnet (u. a. mit dem George Tabori Hauptpreis). 2019 bekam Manuel Gerst den Hein-­Heckroth-­Förderpreis für Bühnenbild verliehen. Seit Sommer 2024 arbeitet er als Agent für Diversität am Theaterhaus Gessnerallee Zürich. Daneben ist er weiterhin als Regisseur und Bühnenbildner tätig. \nInstagram @manuelgerst ↗ \n 
URL:https://dev.our-events.de/event/manuel-gerst-die-verwandlung/
LOCATION:Schwankhalle\, Buntentorsteinweg 112/116\, Bremen\, 28201
CATEGORIES:Performance,Theater
ATTACH;FMTTYPE=image/jpeg:https://dev.our-events.de/wp-content/uploads/2025/08/Manuel-Gerst_Die-Verwandlung_c_Paul-Max-Fischer_02_web.jpg
END:VEVENT
END:VCALENDAR