BEGIN:VCALENDAR
VERSION:2.0
PRODID:-//Our Events - ECPv6.15.20//NONSGML v1.0//EN
CALSCALE:GREGORIAN
METHOD:PUBLISH
X-ORIGINAL-URL:https://dev.our-events.de
X-WR-CALDESC:Veranstaltungen für Our Events
REFRESH-INTERVAL;VALUE=DURATION:PT1H
X-Robots-Tag:noindex
X-PUBLISHED-TTL:PT1H
BEGIN:VTIMEZONE
TZID:Europe/Berlin
BEGIN:DAYLIGHT
TZOFFSETFROM:+0100
TZOFFSETTO:+0200
TZNAME:CEST
DTSTART:20240331T010000
END:DAYLIGHT
BEGIN:STANDARD
TZOFFSETFROM:+0200
TZOFFSETTO:+0100
TZNAME:CET
DTSTART:20241027T010000
END:STANDARD
BEGIN:DAYLIGHT
TZOFFSETFROM:+0100
TZOFFSETTO:+0200
TZNAME:CEST
DTSTART:20250330T010000
END:DAYLIGHT
BEGIN:STANDARD
TZOFFSETFROM:+0200
TZOFFSETTO:+0100
TZNAME:CET
DTSTART:20251026T010000
END:STANDARD
BEGIN:DAYLIGHT
TZOFFSETFROM:+0100
TZOFFSETTO:+0200
TZNAME:CEST
DTSTART:20260329T010000
END:DAYLIGHT
BEGIN:STANDARD
TZOFFSETFROM:+0200
TZOFFSETTO:+0100
TZNAME:CET
DTSTART:20261025T010000
END:STANDARD
END:VTIMEZONE
BEGIN:VEVENT
DTSTART;TZID=Europe/Berlin:20250924T200000
DTEND;TZID=Europe/Berlin:20250924T220000
DTSTAMP:20260423T020559
CREATED:20250813T134058Z
LAST-MODIFIED:20250813T134058Z
UID:41925-1758744000-1758751200@dev.our-events.de
SUMMARY:Dr. Cleanhead  Blues\, Bremen im Meisenfrei
DESCRIPTION:Dr. Cleanhead haben definitiv den Blues\, und den spielen sie so\, wie er eigentlich schon immer gedacht war: Simpel in Melodie und Text\, dafür mit umso mehr Groove\, und immer wieder auch mit dem Mut zu ehrlichen und mitreißenden Gefühlen\, von der verträumten Ballade zum stampfenden Boogie\, vom andächtigen Gospel zum rumpelnden Mardi Gras. Zum unverwechselbaren Doctor Cleanhead-Sound trägt dabei nicht unwesentlich bei\, dass ein Großteil der Instrumentierung auch bei Stromausfall noch klasse klingt: Zum Einsatz kommen Instrumente wie Harmonika\, Cajon und das gute alte Waschbrett. Das Programm reicht von Robert Johnson über Muddy Waters und Leadbelly bis zu Janis Lyn Joplin\, wobei die Stücke auf das Wesentliche reduziert und auf den Punkt gebracht werden. Und auch wenn die musikalisch wie menschlich erfahrenen Herren die Songs „frei von intellektuellen Störfeldern“ präsentieren: die eine oder andere interessante Info zu Liedgut und Original-Interpreten gibt’s gratis obendrauf. \nCopyright Text & Bild: Meisenfrei
URL:https://dev.our-events.de/event/dr-cleanhead-blues-bremen-im-meisenfrei/
LOCATION:Meisenfrei\, Hankenstraße 18\, Bremen\, 28195
CATEGORIES:Konzert
ATTACH;FMTTYPE=image/jpeg:https://dev.our-events.de/wp-content/uploads/2025/08/2025-09-24-Dr.Cleanhead.jpg
END:VEVENT
END:VCALENDAR