BEGIN:VCALENDAR
VERSION:2.0
PRODID:-//Our Events - ECPv6.15.20//NONSGML v1.0//EN
CALSCALE:GREGORIAN
METHOD:PUBLISH
X-WR-CALNAME:Our Events
X-ORIGINAL-URL:https://dev.our-events.de
X-WR-CALDESC:Veranstaltungen für Our Events
REFRESH-INTERVAL;VALUE=DURATION:PT1H
X-Robots-Tag:noindex
X-PUBLISHED-TTL:PT1H
BEGIN:VTIMEZONE
TZID:Europe/Berlin
BEGIN:DAYLIGHT
TZOFFSETFROM:+0100
TZOFFSETTO:+0200
TZNAME:CEST
DTSTART:20240331T010000
END:DAYLIGHT
BEGIN:STANDARD
TZOFFSETFROM:+0200
TZOFFSETTO:+0100
TZNAME:CET
DTSTART:20241027T010000
END:STANDARD
BEGIN:DAYLIGHT
TZOFFSETFROM:+0100
TZOFFSETTO:+0200
TZNAME:CEST
DTSTART:20250330T010000
END:DAYLIGHT
BEGIN:STANDARD
TZOFFSETFROM:+0200
TZOFFSETTO:+0100
TZNAME:CET
DTSTART:20251026T010000
END:STANDARD
BEGIN:DAYLIGHT
TZOFFSETFROM:+0100
TZOFFSETTO:+0200
TZNAME:CEST
DTSTART:20260329T010000
END:DAYLIGHT
BEGIN:STANDARD
TZOFFSETFROM:+0200
TZOFFSETTO:+0100
TZNAME:CET
DTSTART:20261025T010000
END:STANDARD
END:VTIMEZONE
BEGIN:VEVENT
DTSTART;TZID=Europe/Berlin:20250926T170000
DTEND;TZID=Europe/Berlin:20250926T220000
DTSTAMP:20260423T053839
CREATED:20250813T091949Z
LAST-MODIFIED:20250813T091949Z
UID:41850-1758906000-1758924000@dev.our-events.de
SUMMARY:FAC-Festival Lesung\, Konzerte & Massenkaraoke im Schlachthof
DESCRIPTION:Wir haben in unserer Veranstaltungsreihe „Femme Art Club“ ein neues Bonbon für euch! Der „Femme Art Club“ versteht sich als Kampfansage an die Männerdominanz auf den Bühnen: Ein lautes FAC (fuck) in Richtung all der Gatekeeper in der Veranstaltungsbranche! Wie würde das besser gehen als mit einem ganzen Abend geballter FLINTA*-Power für mehr Sichtbarkeit? Zum ersten Mal wird es das FAC-Festival in der Reihe geben mit einer Lesung\, einem Line-up mit Künstler:innen aus Hip Hop\, Pop\, Punk und Rock und zum krönenden Abschluss vereinen wir alle unsere Stimmen zum großen FAC-Chor! \nLine up\nLos geht es um 17 Uhr mit einer Lesung der Journalistin Sonja Eismann auf dem Magazinboden. Sie ist Mitgründerin des Missy Magazins und schreibt u.a. für taz\, Freitag und Deutschland Funk Kultur. Im September erscheint ihr Buch „Candy Girls“ über die patriarchalen Strukturen in der Musikindustrie. In einer so wütenden wie lehrreichen Mischung aus Analyse und Abrechnung zeigt sie\, wie tief Sexismus und Ageismus in die Musikindustrie eingeschrieben sind\, wie wir als Konsument:innen den male gaze erlernt und verinnerlicht haben\, wie Missbrauch und Pädosexualität in fast allen Genres akzeptiert werden. \nAls erster musikalischer Act des FAC-Festivals wird uns Goldy.mp3 karmisch aufwärmen. Ihre Debut-Single “Karma” und der Song “Sexroboter” featuring Tightill hat sie vor vier Jahren in zahlreiche Playlists katapultiert. Aktuell arbeitet Goldy.mp3 an einer neuen EP\, die im Oktober erscheinen wird. Punk\, Neue Deutsche Welle\, Hip Hop und Pop – Goldy.mp3 lässt sich auf kein Genre reduzieren! \nDie Musikerin Güner Künier ist eine der neuen Protagonistinnen der Berliner Postpunk DIY Szene. Sie knallt uns eine geballte Ladung Postpunk\, Minimal-/Synthpunk gespickt mit einer ordentlichen Packung Riot Grrrl Attitüde in das FAC-Festival Line up. Auf ihrem neuen Album „Yaramaz“\, das so viel bedeutet wie “Nichtsnutz”\, finden sich Spuren zahlreicher (Sub-)genres wie flächige Shoegaze-Sounds\, ein Velvet-Underground-Noir-Vibe und ein bisschen Krautrock. „Yaramaz“ klingt alles in allem wie ein empowerndes Album mit der schlichten\, aber wichtigen Message: geh‘ deinen eigenen Weg und lass dich dabei nicht beirren. Da gehen wir mit! \nDie Londoner DIY Queer Core Punk Band The Oozes sprengt alle Schubladen – laut\, politisch und mit einer ordentlichen Portion Attitüde! The Oozes sind eine zweiköpfige\, trans-politische Queer-Punk-Band aus London. Inspiriert von klassischem Punk\, Clownerie\, Drag\, Performance Art und Musiktheater sind ihre Auftritte so laut\, wie sie nur können. Die Band ermutigt und umarmt Freaks\, Sex-Positivität und Aufrührer:innen. In ihrer Musik geht es um die Befreiung von Transsexuellen\, sie prangert Faschismus an und stellt sich gegen das Konventionelle – schnell und hart. \nDen Abschluss des musikalischen Line-ups bildet die britische Punk-Sensation Dream Wife! Sängerin Rakel Mjöll (sie/ihr)\, Gitarristin Alice Go (sie/ihr) und Bassistin Bella Podpadec (sie/they) – veröffentlichte im vergangenen Sommer ihr mitreißendes drittes Album „Social Lubrication“ über Lucky Number und erntete dafür begeisterte Kritiken. Als Einflüsse geben Dream Wife sowohl Madonna als auch David Bowie und Peaches an. Auch gewisse Babyshambles-Attitüde und Anklänge an Joy Division sind im Pop-Punk der Gruppe nicht zu überhören. Selbstsicher reiten Dream Wife damit die Lo-Fi-Welle der 2010er-Jahre. \nMit Pony Tyler in FLINTA*-Besetzung wollen wir die über den Abend angesammelte Energie bündeln und zusammen zu einem großen Chor vereinen! Egal ob „Wrecking Ball“ von Miley Cyrus\, „Herz an Herz“ von Blümchen oder „Total Eclipse of The Heart“ von Bonnie Tyler – mit Massenkaraoke und Goldsprint wird das Publikum selbst zum Headliner des Abends. \nDer „Femme Art Club“ (FAC) ist eine Veranstaltungsreihe\, die virtuose Musiker:innen aller Genres\, scharfzüngige Kabarettist:innen\, wortgewandte Autor:innen oder avantgardistische Performance Artists auf die Bühne bringt. \n\n\n\nCopyright Bild: Schlachthof
URL:https://dev.our-events.de/event/fac-festival-lesung-konzerte-massenkaraoke-im-schlachthof/
LOCATION:Schlachthof Kulturzentrum\, Findorffstraße 51\, Bremen\, 28215
ATTACH;FMTTYPE=image/jpeg:https://dev.our-events.de/wp-content/uploads/2025/08/fac-festival_grafik-1110x.jpg
END:VEVENT
BEGIN:VEVENT
DTSTART;TZID=Europe/Berlin:20250926T193000
DTEND;TZID=Europe/Berlin:20250926T213000
DTSTAMP:20260423T053839
CREATED:20250818T095601Z
LAST-MODIFIED:20250818T095615Z
UID:42133-1758915000-1758922200@dev.our-events.de
SUMMARY:EIN SOMMERNACHTSTRAUM Von William Shakespeare. In einer Version für 4 Schauspieler:innen. Mit Einführung um 19.00 Uhr in der shakespear company
DESCRIPTION:In Athen hat wahre Liebe einen schweren Stand – kein Wunder: ihr Herrscher Theseus hat seine Braut Hippolyta als Kriegsbeute mitgebracht und zwingt sie zur Heirat. Auch Hermia soll zur Heirat gezwungen werden – mit Demetrius. Doch Hermia weigert sich\, Demetrius zu heiraten\, sie liebt Lysander und flieht mit ihm des Nachts in den Wald. Doch Demetrius ist ihnen auf den Fersen\, allerdings heftet sich an seine Fersen auch jemand. Helena\, die ihn schon lange vergeblich anhimmelt. Aber was kann schon gut werden in diesem nächtlichen Wald\, dessen Herrscher\, der Elfenkönig Oberon heillos zerstritten ist mit seiner Frau Titania – statt Liebe ist nur Eifersucht zwischen den beiden!\nShakespeare hat diese vielfache Liebesverwirrung in eine zauberhafte Komödie verwandelt\, in der Humor und sehnsuchtsvoller Traum magisch verschmelzen.\nDas Drama um die vier Liebenden\, die im nächtlichen Wald von dem zerstrittenen Elfenkönigspaar ins „Bockshorn“ gejagt werden\, ist in den vergangenen Jahrzehnten bereits dreimal von der bremer shakespeare company neu inszeniert worden. Mit Patricia Benecke (“Das Wintermärchen\, „Der seltsame Fall der Prudencia Hart“) als Regisseurin bringt sie die beliebte Traum-Komödie mit nur vier Schauspieler:innen neu auf die Bühne. Mit einfachen Requisiten und ein paar Musikinstrumenten wirft sich das Quartett unter dem Motto „Wenig Materialaufwand\, dafür umso mehr Fantasie“ in die rasant-wendigen Wechsel der Figuren und Spielsituationen und zieht die Zuschauer in Shakespeares sommernächtliche Licht- und Schattenwelten. \nCopyright Text & Bild: Shakespeare Company
URL:https://dev.our-events.de/event/ein-sommernachtstraum-von-william-shakespeare-in-einer-version-fuer-4-schauspielerinnen-mit-einfuehrung-um-19-00-uhr-in-der-shakespear-company/
LOCATION:Theater am Leibnitzplatz\, Schulstraße 26\,\, Bremen\, 28199
CATEGORIES:Theater
ATTACH;FMTTYPE=image/png:https://dev.our-events.de/wp-content/uploads/2025/08/Unterstuetzer_Shakespeare-Company.png
END:VEVENT
BEGIN:VEVENT
DTSTART;TZID=Europe/Berlin:20250926T193000
DTEND;TZID=Europe/Berlin:20250926T223000
DTSTAMP:20260423T053839
CREATED:20250811T140431Z
LAST-MODIFIED:20250811T140453Z
UID:41792-1758915000-1758925800@dev.our-events.de
SUMMARY:Torun Eriksen Quartett „Fastlandet“ im Sendesaal
DESCRIPTION:Torun präsentiert ihr neues Album „Fastlandet“ (=Festland) im Sendesaal. Mit ihrer siebten Solo-Veröffentlichung auf Jazzland Recordings wagt sich die bekannte norwegische Sängerin auf neues Terrain: Die Texte sind norwegisch\, das Format ist triobasiert\, die Klanglandschaft elektroakustisch\, und die Musik ist sowohl improvisiert als auch sorgfältig komponiert\, vielschichtig und verschlungen. \nTorun Eriksen – Vocals\nAlessandra Bossa – Piano\nAtle Nymo – Sax\nKjetil Dalland – Bass\n\n„Torun Eriksen ist ein seltenes Juwel. Gerade als wir dachten\, wir wüssten\, wo wir Torun Eriksen musikalisch haben\, schlägt sie einen aufregenden neuen Weg ein“ Tor Hammerø\, Nettavisen\n\nZu Toruns Quartett gehört auch ihr langjähriger musikalischer Partner\, der Bassist Kjetil Dalland\, der mit seinem unverwechselbaren\, fantasievollen Spiel abwechselnd als Anker und „Freitaucher“ dient. Die neapolitanische Musikerin Alessandra Bossa (Klavier\, Gesang und Live-Elektronik) erweitert die Klangpalette\, indem sie scheinbar Zeit und Raum verkrümmt – in einem Moment verweilt sie\, im nächsten stürmt sie virtuos voran. Gastkünstler Atle Nymo fügt dem Album mit seinem warmen und schimmernden Klarinettenspiel eine vierte Dimension hinzu.\n\n„Fastlandet“ erzählt Geschichten von Verlust\, aber auch davon\, wie es ist\, das zu schätzen\, was man hat\, solange es noch da ist: das Leben\, einander\, den Moment – wichtiger als alles andere und doch so unglaublich schwer für uns. „Fastlandet“ ist ein Versuch\, einen Ort zu schaffen\, an dem man im Hier und Jetzt existieren kann. \nCopyright Text & Bild: Sendesaal
URL:https://dev.our-events.de/event/torun-eriksen-quartett-fastlandet-im-sendesaal/
LOCATION:Sendesaal Bremen\, Bürgermeister-Spitta-Allee 45\, Bremen\, 28329
CATEGORIES:Konzert
ATTACH;FMTTYPE=image/jpeg:https://dev.our-events.de/wp-content/uploads/2025/08/Torun-Eriksen_Credit-Joachim-Soltau.jpg
END:VEVENT
BEGIN:VEVENT
DTSTART;TZID=Europe/Berlin:20250926T200000
DTEND;TZID=Europe/Berlin:20250926T220000
DTSTAMP:20260423T053839
CREATED:20250723T132744Z
LAST-MODIFIED:20250723T132802Z
UID:40900-1758916800-1758924000@dev.our-events.de
SUMMARY:Habenhauser Schafferkonzerte - KLASSIK Colma NiBhriain & Shane Fee
DESCRIPTION:In unseren Reihen JAZZ + KLASSIK präsentieren die musikalischen Leiter Jens Schöwing und Leonard Trommel immer wieder besondere Hörerlebnisse. In der Jazzreihe sorgt der Bremer Pianist Jens Schöwing für ein vielfältiges und interessantes Programm\, in dem sich traditionelle und moderne Spielarten begegnen und die Vielfalt des Jazz verdeutlicht. Für die klassischen Konzerte stellt der Cellist Leonard Trommel abwechslungsreiche und anspruchsvolle Programme zusammen\, die den reichen Fundus der verschiedenen Musikepochen darstellen. \nColma NiBhriain & Shane Fee\nSonaten der Romantik für Violine und Klavier\nColma NiBhriain – Violine\nShane Fee – Klavier \nVioline und Klavier als Duo ist eine beliebte Kombination\, für die über Jahrhunderte viele Meisterwerke geschrieben wurden. An diesem Abend erklingt neben zwei bekannten Sonaten von Brahms und Fauré außerdem die selten aufgeführte Sonate von Enrique Granados. Die Musiker fingen bereits während ihrer ersten Studien in Dublin an\, zusammen zu musizieren. Beide fanden den Weg nach Bremen\, was ihnen ermöglichte\, diese Zusammenarbeit zu vertiefen und ihr Repertoire auszubauen. An der HfK studierte Shane Fee bei Patrick O‘Byrne und Colma NiBhriain bei Thomas Klug und Katrin Scholz. Sie konzertieren außer in Deutschland weiterhin oft in ihrer Heimat Irland auf verschiedenen Festivals wie z.B. Bantry\, Carrick Water Music Festival und Feis Ceoil. \nCopyright Text & Bild: Simon-Petrus-Kirche \n 
URL:https://dev.our-events.de/event/habenhauser-schafferkonzerte-klassik-colma-nibhriain-shane-fee/
LOCATION:Simon-Petri-Kirche Habenhausen\, Ev. Kirchengemeinde Arsten-Habenhausen\, Bremen\, Bremen\, 28279\, Germany
CATEGORIES:Konzert
ATTACH;FMTTYPE=image/jpeg:https://dev.our-events.de/wp-content/uploads/2025/07/fee-nibhriain_700.jpg
END:VEVENT
BEGIN:VEVENT
DTSTART;TZID=Europe/Berlin:20250926T200000
DTEND;TZID=Europe/Berlin:20250926T220000
DTSTAMP:20260423T053839
CREATED:20250905T060204Z
LAST-MODIFIED:20250905T060204Z
UID:42905-1758916800-1758924000@dev.our-events.de
SUMMARY:Dr. Lüder Warnken »Scheiße\, ein Notfall« im Gustav-Heinemann-Bürgerhaus Vegesack
DESCRIPTION:Besuchen Sie das unterhaltsamste Notfalltraining das sie je erlebt haben. Frischen Sie Ihre Kenntnisse für den Notfall wieder auf und lachen Sie\, wenn Dr. Lüder Warnken aus dem Nähkästchen plaudert und von seinem beruflichen Alltag als Notarzt berichtet: „Ja\, ich sehe viele furchtbare Sachen. Beispielweise wie der Kollege im Rettungswagen innerhalb von 20 Minuten den dritten Döner isst. Und danach das Tzatziki vom Lenkrad leckt“. \n„Lachen. Lernen. Leben retten“ – mit dieser 3-L-Regel ist es die Mission des „Meditainers“\, „Deutschland zum besten Ersthelferland der Welt machen“. Denn\, wenn hierzulande jemand kollabiert\, ergreifen in nur knapp über 40% der Fälle die umstehenden Personen Wiederbelebungsmaßnahmen\, während in Skandinavien circa 70% mit der Herzdruckmassage beginnen. Dabei ist es total einfach\, im Notfall das Richtige zu tun\, so Dr. Lüder Warnken. \nUnd das können Sie auch! Wie helfe ich bei einem Notfall? Nehme ich bei einem verunglückten Motorradfahrer den Helm jetzt ab oder besser nicht? Was\, wenn ich etwas falsch mache? Dr. Lüder Warnken klärt unterhaltsam auf und verknüpft das alles mit lebensnahen\, saaltauglichen Trainingseinheiten. Vor allem aber ist sein Programm „Scheiße\, ein Notfall“ eine unschlagbare Kombination aus praktischen Tipps und medizinischer Stand-Up Comedy mit jeder Menge witzigen und skurrilen Geschichten aus unzähligen Notfalltrainings und seinen Einsätzen als Notarzt. \nDr. Lüder Warnken kommt aus Hamburg und ist Notarzt und Comedian. Neben seiner Tätigkeit als Notarzt\, gibt Warnken kompakte Notfalltrainings für Laien\, Praxen und Krankenhäuser und ist seit 2016 mit seiner medizinischen Stand-Up-Comedy auf bundesweiten Bühnen unterwegs\, unter anderem bei Formaten wie „NightWash“ und „Komische Nacht“. \nCopyright Text & Bild: KITO
URL:https://dev.our-events.de/event/dr-lueder-warnken-scheisse-ein-notfall-im-gustav-heinemann-buergerhaus-vegesack/
LOCATION:Gustav-Heinemann-Bürgerhaus Vegesack\, Kirchheide 49\, Bremen\, 28757
CATEGORIES:Comedy
ATTACH;FMTTYPE=image/jpeg:https://dev.our-events.de/wp-content/uploads/2025/09/Lueder_Warnken__1170x600pxl__1728904058.jpeg
END:VEVENT
BEGIN:VEVENT
DTSTART;TZID=Europe/Berlin:20250926T200000
DTEND;TZID=Europe/Berlin:20250926T220000
DTSTAMP:20260423T053839
CREATED:20250914T173733Z
LAST-MODIFIED:20250914T173733Z
UID:43201-1758916800-1758924000@dev.our-events.de
SUMMARY:Akinetón Retard (CHILE) // LBY - La Banda Yolanda (HB) - im Tor 9\, Güterbahnhof Bremen
DESCRIPTION:Akinetón Retard: \nAus den Untergrundkreisen der Kunstschule der Universidad de Chile hervorgegangen\, war Akinetón Retard schon immer ein Konzept für sich: das intensivste und wirkungsvollste Projekt einer Gemeinschaft experimenteller Musiker\, „Latino-Jazz-Underground”\, „orchestraler Jazzrock”\, „urbaner Strong Jazz” oder „Frank Zappa versus Godzilla-Stil\, aber jazziger und cooler” bezeichnet. \nJazz trifft auf Rock\, Latin auf Noise und Struktur auf völlige Freiheit \, mal eine atmosphärisch dichte Hommage an den äthiopischen Jazz der 1970er – mit treibenden Grooves\, schrägen Harmonien und einem Sound\, der gleichsam traditionell und radikal modern ist\, Zappas musikalische Eruptionen auf erbarmungsloser Polyrhytmik. Kompromisslos\, überraschend und lebendig – eine Band\, die nichts erklärt\, aber alles sagt. \nLBY – La Banda Yolanda: \nIn ihrer aktuellen Trio Besetzung beschwören LBY die Klänge Lateinamerikas\, ein vielfältiges Repertoire\, das traditionelle Melodien mit neuen musikalischen Strömungen kreuzt. La Banda Yolanda sind kein unbeschriebenes Blatt\, haben in größeren Formationen viele Konzerte gespielt und sind ein unlösbares Bild der bunten Bremer Musiklandschaft. \nCopyright Text & Bild: Freaques de la Musique & Tide Larsson \nDer Veranstaltungsort ist nicht völlig barrierefrei.
URL:https://dev.our-events.de/event/akineton-retard-chile-lby-la-banda-yolanda-hb-im-tor-9-gueterbahnhof-bremen/
LOCATION:Tor 9\, Güterbahnhof Bremen\, Beim Handelsmuseum 9\, Bremen\, 28195
CATEGORIES:Konzert
ATTACH;FMTTYPE=image/jpeg:https://dev.our-events.de/wp-content/uploads/2025/09/La-Banda-Yolanda.jpg
END:VEVENT
BEGIN:VEVENT
DTSTART;TZID=Europe/Berlin:20250926T210000
DTEND;TZID=Europe/Berlin:20250926T230000
DTSTAMP:20260423T053839
CREATED:20250627T112641Z
LAST-MODIFIED:20250627T112641Z
UID:39947-1758920400-1758927600@dev.our-events.de
SUMMARY:Kiss Forever Band  Kiss Cover Show\, Ungarn im Meisenfrei
DESCRIPTION:Kiss ist eine 1973 gegründete Hard- und Glam-Rock-Band\, die jedem Zuschauer als erstes dadurch auffiel\, dass die Bandmitglieder beim Make-Up-Kurs die Sache mit „unauffällig“ nicht so wirklich kapiert hatten. Die Kiss Forever Band aus Budapest ist die mit Sicherheit bekannteste und auch meistbeschäftigte Kiss Tribute Band Europas und dies seit fast 30 Jahren. Und auch wenn unsere kleine Kulturstätte fast ein wenig unterdimensioniert erscheint: Die Band läuft aus diesem schönen Anlass mit Kostümen und erwähnter dezenter Gesichtsbemalung auf – und nicht „unmasked“\, wie es die Vorbilder heute zu tun pflegen. Selbstverständlich werden dabei neben vielen\, vielen Hits der New Yorker auch „I was made for loving you“\, „Detroit Rock City“\, „Lick it up“ oder „Hooligan“ zu Gehör gebracht – für Kiss- und Rock-Fans ein ganzheitliches Konzerterlebnis! \nCopyright Text & Bild: Meisenfrei
URL:https://dev.our-events.de/event/kiss-forever-band-kiss-cover-show-ungarn-im-meisenfrei/
LOCATION:Meisenfrei\, Hankenstraße 18\, Bremen\, 28195
CATEGORIES:Konzert,Rock / Pop / Jazz / Country
ATTACH;FMTTYPE=image/jpeg:https://dev.our-events.de/wp-content/uploads/2025/06/2025-09-26-KissForeverBand.jpg
END:VEVENT
END:VCALENDAR