BEGIN:VCALENDAR
VERSION:2.0
PRODID:-//Our Events - ECPv6.15.20//NONSGML v1.0//EN
CALSCALE:GREGORIAN
METHOD:PUBLISH
X-ORIGINAL-URL:https://dev.our-events.de
X-WR-CALDESC:Veranstaltungen für Our Events
REFRESH-INTERVAL;VALUE=DURATION:PT1H
X-Robots-Tag:noindex
X-PUBLISHED-TTL:PT1H
BEGIN:VTIMEZONE
TZID:Europe/Berlin
BEGIN:DAYLIGHT
TZOFFSETFROM:+0100
TZOFFSETTO:+0200
TZNAME:CEST
DTSTART:20240331T010000
END:DAYLIGHT
BEGIN:STANDARD
TZOFFSETFROM:+0200
TZOFFSETTO:+0100
TZNAME:CET
DTSTART:20241027T010000
END:STANDARD
BEGIN:DAYLIGHT
TZOFFSETFROM:+0100
TZOFFSETTO:+0200
TZNAME:CEST
DTSTART:20250330T010000
END:DAYLIGHT
BEGIN:STANDARD
TZOFFSETFROM:+0200
TZOFFSETTO:+0100
TZNAME:CET
DTSTART:20251026T010000
END:STANDARD
BEGIN:DAYLIGHT
TZOFFSETFROM:+0100
TZOFFSETTO:+0200
TZNAME:CEST
DTSTART:20260329T010000
END:DAYLIGHT
BEGIN:STANDARD
TZOFFSETFROM:+0200
TZOFFSETTO:+0100
TZNAME:CET
DTSTART:20261025T010000
END:STANDARD
END:VTIMEZONE
BEGIN:VEVENT
DTSTART;TZID=Europe/Berlin:20250928T102000
DTEND;TZID=Europe/Berlin:20250928T140000
DTSTAMP:20260423T093250
CREATED:20250903T112828Z
LAST-MODIFIED:20250903T112828Z
UID:42888-1759054800-1759068000@dev.our-events.de
SUMMARY:Ausflug zum Overbeck-Museum
DESCRIPTION:Das Overbeck-Museum ist ein lebendiges Haus für Kunst und Menschen – gastfreundlich\, anregend\, dem Erhalt und der Vermittlung künstlerischer Werte verpflichtet. Wir möchten Menschen für Kunst begeistern und zu gemeinsamem Nachdenken und zu Gesprächen anregen: über Kunst\, aber auch über uns selbst und unser Verhältnis zur Welt. Denn das kann Kunst – und noch viel mehr. \nМузей Овербека – це живий дім для мистецтва і людей\, гостинний\, надихаючий\, відданий збереженню і поширенню художніх цінностей. \nМи хочемо зацікавити людей мистецтвом і спонукати їх до спільних роздумів і дискусій: про мистецтво\, але також про нас самих і наше ставлення до світу. \nАдже мистецтво здатне на це – і навіть на багато більше. \nDer Ausflug findet in der Gruppe statt. Ihr werdet begleitet von Olena. \nWann: 10:20 Uhr \nTreffpunkt ist die Bahnhofsinformation Bremen HBF (in der Mitte der Halle am Haupteingang des Bahnhofs).Місце \nМісце зустрічі: 10:20 біля Інформаційного пункту Бремен HBF. (Знаходиться посередині фойє на центральному вході  в Залізничний вокзал.) \nDie Teilnahme ist kostenlos. \nAnreise erfolgt auf eigene Kosten. \n\nЕкскурсія проводиться в групі. Вас супроводжуватиме Олена. \nКоли: 10:20 \nМісце зустрічі: 10:20 біля інформаційного центру залізничного вокзалу Бремен HBF. (Знаходиться у центрі зали біля головного входу на вокзал.) \nУчасть безкоштовна.
URL:https://dev.our-events.de/event/ausflug-zum-overbeck-museum/
LOCATION:Overbeck Museum\, Alte Hafenstraße 30\, Bremen\, Bremen\, 28757\, Deutschland
CATEGORIES:Ausstellung,Grohn
ATTACH;FMTTYPE=image/png:https://dev.our-events.de/wp-content/uploads/2024/09/Overbeck-Museum.png
END:VEVENT
BEGIN:VEVENT
DTSTART;TZID=Europe/Berlin:20250824T110000
DTEND;TZID=Europe/Berlin:20250824T170000
DTSTAMP:20260423T093250
CREATED:20250807T113312Z
LAST-MODIFIED:20250807T113549Z
UID:41596-1756033200-1756054800@dev.our-events.de
SUMMARY:Eintrittskarten Overbeck-Museum: In den Bergen - Karten täglich gültig zu den Öffnungszeiten
DESCRIPTION:Die Karten sind  täglich zu den Öffnungszeiten gültig. Letzter Tag für eine Ticket-Reservierung ist der 02.11.2025. \n\n\n\n\n\n\nDie aus Bremen stammende Malerin Katrin Ullmann lebt und arbeitet im Wallis in der Schweiz. Ihre Ölgemälde und Aquarelle der Schweizer Bergwelt zeigen die vielfältige Schönheit der Alpenregion mit ihren markanten Gipfeln und scharfen Graten\, mit grünen Tälern und klaren Bergseen. \n\n\n\n\n\n\nHier\, wo die Landschaft mehrere tausend Meter in die Höhe Richtung Himmel vorstößt\, verbinden sich Wolken und Berggipfel zu einer überwältigenden Einheit\, die einzigartige Farben und Lichtverhältnisse hervorbringt. Aber auch einzelne Seenlandschaften in Finnland und Norwegen und norddeutsche Wolkenhimmel hält die Malerin in Bildern fest. \n\n\n\n\n\n\nErgänzt wird die Ausstellung durch Landschaftsgemälde von Fritz und Hermine Overbeck aus der Zeit um 1900. Neben einigen norddeutschen Landschaften stehen auch hier die Schweizer Berge im Mittelpunkt. Denn was kaum jemand weiß: Fritz Overbeck malte im Winter 1908/09 mehrere Wochen lang in der Nähe von Davos. \n\n\n\n\n\n\n\nBitte aktiviere JavaScript in deinem Browser\, um dieses Formular fertigzustellen.Bitte aktiviere JavaScript in deinem Browser\, um dieses Formular fertigzustellen.Bitte das Datum der Veranstaltung angeben *Bitte die Anzahl der zu reservierenden Tickets auswählenIch bin *KulturgastKulturbegleiter:inAnrede Interessent:in *FrauHerrDiversVorname  *Name *E-Mail  *Ich benötige Unterstützung für den Besuch der Veranstaltung *janeinIch möchte den Programm Newsletter der Kulturtafel abonnieren. Das kann ich jederzeit rückgängig machen.janeinDSGVO Einverständnis *Ich willige ein\, dass diese Website meine übermittelten Informationen speichert\, sodass meine Anfrage beantwortet werden kann.Angaben bestätigen
URL:https://dev.our-events.de/event/eintrittskarten-overbeck-museum-in-den-bergen-karten-taeglich-gueltig-zu-den-oeffnungszeiten/
LOCATION:Overbeck Museum\, Alte Hafenstraße 30\, Bremen\, Bremen\, 28757\, Deutschland
CATEGORIES:Ausstellung,Grohn
ATTACH;FMTTYPE=image/png:https://dev.our-events.de/wp-content/uploads/2024/09/Overbeck-Museum.png
END:VEVENT
BEGIN:VEVENT
DTSTART;TZID=Europe/Berlin:20250928T143000
DTEND;TZID=Europe/Berlin:20250928T153000
DTSTAMP:20260423T093250
CREATED:20250810T092607Z
LAST-MODIFIED:20250810T092607Z
UID:41733-1759069800-1759073400@dev.our-events.de
SUMMARY:Planeten-Expedition ins Sonnensystem - im Olbers-Planetarium
DESCRIPTION:Mars\, Saturn\, Jupiter – unbemannte Raumsonden haben alle Planeten unseres Sonnensystems bereits erkundet und Spannendes entdeckt. So wissen wir schon heute\, was Astronauten dort erleben könnten. Aber noch haben Menschen keine dieser Welten tatsächlich besucht.\nIn unserer Planetariumsshow reisen Sie schon heute hinaus und erleben diese Orte so\, wie die Raumfahrer der Zukunft sie sehen werden. Sie kommen den fernen Geschwistern der Erde so nah wie nie zuvor und erkunden Landschaften\, die fantastisch scheinen\, aber tatsächlich existieren. Erforschen Sie die gewaltigen Täler und Vulkane des Mars\, besuchen Sie einen Kometen und tauchen Sie in die Wolkenwirbel des Riesenplaneten Jupiter ein! Durchqueren Sie die Ringe des Saturn und stoßen Sie in die eisige Welt des Zwergplaneten Pluto am Rand des Sonnensystems vor! Die Naturwunder des Sonnensystems erwarten Sie! \nEmpfehlung ab 10 Jahre. \nCopyright Text & Bild: Olbers-Planetarium
URL:https://dev.our-events.de/event/planeten-expedition-ins-sonnensystem-im-olbers-planetarium-2/
LOCATION:Olbers-Planetarium Bremen\, Werderstrasse 73\, Bremen\, 28199
CATEGORIES:Planetarium
ATTACH;FMTTYPE=image/png:https://dev.our-events.de/wp-content/uploads/2025/08/Planeten-3.png
END:VEVENT
BEGIN:VEVENT
DTSTART;TZID=Europe/Berlin:20250928T180000
DTEND;TZID=Europe/Berlin:20250928T200000
DTSTAMP:20260423T093250
CREATED:20250811T142500Z
LAST-MODIFIED:20250811T142516Z
UID:41809-1759082400-1759089600@dev.our-events.de
SUMMARY:Konzert im Dunkeln: Uli Beckerhoff und Glauco Venier im Sendesaal
DESCRIPTION:Klänge\, gespielt und gehört in absoluter Dunkelheit\, entfalten ihre Magie umso intensiver\, da sich die Konzertbesucher:innen absolut auf den Hörsinn konzentrieren. Die Konzerte im Dunkeln sind Kult\, nun schon seit 15 Jahren. So lang ist es her\, dass der renommierte Jazz-Trompeter Uli Beckerhoff und sein Klavierpartner Glauco Venier sich auf das Wagnis eingelassen haben. Anlässlich dieses Jubliläums kehren die beiden in den Sendesaal für ein Revival zurück. \nUlrich Beckerhoff – Trompete\nGlauco Venier – Klavier \nUli Beckerhoff ist einer der bekanntesten europäischen Trompeter seiner Generation. Die Liste der internationalen Musiker\, mit denen er zusammengearbeitet hat\, liest sich wie ein „Who is Who“ der europäischen und internationalen Jazzszene: Dave Liebman\, Adam Nussbaum\, John Abercrombie\, John Taylor\, Maria Pia DeVito\, Glauco Venier\, John Scofield\, Arild Andersen\, Maria Joao\, Kenny Wheeler\, Norma Winstone und Marilyn Mazur\, um nur einige zu nennen. Er trat in Südamerika\, Afrika und Europa\nbei renommierten Festivals\, Konzerthallen\, Radio- und Fernsehproduktionen auf. Er trat auf an Orten wie: Philharmonie Berlin\, Palao della Musica-Barcelona\, Musikhalle Hamburg\, Bim Huis-Amsterdam\, Musee de l`Art moderne-Paris\, Liederhalle-Stuttgart\, Jazzhouse-Kopenhagen\, Nefertiti-Malmö\, Radio Hall-Belgrad und viele mehr. Er ist auf mehr als 50 LPs\, CD`s und Videos zu hören\, viele davon als Leader. Als Komponist schreibt er für Filme\, Hörspiele und Theater\, auch für Sinfonieorchester\, Radio-Bigbands und kleine Ensembles.\nEr war 25 Jahre lang Professor für Jazz an der Folkwang Universität der Künste in Essen/Deutschland und künstlerischer Leiter von Jazzahead in Bremen/Deutschland \nGlauco Venier gab sein Debüt als klassischer- wie als Rock-Musiker. Nach dem Abschluss des Konservatoriums und einem Studium in den USA begann er seine internationale Karriere. Er hat mit einigen der wichtigsten Vertreter des Jazz zusammengearbeitet und auf internationalen Bühnen und bei den bedeutendsten Festivals konzertiert.\nEr hat Aufnahmen für die Labels ECM\, Universal und Schott sowie für die Rundfunkanstalten Rai\, ORF und BBC gemacht. Daneben hat er an einem Projekt mit dem Orchester und der Big Band des WDR Köln gearbeitet. Zu seinen jüngsten Arbeiten gehört die Komposition des Soundtracks für die Wiederveröffentlichung von Pinocchio in der Hörbuchversion\, die von Giunti zum 140. Jahrestag des Erstdrucks herausgegeben wurde\, ein Werk\, das in Zusammenarbeit mit der Schauspielerin Lella Costa und dem Musiker Paolo Fresu entstand.\nDemnächst erscheint sein neuestes Werk für ECM\, eine Hommage an Steve Swallow\, bei der er mit dem berühmten Bassisten zusammen mit dem Keyboarder Gil Goldstein\, der britischen Sängerin Norma Winstone und dem Gitarristen Mike Walker zusammenarbeitet. Außerdem erscheint ein Buch mit dem Titel „Le Tavole Musicali“ über Musiktheorie\, herausgegeben von Curci. Er unterrichtet Ensemblemusik am Konservatorium von Udine in Italien. \nCopyright Text & Bild: Sendesaal
URL:https://dev.our-events.de/event/konzert-im-dunkeln-uli-beckerhoff-und-glauco-venier-im-sendesaal/
LOCATION:Sendesaal Bremen\, Bürgermeister-Spitta-Allee 45\, Bremen\, 28329
CATEGORIES:Konzert
ATTACH;FMTTYPE=image/jpeg:https://dev.our-events.de/wp-content/uploads/2025/08/Uli-Beckerhoff_Credit-Frank-Pusch-scaled-1.jpg
END:VEVENT
BEGIN:VEVENT
DTSTART;TZID=Europe/Berlin:20250928T193000
DTEND;TZID=Europe/Berlin:20250928T220000
DTSTAMP:20260423T093250
CREATED:20250818T100726Z
LAST-MODIFIED:20250818T100726Z
UID:42143-1759087800-1759096800@dev.our-events.de
SUMMARY:MARIA STUART Von Friedrich Schiller. Mit Einführung um 19.00 Uhr in der shakespear company
DESCRIPTION:Königin Elisabeth und Maria Stuart sind von ihrem Selbstverständnis her beide dazu prädestiniert\, als Königin über England zu herrschen. Ihr Konflikt um die Herrschaft ist gleichzeitig ein Kampf zwischen katholischen und protestantischen Kräften\, die um die Vorherrschaft auf der Insel ringen.\nIhre Welt ist gleichzeitig eine Bühne und ein Gefängnis\, denn die Blicke der Welt lassen keinen ihrer Schritte und Handlungen unbeobachtet. In der Welt der beiden Königinnen Welt gibt es kein privates Leben\, keine Trennung zwischen innen und außen. Doch das Beharren auf dem rechtmäßigen Anspruch auf die Rolle der Königin und der Einsatz von Manipulation und Zwang ist für beide die einzige Chance\, gegen Feinde und falsche Freunde zu bestehen.\nDer biographische Punkt\, an dem sich Maria Stuart und Elisabeth treffen ist der Wendepunkt: Das Todesurteil gegen Maria ist geschrieben und Elisabeth zögert\, es zu unterschreiben – zu weitreichend sind die weltpolitischen Folgen! Doch die Zeit spielt gegen sie beide. \nCopyright Text & Bild: Shakespeare Company
URL:https://dev.our-events.de/event/maria-stuart-von-friedrich-schiller-mit-einfuehrung-um-19-00-uhr-in-der-shakespear-company/
LOCATION:Theater am Leibnitzplatz\, Schulstraße 26\,\, Bremen\, 28199
CATEGORIES:Theater
ATTACH;FMTTYPE=image/png:https://dev.our-events.de/wp-content/uploads/2025/08/Unterstuetzer_Shakespeare-Company.png
END:VEVENT
END:VCALENDAR