BEGIN:VCALENDAR
VERSION:2.0
PRODID:-//Our Events - ECPv6.15.20//NONSGML v1.0//EN
CALSCALE:GREGORIAN
METHOD:PUBLISH
X-ORIGINAL-URL:https://dev.our-events.de
X-WR-CALDESC:Veranstaltungen für Our Events
REFRESH-INTERVAL;VALUE=DURATION:PT1H
X-Robots-Tag:noindex
X-PUBLISHED-TTL:PT1H
BEGIN:VTIMEZONE
TZID:Europe/Berlin
BEGIN:DAYLIGHT
TZOFFSETFROM:+0100
TZOFFSETTO:+0200
TZNAME:CEST
DTSTART:20240331T010000
END:DAYLIGHT
BEGIN:STANDARD
TZOFFSETFROM:+0200
TZOFFSETTO:+0100
TZNAME:CET
DTSTART:20241027T010000
END:STANDARD
BEGIN:DAYLIGHT
TZOFFSETFROM:+0100
TZOFFSETTO:+0200
TZNAME:CEST
DTSTART:20250330T010000
END:DAYLIGHT
BEGIN:STANDARD
TZOFFSETFROM:+0200
TZOFFSETTO:+0100
TZNAME:CET
DTSTART:20251026T010000
END:STANDARD
BEGIN:DAYLIGHT
TZOFFSETFROM:+0100
TZOFFSETTO:+0200
TZNAME:CEST
DTSTART:20260329T010000
END:DAYLIGHT
BEGIN:STANDARD
TZOFFSETFROM:+0200
TZOFFSETTO:+0100
TZNAME:CET
DTSTART:20261025T010000
END:STANDARD
END:VTIMEZONE
BEGIN:VEVENT
DTSTART;TZID=Europe/Berlin:20250929T190000
DTEND;TZID=Europe/Berlin:20250929T210000
DTSTAMP:20260423T113315
CREATED:20250828T141041Z
LAST-MODIFIED:20250829T102226Z
UID:42640-1759172400-1759179600@dev.our-events.de
SUMMARY:Los Juanitos Tres im Kunz
DESCRIPTION:Los Juanitos Tres\,\ndas sind 5 Musiker aus Bremen\, die ihrer Leidenschaft für spanische Musik freien Lauf lassen. Gespielt wird die spanische Rumba\, traditionell dargeboten mit rockigen Akzenten. Mitreißende Rhythmen mit Gesang laden die Gäste zum feiern und tanzen ein. \nBesetzung: Juan Salinas\, Gesang und Gitarre\nThomas Schacht Perkussion\nJaime Nolla\, Gesang\nTilman List\, Gitarre\nEsteban Lobos Dellepiane\, E-Bass \nAchtung: Der Veranstaltungsort ist nicht barrierefrei! \nCopyright Text & Bild: Kunz
URL:https://dev.our-events.de/event/los-juanitos-tres-im-kunz/
LOCATION:KUNZ\, Sedanstraße 12\, Bremen\, 28201
CATEGORIES:Konzert
ATTACH;FMTTYPE=image/jpeg:https://dev.our-events.de/wp-content/uploads/2025/08/Los-Juanitos-Tres.jpg
END:VEVENT
END:VCALENDAR