BEGIN:VCALENDAR
VERSION:2.0
PRODID:-//Our Events - ECPv6.15.20//NONSGML v1.0//EN
CALSCALE:GREGORIAN
METHOD:PUBLISH
X-WR-CALNAME:Our Events
X-ORIGINAL-URL:https://dev.our-events.de
X-WR-CALDESC:Veranstaltungen für Our Events
REFRESH-INTERVAL;VALUE=DURATION:PT1H
X-Robots-Tag:noindex
X-PUBLISHED-TTL:PT1H
BEGIN:VTIMEZONE
TZID:Europe/Berlin
BEGIN:DAYLIGHT
TZOFFSETFROM:+0100
TZOFFSETTO:+0200
TZNAME:CEST
DTSTART:20240331T010000
END:DAYLIGHT
BEGIN:STANDARD
TZOFFSETFROM:+0200
TZOFFSETTO:+0100
TZNAME:CET
DTSTART:20241027T010000
END:STANDARD
BEGIN:DAYLIGHT
TZOFFSETFROM:+0100
TZOFFSETTO:+0200
TZNAME:CEST
DTSTART:20250330T010000
END:DAYLIGHT
BEGIN:STANDARD
TZOFFSETFROM:+0200
TZOFFSETTO:+0100
TZNAME:CET
DTSTART:20251026T010000
END:STANDARD
BEGIN:DAYLIGHT
TZOFFSETFROM:+0100
TZOFFSETTO:+0200
TZNAME:CEST
DTSTART:20260329T010000
END:DAYLIGHT
BEGIN:STANDARD
TZOFFSETFROM:+0200
TZOFFSETTO:+0100
TZNAME:CET
DTSTART:20261025T010000
END:STANDARD
END:VTIMEZONE
BEGIN:VEVENT
DTSTART;TZID=Europe/Berlin:20250930T190000
DTEND;TZID=Europe/Berlin:20250930T214500
DTSTAMP:20260423T150154
CREATED:20250925T071619Z
LAST-MODIFIED:20250925T084656Z
UID:43543-1759258800-1759268700@dev.our-events.de
SUMMARY:OTELLO
DESCRIPTION:Oper in vier Akten von Giuseppe Verdi\nText von Arrigo Boito nach William Shakespeare\nIn italienischer Sprache mit deutschem Übertext\nMusikalische Leitung: Sasha Yankevych\nRegie: Frank Hilbrich \nJago fühlt sich übergangen. Er schlägt zurück. Langsam und stetig flüstert er Otello ein\, dass dessen Frau Desdemona untreu sei. Die Saat geht auf: Der Zweifel nagt an Otello\, das Gift des Verdachts bohrt sich in seinen Körper\, die Selbstachtung schwindet\, Vernichtungsgedanken brechen sich Bahn. Zwölf Jahre lang hatte der 70-jährige Verdi keine Oper mehr geschrieben\, bis Arrigo Boito ihm ein Libretto nach der Shakepeare’schen Vorlage in die Hand drückte. Verdi schrieb heimlich\, verweigerte sich konkreten Aufführungsplänen. Das dann doch 1887 uraufgeführte Werk über eine Intrige\, die auf fruchtbaren Boden fällt\, zog Verdis Oeuvre in die Moderne: In dieser Oper gibt es keine abgeschlossenen musikalischen Formen mehr. Sie ist eine durchgehende\, freie\, gewaltige Fantasie über einen Menschen\, dessen gesellschaftliche Position so exponiert wie instabil ist\, dass er sich selbst vernichten wird.
URL:https://dev.our-events.de/event/otello/
LOCATION:Theater Bremen\, Goetheplatz 1-3\, Bremen\, Bremen\, 28203\, Deutschland
CATEGORIES:Theater
ATTACH;FMTTYPE=image/jpeg:https://dev.our-events.de/wp-content/uploads/2025/09/B33I2069-scaled.jpg
ORGANIZER;CN="Theater Bemen":MAILTO:marketing@theaterbremen.de
END:VEVENT
BEGIN:VEVENT
DTSTART;TZID=Europe/Berlin:20250930T193000
DTEND;TZID=Europe/Berlin:20250930T213000
DTSTAMP:20260423T150154
CREATED:20250818T101203Z
LAST-MODIFIED:20250818T101217Z
UID:42147-1759260600-1759267800@dev.our-events.de
SUMMARY:ÖFFENTLICHE PROBE: ROMEO UND JULIA Von William Shakespeare in der shakespear company
DESCRIPTION:Die neue Inszenierung von »Romeo und Julia« in der bremer shakespeare company (2001 in der Regie von Rainer Iwersen und 2013 in der Regie von Nora Somaini) bringt der Schauspieler und Regisseur Michael Meyer heraus. Er erzählt die Geschichte der ersten\, großen Liebe\, die in einem Umfeld von Hass und Fehde zwischen den beiden Jugendlichen der verfeindeten Familien Capulet und Montague entbrennt in einer rasanten Fassung: Die mitreißende Wirkung des Tragödienstoffs und die sprachliche Kraft Shakespeares wird mit treibenden Beats des Beatboxers Mando und den akzentuierenden Kampf- und Tanzchoreographien verstärkt. Ein Theaterabend\, der mitten ins Herz zielt\, auch und besonders bei jungen Zuschauer:innen. \nCopyright Text & Bild: Shakespeare Company
URL:https://dev.our-events.de/event/oeffentliche-probe-romeo-und-julia-von-william-shakespeare-in-der-shakespear-company/
LOCATION:Theater am Leibnitzplatz\, Schulstraße 26\,\, Bremen\, 28199
CATEGORIES:Theater
ATTACH;FMTTYPE=image/png:https://dev.our-events.de/wp-content/uploads/2025/08/Unterstuetzer_Shakespeare-Company.png
END:VEVENT
BEGIN:VEVENT
DTSTART;TZID=Europe/Berlin:20250930T200000
DTEND;TZID=Europe/Berlin:20250930T220000
DTSTAMP:20260423T150154
CREATED:20250905T061502Z
LAST-MODIFIED:20250905T061502Z
UID:42923-1759262400-1759269600@dev.our-events.de
SUMMARY:Selin Sümbültepe - WOMEN in (e)motion im KITO
DESCRIPTION:Selin Sümbültepe steht für Musik\, die Brücken baut – zwischen Kulturen\, Zeiten und Herzen. In ihrer Heimat Hatay\, einer Region voller Geschichte und Vielfalt\, lernte sie\, wie wichtig es ist\, unterschiedliche Welten zusammen zu führen. Genau das macht sie in ihrer Musik zum Prinzip: \nTraditionelle anatolisch-orientalische Klänge verschmelzen mit modernen Pop- und Folk-Elementen zu einem Sound\, der uralt und gleichzeitig brandaktuell klingt. \nIhre 2024 veröffentlichte EP “Hemhal” – was so viel heißt wie “vereinen” – ist mehr als eine lose Songsammlung. Es ist eine musikalische Umarmung\, eine Botschaft von Heilung\, Zusammenhalt und Hoffnung\, gerade nach den schweren Zeiten für ihre Heimatregion. Hatay wurde 2023 von einem schweren Erdbeben getroffen. In den Songs spürt man das Ringen um Gemeinschaft und die Kraft\, aus Ruinen Neues schaffen zu wollen. \nDie 1986 geborene Musikerin ist mit ihrem Fusion-Folk-Pop schon auf vielen türkischen Musik- Festivals zu Gast gewesen. Nun will sie auch verstärkt in Europa auftreten. Musikalisch wie menschlich ein großer Gewinn für jeden\, der diese sanft-fordernde Musikerin erleben darf. \nCopyright Text & Bild: KITO
URL:https://dev.our-events.de/event/selin-suembueltepe-women-in-emotion-im-kito/
LOCATION:KITO – altes Packhaus\, Alte Hafenstraße 30\, Bremen\, 28757
CATEGORIES:Konzert
ATTACH;FMTTYPE=image/jpeg:https://dev.our-events.de/wp-content/uploads/2025/09/Design_ohne_Titel_60__1753104942.jpeg
END:VEVENT
BEGIN:VEVENT
DTSTART;TZID=Europe/Berlin:20250930T200000
DTEND;TZID=Europe/Berlin:20250930T230000
DTSTAMP:20260423T150154
CREATED:20250627T113119Z
LAST-MODIFIED:20250627T113119Z
UID:39964-1759262400-1759273200@dev.our-events.de
SUMMARY:Mrs. King & Her Jewels  Boogie Woogie & Blues\, Deutschland im Meisenfrei
DESCRIPTION:Mrs. King & Her Jewels haben ein Motto: „Let the good times roll“. Und unter diesem wird sich das Quartett mit seiner irren Spielfreude an den Rand des Wahnsinns begeben und die Bühne zum großen Spielball der Musik und Emotionen machen. „Mrs. King“ ist Meike König aus Seesen am Harz. Sie hat eine sensible große Stimme\, die es aber auch schafft\, raue und herbe Töne anzustimmen und somit locker die Bühne zu rocken. Im Stil von Etta James oder Bessie Smith reicht ihr Programm von Blues\, Boogie Woogie und Soul bis hin zu Rock ’n’ Roll. Viel Abwechslung und Showbusiness sind hier garantiert. Ihre Juwelen sind Marius Labsch aus Hildesheim am Piano\, Bluesharper Frank Rihm aus Bremen und Andreas Bock aus Jeinsen am Schlagzeug\, allesamt erstklassige Musiker\, die Unterhaltung auf höchsten Niveau bieten. Mit absoluter Spielfreude und großer Energie wird so ein Konzert der Spitzenklasse geboten! \n  \nCopyright Text & Bild: Meisenfrei
URL:https://dev.our-events.de/event/mrs-king-her-jewels-boogie-woogie-blues-deutschland-im-meisenfrei/
LOCATION:Meisenfrei\, Hankenstraße 18\, Bremen\, 28195
CATEGORIES:Konzert,Rock / Pop / Jazz / Country
ATTACH;FMTTYPE=image/jpeg:https://dev.our-events.de/wp-content/uploads/2025/06/2025-09-30-Mrs.KingHerJewels.jpg
END:VEVENT
END:VCALENDAR