BEGIN:VCALENDAR
VERSION:2.0
PRODID:-//Our Events - ECPv6.15.20//NONSGML v1.0//EN
CALSCALE:GREGORIAN
METHOD:PUBLISH
X-ORIGINAL-URL:https://dev.our-events.de
X-WR-CALDESC:Veranstaltungen für Our Events
REFRESH-INTERVAL;VALUE=DURATION:PT1H
X-Robots-Tag:noindex
X-PUBLISHED-TTL:PT1H
BEGIN:VTIMEZONE
TZID:Europe/Berlin
BEGIN:DAYLIGHT
TZOFFSETFROM:+0100
TZOFFSETTO:+0200
TZNAME:CEST
DTSTART:20240331T010000
END:DAYLIGHT
BEGIN:STANDARD
TZOFFSETFROM:+0200
TZOFFSETTO:+0100
TZNAME:CET
DTSTART:20241027T010000
END:STANDARD
BEGIN:DAYLIGHT
TZOFFSETFROM:+0100
TZOFFSETTO:+0200
TZNAME:CEST
DTSTART:20250330T010000
END:DAYLIGHT
BEGIN:STANDARD
TZOFFSETFROM:+0200
TZOFFSETTO:+0100
TZNAME:CET
DTSTART:20251026T010000
END:STANDARD
BEGIN:DAYLIGHT
TZOFFSETFROM:+0100
TZOFFSETTO:+0200
TZNAME:CEST
DTSTART:20260329T010000
END:DAYLIGHT
BEGIN:STANDARD
TZOFFSETFROM:+0200
TZOFFSETTO:+0100
TZNAME:CET
DTSTART:20261025T010000
END:STANDARD
END:VTIMEZONE
BEGIN:VEVENT
DTSTART;TZID=Europe/Berlin:20250904T133000
DTEND;TZID=Europe/Berlin:20250904T143000
DTSTAMP:20260423T185335
CREATED:20250813T131051Z
LAST-MODIFIED:20250814T100643Z
UID:41893-1756992600-1756996200@dev.our-events.de
SUMMARY:Sprechstunde / Vorstellung / Anmeldung Kulturtafel im Klamottencafé in der Tagesstätte Süd
DESCRIPTION:Ihr habt von der Kulturtafel gehört und möchtet mehr darüber erfahren? / Ви чули про Kulturtafel і хотіли б дізнатися більше? / Have you heard about the Kulturtafel and would like to find out more? / Vous avez entendu parler de la Kulturtafel et vous souhaitez en savoir plus ? \n\nWir erklären euch\, was die Kulturtafel ist\, wie sie funktioniert und wer teilnehmen kann.\nМи пояснюємо\, що таке Kulturtafel\, як він працює і хто може взяти в ньому участь.\nWe explain what the Kulturtafel is\, how it works and who can take part.\nNous vous expliquons ce qu’est le tableau culturel\, comment il fonctionne et qui peut y participer.\n\nNoch kein Mitglied bei der Kulturtafel? / Not yet a member of the Kulturtafel? / Ще не є членом Kulturtafel? / Pas encore membre de la Kulturtafel ? \n\nIn unseren Sprechstunden könnt ihr euch für die Kulturtafel registrieren. Wir helfen euch dabei.\nВи можете зареєструватися на Kulturtafel під час наших консультацій. Ми допоможемо вам у цьому.\nYou can register for the Kulturtafel during our consultation hours. We will help you with this.\nLors de nos permanences\, vous pouvez vous inscrire au tableau culturel. Nous vous aiderons à le faire.\n\nIhr möchtet\, dass wir euch bei der Reservierung einer Veranstaltung helfen? / Хочете\, щоб ми допомогли вам забронювати захід? / Would you like us to help you book an event? / Vous souhaitez que nous vous aidions à réserver un événement ? \n\nWir helfen euch dabei eine passende Veranstaltung für euch zu finden und eine Reservierung vorzunehmen.\nМи допоможемо вам знайти відповідний для вас захід і зробити бронювання.\nWe will help you find a suitable event for you and make a reservation.\nNous vous aidons à trouver un événement qui vous convient et à faire une réservation.\n\n\n\n\n\n\n\n\n\n\n\n\n\n\n\n\n\n\n\n\n\n\n\n\n\n\n\n\n\n\n\n\n\n\n\n 
URL:https://dev.our-events.de/event/sprechstunde-vorstellung-anmeldung-kulturtafel-im-klamottencafe-in-der-tagesstaette-sued/
LOCATION:Klamottencafé in der Tagesstätte Süd\, Hohentorsheerstr. 76/78\, Bremen\, Bremen\, 28199
CATEGORIES:Beratung
ATTACH;FMTTYPE=image/png:https://dev.our-events.de/wp-content/uploads/2024/10/Logo-KTB.png
END:VEVENT
BEGIN:VEVENT
DTSTART;TZID=Europe/Berlin:20251002T200000
DTEND;TZID=Europe/Berlin:20251002T220000
DTSTAMP:20260423T185335
CREATED:20250822T125534Z
LAST-MODIFIED:20250822T125534Z
UID:42205-1759435200-1759442400@dev.our-events.de
SUMMARY:Lawn Chair - Konzert im Lagerhaus
DESCRIPTION:Seit nunmehr drei Jahren sind Lawn Chair aus der deutschen Indieszene nicht mehr wegzudenken. Bisher veröffentlichte die Band zwei EPs und spielte unzählige Gigs überall in Deutschland. Darüber hinaus waren eine erste Englandtour\, mitreißende Supportshows für Sleaford Mods und Gigs auf Festivals wie dem Immergut Festival und der Fusion nur die jüngsten Meilensteine der ambitionierten Band. Ihr lang ersehntes Debütalbum You Want It! You Got It! im Gepäck\, werden 2025 die Bühnen von Clubs und Festivals unsicher gemacht. Die Band um Sängerin und Frontfrau Claudia Schlutius bietet einen fesselnden Genremix aus Post-Punkigen Hallarien\, kompromisslos trockenen Gitarrenriffs\, poppigen Basslines und treibenden Synthesizern. Einlass: 19 Uhr \nCopyright Text & Bild: Lagerhaus
URL:https://dev.our-events.de/event/lawn-chair-konzert-im-lagerhaus/
LOCATION:Kulturzentrum Lagerhaus\, Schildstraße 12-19\, Bremen\, 28203
CATEGORIES:Konzert
ATTACH;FMTTYPE=image/png:https://dev.our-events.de/wp-content/uploads/2025/03/dreieck_kultur_100-6.png
END:VEVENT
BEGIN:VEVENT
DTSTART;TZID=Europe/Berlin:20251002T200000
DTEND;TZID=Europe/Berlin:20251002T220000
DTSTAMP:20260423T185335
CREATED:20250822T171806Z
LAST-MODIFIED:20250822T171806Z
UID:42371-1759435200-1759442400@dev.our-events.de
SUMMARY:Lawn Chair im Lagerhaus
DESCRIPTION:Seit nunmehr drei Jahren sind Lawn Chair aus der deutschen Indieszene nicht mehr wegzudenken. Bisher veröffentlichte die Band zwei EPs und spielte unzählige Gigs überall in Deutschland. Darüber hinaus waren eine erste Englandtour\, mitreißende Supportshows für Sleaford Mods und Gigs auf Festivals wie dem Immergut Festival und der Fusion nur die jüngsten Meilensteine der ambitionierten Band. Ihr lang ersehntes Debütalbum You Want It! You Got It! im Gepäck\, werden 2025 die Bühnen von Clubs und Festivals unsicher gemacht. Die Band um Sängerin und Frontfrau Claudia Schlutius bietet einen fesselnden Genremix aus Post-Punkigen Hallarien\, kompromisslos trockenen Gitarrenriffs\, poppigen Basslines und treibenden Synthesizern. IM SAAL \nCopyright Text & Bild: Lagerhaus
URL:https://dev.our-events.de/event/lawn-chair-im-lagerhaus/
LOCATION:Kulturzentrum Lagerhaus\, Schildstraße 12-19\, Bremen\, 28203
CATEGORIES:Konzert
ATTACH;FMTTYPE=image/png:https://dev.our-events.de/wp-content/uploads/2025/08/dreieck_kultur_trans.png
END:VEVENT
BEGIN:VEVENT
DTSTART;TZID=Europe/Berlin:20251002T210000
DTEND;TZID=Europe/Berlin:20251002T230000
DTSTAMP:20260423T185335
CREATED:20250824T124333Z
LAST-MODIFIED:20250824T124333Z
UID:42433-1759438800-1759446000@dev.our-events.de
SUMMARY:Project Priest - Judas Priest Cover\, Bremen im Meisenfrei
DESCRIPTION:Dank des morgigen Feiertags präsentiert Project Priest an diesem Mittwoch – nee\, also\, wer da jetzt nicht drauf kommt\, hat noch ganz andere Probleme als nur eine Canyon-große Wissenslücke. Wer „Britsh Steel“ und andere Werke der Altmeister des Metals neu oder wieder neu entdecken will\, hat sich den richtigen Tag ausgesucht\, zumal Morgen auch noch ausgeschlafen werden darf. Spaß- und Qualitätsfaktor liegen hier jenseits Warp 10\, dasselbe gilt für die Lautstärke! \nCopyright Text & Bild: Meisenfrei
URL:https://dev.our-events.de/event/project-priest-judas-priest-cover-bremen-im-meisenfrei/
LOCATION:Meisenfrei\, Hankenstraße 18\, Bremen\, 28195
CATEGORIES:Konzert
ATTACH;FMTTYPE=image/jpeg:https://dev.our-events.de/wp-content/uploads/2025/08/2025-10-02-ProjectPriest.jpg
END:VEVENT
END:VCALENDAR