BEGIN:VCALENDAR
VERSION:2.0
PRODID:-//Our Events - ECPv6.15.20//NONSGML v1.0//EN
CALSCALE:GREGORIAN
METHOD:PUBLISH
X-WR-CALNAME:Our Events
X-ORIGINAL-URL:https://dev.our-events.de
X-WR-CALDESC:Veranstaltungen für Our Events
REFRESH-INTERVAL;VALUE=DURATION:PT1H
X-Robots-Tag:noindex
X-PUBLISHED-TTL:PT1H
BEGIN:VTIMEZONE
TZID:Europe/Berlin
BEGIN:DAYLIGHT
TZOFFSETFROM:+0100
TZOFFSETTO:+0200
TZNAME:CEST
DTSTART:20240331T010000
END:DAYLIGHT
BEGIN:STANDARD
TZOFFSETFROM:+0200
TZOFFSETTO:+0100
TZNAME:CET
DTSTART:20241027T010000
END:STANDARD
BEGIN:DAYLIGHT
TZOFFSETFROM:+0100
TZOFFSETTO:+0200
TZNAME:CEST
DTSTART:20250330T010000
END:DAYLIGHT
BEGIN:STANDARD
TZOFFSETFROM:+0200
TZOFFSETTO:+0100
TZNAME:CET
DTSTART:20251026T010000
END:STANDARD
BEGIN:DAYLIGHT
TZOFFSETFROM:+0100
TZOFFSETTO:+0200
TZNAME:CEST
DTSTART:20260329T010000
END:DAYLIGHT
BEGIN:STANDARD
TZOFFSETFROM:+0200
TZOFFSETTO:+0100
TZNAME:CET
DTSTART:20261025T010000
END:STANDARD
END:VTIMEZONE
BEGIN:VEVENT
DTSTART;TZID=Europe/Berlin:20251003T160000
DTEND;TZID=Europe/Berlin:20251003T173000
DTSTAMP:20260423T203633
CREATED:20250814T151410Z
LAST-MODIFIED:20250814T151410Z
UID:41996-1759507200-1759512600@dev.our-events.de
SUMMARY:Zwoisy Mears-Clarke: Erste Schritte zu den Schwellen
DESCRIPTION:Tanz im öffentlichen Raum \nExterner Spielort: am Werdersee\nMit integrierter Audiodeskription \n\n\nWie können wir unsere seit über 500 Jahren gewohnten kolonialen Räume verlassen? Wie können wir die Schwellen überschreiten\, die in andere Welten führen? Wir müssen uns zuerst diesen Schwellen annähern\, Schritt für Schritt. \n»Erste Schritte zu den Schwellen« entwirft einen neuen Volkstanz und bringt diesen in den öffentlichen Raum: Die Performance lässt sich von den deutschen Masken­traditionen inspirieren. Doch »Erste Schritte zu den Schwellen« macht sich nicht daran\, den Winter zu vertreiben\, sondern lokale koloniale Machtstrukturen. In einer langsamen Prozession tanzen maskierte Figuren rhythmisch mit Glöckchen zwischen den Schulter­blättern\, während sie ihre Bewegungen als kreative\, integrierte Audiodeskription beschreiben und Geschichten auf Deutsch\, Spanisch und Englisch erzählen. Jede Figur ist Verführer*in und Verwandler*in – und freut sich darauf\, mit euch zu tanzen! Publikum und Performer*innen bewegen sich in einem Raum zwischen kolonialen und dekolonialen Perspektiven. \nWer weiß\, was nach der gemeinsamen Prozession passieren wird\, einige Schritte näher an den Schwellen – beim Verweilen und Teilen eines Tees? \n\n\n\n\n\nZwoisy Mears-Clarke versteht sich als Choreograf*in der Begegnungen. Zwoisy nutzt das Potenzial des Tanzes und des Geschichten­erzählens\, um Formen der Unter­drückung wie Neokolonialismus\, Sexismus und Ableismus sichtbar zu machen und um Begegnungen zu ermöglichen\, die unter anderen Umständen unmöglich wären. Durch den Wechsel zwischen gesprochenen Sprachen und Bewegungssprachen\, bieten Zwoisys Choreografien die Möglichkeit sich selbst und anderen Menschen neu zu begegnen. Zuletzt war Zwoisy Mears-Clarke mit der Tanz-Performance »Geneigter« in der Schwankhalle zu Gast. \nBarrierefreiheit:\nMit integrierter AudiodeskriptionEintritt frei – Spenden willkommen\nDie Tanz-Performance startet am Werdersee\, Höhe Franz-Grashof-Straße 41 ↗. Die BSAG-Haltestelle »Am Dammacker« befindet sich in in der Nähe. Genaue Wegbeschreibung auf der Webseite der Schwankhalle. \nDie Performance richtet sich an blindes\, sehbehindertes und sehendes Publikum. Es gibt eine kreative\, integrierte Audiodeskription auf Deutsch. \nAußerdem wird deutsche\, englische und spanische Lautsprache verwendet. \nDie Performance findet im Freien statt und das Publikum ist eingeladen\, den Performer*innen auf ihrer Prozession zu folgen. Der Veranstaltungsort ist ebenerdig und für mobilitätseingeschränkte Personen erreichbar. \n\n\nCredits\nKonzept / Community-Organisation / Choreografie / Performance / Audiodeskription / Text: Zwoisy Mears-Clarke\nKo-Choreografie / Performance / Audiodeskription / Text: Amelia Uzategui Bonilla\, Birte Opitz\, Esther Siddiquie\, Fia/ Sophia Neises\nKostümdesign: Kristin Gerwien\, Row Särkelä-Bassett\nMaskendesign: Camilo PachónKostüm- und Maskenassistenz: Sara Alvarado\, Wren Bisley\, Lika\, Conny Metz\nMusik: Rishin Singh\nTeekreation / Pflanzenrecherche: Shelley Etkin\nDramaturgie für die ästhetische Erfahrung des blinden und sehbehinderten Publikums / Community-Begleitung: Fabian Lilian Korner\nDramaturgische Unterstützung für die ästhetische Erfahrung des blinden und sehbehinderten Publikums: Sabine Kuxdorf\, Yasha Müller\, Melanie Hambrecht\, Andrea Eberl\, Camilla Moitroux Fußhoeller\nDramaturgie für die ästhetische Erfahrung des sehenden Publikums / Dramaturgie unter Berücksichtigung rassismusbezogener Machtverhältnisse: Yvonne Sembene\nBeratung zu Inklusion und Barrierefreiheit: Patrizia Kubanek\nBeratung zu Perchten- & Narrentraditionen: Fastnachtmuseum Narrenschopf Bad Dürrheim\, Heimatmuseum Empfingen\, Narrenzunft Rottweil\, Maskeum in Kirchseeon\, Michael Fuchs\nKonzeptionelle Beratung: Amelia Uzategui Bonilla\, Diana Thielen\, Joy Mariama Smith\nBewegungsrecherche: Amelia Uzategui Bonilla\, Birte Opitz\, Diana Thielen\, Raoni Muzho Saleh\nFigurenrecherche: Doore Antrie\, Birte Opitz\, Diana Thielen\, Esther Siddiquie\, Obinna Ejike\, Tatiana Mejia\, Virginina Krämer\, Yin Cheng-Kokott\, Zen Jefferson\, Zinzi Buchanan\nProduktionsleitung: Alexandra Schmidt\nProduktionsassistenz: Pascal Jung \nEine Koproduktion von tanzhaus nrw und Schwankhalle Bremen. Gefördert vom Fonds Darstellende Künste aus Mitteln der Beauftragten der Bundesregierung für Kultur und Medien\, durch das Ministerium für Kultur und Wissenschaft NRW\, die Herbert Funke-Stiftung sowie die Karin undUwe Hollweg Stiftung. Unterstützt im Rahmen des Residenzprogramms von PACT Zollverein (Essen)\, mit Förderung des Ministeriums für Kultur und Wissenschaft des Landes Nordrhein-Westfalen. Die Recherche wurde ermöglicht durch NPN-Stepping Out\, #TakeHeart Residenz des Fonds Darstellende Künste und PACT Zollverein. \n\n\n\n\n\n 
URL:https://dev.our-events.de/event/zwoisy-mears-clarke-erste-schritte-zu-den-schwellen/
LOCATION:Schwankhalle\, Buntentorsteinweg 112/116\, Bremen\, 28201
CATEGORIES:Tanz,Theater
ATTACH;FMTTYPE=image/jpeg:https://dev.our-events.de/wp-content/uploads/2025/08/Zwoisy-Mears-Clarke_Schwellen_Katja-Illner_02_web.jpg
END:VEVENT
BEGIN:VEVENT
DTSTART;TZID=Europe/Berlin:20251003T200000
DTEND;TZID=Europe/Berlin:20251003T210000
DTSTAMP:20260423T203633
CREATED:20250814T151913Z
LAST-MODIFIED:20250815T104727Z
UID:42000-1759521600-1759525200@dev.our-events.de
SUMMARY:Tremenda Corporea: »Lithium Love Stories« - Theater in der Schwankhalle
DESCRIPTION:Der massive Abbau von Lithium zwingt Flamingos und Menschen dazu\, ihren Lebensraum in der Atacama-­Wüste zu verlassen. Lithium ist eine zentrale Ressource für den Betrieb von Handys\, Computern\, E-Bikes\, Scootern und Elektroautos. Mit »Lithium Love Stories« erforschen Tremenda Corporea das Spannungs­verhältnis zwischen techno­logischer Entwicklung\, emotionaler Verbundenheit und Territorium. Mit analogen E-Scootern bewegen sie sich durch eine Landschaft post­kolonialer Widersprüche\, in der Menschliches\, Mineralisches und Techno­logisches verschmelzen. \nZwischen den Verheißungen einer schnell­lebigen Zukunft und dem dringenden Bedürfnis nach Ent­schleunigung teilen Performer*­innen und Publikum die Sorge um die schwindende Akkuladung. Können wir uns stattdessen mit der Energie des Körpers\, des Verlangens und des Zusammenseins verbinden? Kann die Performance einen Raum für Reflexion schaffen\, in dem das Wissen der indigenen Lickanantai-­Community\, ihre Beziehung zum Wasser und zu den Salinen sowie das Konzept des »buen vivir« (»gutes Leben«) Anerkennung finden? \nInstagram @tremenda.corporea ↗tremendacorporea.net ↗ \n\n\n\n\nBarrierefreiheit:\nDauer: Ca. 50 Min. ohne Pause.\nIn deutscher\, englischer und spanischer Lautsprache mit Audiodeskription.\nEs kommt zum Einsatz von Stroboskop und Nebeleffekten. \nCredits\nVon & mit: Icaro López de Mesa Moyano\, Moira Meine Fuentes\, Víctor Artiga Rodríguez \nKoproduktion: SchwankhalleGefördert durch die Zeit Stiftung Bucerius\, den Senator für Kultur Bremen und das Zentrum für Kunst.
URL:https://dev.our-events.de/event/tremenda-corporea-lithium-love-stories/
LOCATION:Schwankhalle\, Buntentorsteinweg 112/116\, Bremen\, 28201
CATEGORIES:Performance,Theater
ATTACH;FMTTYPE=image/jpeg:https://dev.our-events.de/wp-content/uploads/2025/08/Tremenda-Corporea_Lithium-Love-Stories_03_c_Gabriela-Valdespino_web.jpg
END:VEVENT
BEGIN:VEVENT
DTSTART;TZID=Europe/Berlin:20251003T200000
DTEND;TZID=Europe/Berlin:20251003T220000
DTSTAMP:20260423T203633
CREATED:20250813T135906Z
LAST-MODIFIED:20250813T135906Z
UID:41941-1759521600-1759528800@dev.our-events.de
SUMMARY:Habenhauser Schafferkonzerte - JAZZ Black Mirror Ensemble
DESCRIPTION:In unseren Reihen JAZZ + KLASSIK präsentieren die musikalischen Leiter Jens Schöwing und Leonard Trommel immer wieder besondere Hörerlebnisse. In der Jazzreihe sorgt der Bremer Pianist Jens Schöwing für ein vielfältiges und interessantes Programm\, in dem sich traditionelle und moderne Spielarten begegnen und die Vielfalt des Jazz verdeutlicht. Für die klassischen Konzerte stellt der Cellist Leonard Trommel abwechslungsreiche und anspruchsvolle Programme zusammen\, die den reichen Fundus der verschiedenen Musikepochen darstellen. \nDas junge Septett des Bremer Saxofonisten Adam Spoerhase begeistert seit Jahren durch unkonventionellen Jazz mit dystopischem Charme. Deutsche Texte – mal poetisch\, mal pointiert – verschmelzen in filigranen Klanggeflechten aus Saxofon\, Gitarre und Gesang. Getragen wird das Ensemble von einer hochkarätigen Rhythmusgruppe\, deren treibende Grooves das Fundament für einen vielschichtigen Sound bilden. \nBlack Mirror Ensemble\nAntonia Wohlgemuth – Gesang\nJulia Victoria – Gesang\nLeonhard Leidert – Gitarre\nAdam Spoerhase – Saxofon/Komposition\nMoritz Schöwing – Klavier\nGerald Willms – Kontrabass\nJannik Stock – Schlagzeug \nThematisch widmet sich die Band aktuellen Diskursen rund um Digitalisierung\, Politik und Science-Fiction – und findet dafür eine musikalische Sprache\, die gleichermaßen nachdenklich und energiegeladen ist. Mit ihrer kraftvollen Bühnenpräsenz gelingt es dem Septett\, Einflüsse aus Jazz\, Electronica\, Pop und klassischer Musik zu einem veinzigartigen Konzerterlebnis zu verweben. \nCopyright Text & Bild: Simon-Petrus-Kirche
URL:https://dev.our-events.de/event/habenhauser-schafferkonzerte-jazz-black-mirror-ensemble/
LOCATION:Simon-Petri-Kirche Habenhausen\, Ev. Kirchengemeinde Arsten-Habenhausen\, Bremen\, Bremen\, 28279\, Germany
CATEGORIES:Konzert
ATTACH;FMTTYPE=image/jpeg:https://dev.our-events.de/wp-content/uploads/2025/08/black-mirror-ensemble_oktober_700.jpg
END:VEVENT
BEGIN:VEVENT
DTSTART;TZID=Europe/Berlin:20251003T200000
DTEND;TZID=Europe/Berlin:20251003T220000
DTSTAMP:20260423T203633
CREATED:20250929T165114Z
LAST-MODIFIED:20251001T080441Z
UID:43596-1759521600-1759528800@dev.our-events.de
SUMMARY:Höhner – 11+11 – Die Live Tour 2025
DESCRIPTION:Höhner – 11+11 – Die Live Tour 2025\n„Prinzessin”\, „Es ist nicht so\, wie du denkst”\, „Au Revoir”:\nDie Höhner schreiben die tolle musikalische Erfolgsgeschichte mit großartigen Hits weiter. Mit dem Album „11+11″ haben die Musiker 2024 elf brandneue Titel eingespielt und gezeigt\, dass die Höhner so aktuell sind wie nie. Zusätzlich haben sie sich elf zeitlose Meilensteine aus der Bandgeschichte genommen\, modern neu aufgenommen und in die musikalische Jetzt-Zeit gebracht. Denn auch heute noch sind die Höhner\, genau wie die von ihr besungene Domstadt\, noch immer „e Jeföhl”! Davon kann sich jeder begeistern lassen bei der neuen Live-Tour „11+11″ – am Freitag\, 03. Oktober 2024\, im Metropol Theater Bremen.\nSeit Jahrzehnten gefeiert für ihren scheuklappenfreien Sound\, für ein vertontes „Jeföhl”\, das man trotz kölscher Mundart überall versteht\, für ihre Abstecher in andere kulturelle Kontexte – von der eigenen Rock-and-Roll-Circus-Show bis nach Wacken – schlagen die Höhner nun auch live das nächste Kapitel auf. „Jetzt wollen wir zeigen\, wo die Höhner aktuell stehen und vor allem: wie sie klingen”\, kündigt Sänger Patrick Lück an.\nNatürlich weiß der Frontmann sehr genau\, was für ein Geschenk die stilistischen Freiräume sind\, die man bei den Höhnern hat: Eben noch Sänger\, dann „im Circus auch mal eher Artist oder Clown”\, bewegen sie sich musikalisch ähnlich nahtlos zwischen Rock\, Pop\, Party-Sound\, Schlager oder Folk. „Durch diese Flexibilität\, die wir haben\, können wir immer wieder die Fans überraschen\, ohne uns zu weit von unserer Tradition zu entfernen.” Kein Wunder\, dass „11+11″ extrem abwechslungsreich und gerade deshalb absolut aus einem Guss klingt – und vor allem 100% authentisch.\nDie Spielfreude\, der Sound und die einzigartige Energie dieser Band speiste sich schon immer aus Neuzugängen und Transfers: Seit der dritte Sänger Henning Krautmacher 2021 den Staffelstab an Patrick Lück übergeben hatte\, besteht die aktuelle Sechserkette außerdem aus Micki Schläger (Keyboards\, Gesang)\, Jens Streifling (Gitarre\, Sax\, Mandoline)\, Heiko Braun (Drums)\, Freddi Lubitz (Bass\, Gesang) und Edin Čolić aka Meister Ede (Leadgitarre). Zu sechst schreiben sie die Geschichte der 1972 als „Ne Höhnerhoff” gegründeten Institution fort\, deren „Viva Colonia” vor ein paar Jahren sogar von Metallica gecovert wurde. \nCopyright Text & Bild: Metropol Theater Bremen\, MTB Betriebs GmbH & “Höhner” \nAchtung: es sind ausnahmsweise keine barriere-freien Plätze mehr verfügbar! Der Veranstalter hat uns ausdrücklich um diesen Hinweis gebeten\, da normalerweise dies ja kein Problem im Metropol ist!
URL:https://dev.our-events.de/event/hoehner-1111-die-live-tour-2025/
LOCATION:Metropoltheater\, Richtweg 7\, Bremen\, 28195
CATEGORIES:Konzert
ATTACH;FMTTYPE=image/jpeg:https://dev.our-events.de/wp-content/uploads/2025/09/Unbenannt-2.jpg
END:VEVENT
BEGIN:VEVENT
DTSTART;TZID=Europe/Berlin:20251003T200000
DTEND;TZID=Europe/Berlin:20251003T220000
DTSTAMP:20260423T203633
CREATED:20251002T100625Z
LAST-MODIFIED:20251002T100625Z
UID:43675-1759521600-1759528800@dev.our-events.de
SUMMARY:Tony Bauer - Comedy im Schlachthof - Kesselhalle
DESCRIPTION:Jung\, sympathisch und vor allem lustig – das ist TONY BAUER. Der leidenschaftliche Aufsteiger aus Duisburg hat innerhalb kürzester Zeit frischen Wind in die Comedy- Szene gebracht! Mit seinem einzigartigen Humor und einer beeindruckenden Lebensgeschichte hat er sich einen Namen gemacht und die Bühnen der Republik erobert. \nDenn Tony Bauer hat das Kurzdarmsyndrom\, eine herausfordernde gesundheitliche Beeinträchtigung\, die ihn auf die kontinuierliche Zufuhr von Nährstoffen über einen Schlauch angewiesen macht. Aber anstatt sich von seiner Krankheit unterkriegen zu lassen\, hat Tony beschlossen\, mit einem Lächeln dagegen anzugehen und auf die Comedy-Bühne zu treten. Sein Motto\, das er lebt und auf der Bühne verkörpert\, lautet: „Wir müssen erst ein paar Mal sterben\, bevor wir einmal cool leben dürfen.“ Diese Einstellung spiegelt seine positive Energie und Entschlossenheit wider. \nSeit 2022 hat Tony Bauer das Publikum in vielen Shows mit seiner Schlagfertigkeit und Selbstironie begeistert. Bereits mit einem seiner ersten Auftritte im „NightWash“ – Waschsalon empfahl er sich für die größte Bühne Europas: Bei der 1LIVE Comedy-Nacht XXL begeisterte er im Oktober 2022 über 13.000 Zuschauer. Mittlerweile ist er mit seinem ersten Soloprogramm „Fallschirmspringer“ unterwegs. \nMit seinem Charme und einem ganz eigenen Blick auf die Welt nimmt Tony das Publikum auf eine Reise durch seinen Alltag mit und erzählt von seinen Erfahrungen mit dem Kurzdarmsyndrom bis hin zu den absurden Hürden\, die ihm in den Weg gestellt wurden. Aufgewachsen in Duisburg-Marxloh hat er eine erfrischende Sichtweise auf das Leben entwickelt. Mit seiner Bühnenpräsenz und einer Geschichte\, die inspiriert\, lädt Tony Bauer alle Zuschauer:innen dazu ein\, mit ihm in seine Welt einzutauchen. \n\n\n\nCopyright Text: Schlachthof \nCopyright Bild: Max Kopp
URL:https://dev.our-events.de/event/tony-bauer-comedy-im-schlachthof-kesselhalle/
LOCATION:Schlachthof Kulturzentrum\, Findorffstraße 51\, Bremen\, 28215
CATEGORIES:Konzert,Musik
ATTACH;FMTTYPE=image/jpeg:https://dev.our-events.de/wp-content/uploads/2025/10/tony-bauer_c_max-kopp-1110x.jpg
END:VEVENT
END:VCALENDAR