BEGIN:VCALENDAR
VERSION:2.0
PRODID:-//Our Events - ECPv6.15.20//NONSGML v1.0//EN
CALSCALE:GREGORIAN
METHOD:PUBLISH
X-ORIGINAL-URL:https://dev.our-events.de
X-WR-CALDESC:Veranstaltungen für Our Events
REFRESH-INTERVAL;VALUE=DURATION:PT1H
X-Robots-Tag:noindex
X-PUBLISHED-TTL:PT1H
BEGIN:VTIMEZONE
TZID:Europe/Berlin
BEGIN:DAYLIGHT
TZOFFSETFROM:+0100
TZOFFSETTO:+0200
TZNAME:CEST
DTSTART:20240331T010000
END:DAYLIGHT
BEGIN:STANDARD
TZOFFSETFROM:+0200
TZOFFSETTO:+0100
TZNAME:CET
DTSTART:20241027T010000
END:STANDARD
BEGIN:DAYLIGHT
TZOFFSETFROM:+0100
TZOFFSETTO:+0200
TZNAME:CEST
DTSTART:20250330T010000
END:DAYLIGHT
BEGIN:STANDARD
TZOFFSETFROM:+0200
TZOFFSETTO:+0100
TZNAME:CET
DTSTART:20251026T010000
END:STANDARD
BEGIN:DAYLIGHT
TZOFFSETFROM:+0100
TZOFFSETTO:+0200
TZNAME:CEST
DTSTART:20260329T010000
END:DAYLIGHT
BEGIN:STANDARD
TZOFFSETFROM:+0200
TZOFFSETTO:+0100
TZNAME:CET
DTSTART:20261025T010000
END:STANDARD
END:VTIMEZONE
BEGIN:VEVENT
DTSTART;TZID=Europe/Berlin:20250301T110000
DTEND;TZID=Europe/Berlin:20250301T160000
DTSTAMP:20260423T223138
CREATED:20250228T160841Z
LAST-MODIFIED:20250823T065010Z
UID:35915-1740826800-1740844800@dev.our-events.de
SUMMARY:Eintrittskarten Vegesacker Geschichtenhaus - Gültig zu den Öffnungszeiten
DESCRIPTION:Das Vegesacker Geschichtenhaus macht die Stadtgeschichte von Bremen-Nord lebendig. In kleinen Theaterszenen entführen unsere Darsteller Sie in das Vegesack des 19. Jahrhunderts.  \nBesuchen Sie uns auf der legendären Lange-Werft\, sprechen Sie mit den Handwerkern über die Arbeit in dieser Zeit oder trinken Sie auf ein langes Leben in der Hafenschänke und vor allem: Lassen Sie sich nicht erwischen\, wenn der Hafenmeister wieder seine Runde macht! \nGeöffnet haben wir immer mittwochs bis samstags zwischen 11 und 16 Uhr (letzter Einlass um 15 Uhr). Für Schulklassen öffnen wir auf Anfrage gerne auch früher. \nEine Spielführung dauert zur Zeit 30 – 45 Minuten. Zum Abschluss haben Sie die Möglichkeit bei Kaffee und süßem “Havenfutter” im GalerieCafe oder auf der Dachterrasse zu verweilen. \nFotos: Matthias Sabelhaus \nBitte aktiviere JavaScript in deinem Browser\, um dieses Formular fertigzustellen.Bitte aktiviere JavaScript in deinem Browser\, um dieses Formular fertigzustellen.Bitte die Anzahl zu reservierender Karten auswählenIch bin *KulturgastKulturbegleiter:inAnrede Interessent:in *FrauHerrDiversVorname  *Name *Straße & Hausnummer *Postleitzahl  *Ort *Telefon Nr. der Interessent:in *E-Mail  *Ich benötige Unterstützung für den Besuch der Veranstaltung *janeinWelche Form der Unterstützung  benötigen Sie?Ich möchte den Programm Newsletter der Kulturtafel abonnieren. Das kann ich jederzeit rückgängig machen.janeinDSGVO Einverständnis *Ich willige ein\, dass diese Website meine übermittelten Informationen speichert\, sodass meine Anfrage beantwortet werden kann.Angaben bestätigen  \n 
URL:https://dev.our-events.de/event/eintrittskarten-fuer-das-vegesacker-geschichtenhaus-2/
LOCATION:Vegesacker Geschichtenhaus\, Zum Alten Speicher 5a\, Bremen\, 28759
CATEGORIES:Museum,Theater
ATTACH;FMTTYPE=image/png:https://dev.our-events.de/wp-content/uploads/2025/02/geschichtenhaus.png
END:VEVENT
BEGIN:VEVENT
DTSTART;TZID=Europe/Berlin:20251004T180000
DTEND;TZID=Europe/Berlin:20251004T190000
DTSTAMP:20260423T223138
CREATED:20250824T122213Z
LAST-MODIFIED:20250824T122213Z
UID:42416-1759600800-1759604400@dev.our-events.de
SUMMARY:Geheimnis Dunkle Materie im Olbers-Planetarium
DESCRIPTION:Woraus besteht das Universum? Wir wissen\, dass es im Universum viel mehr als die sichtbare Materie aus Galaxien\, Nebeln\, Sternen und Planeten gibt. Aber worum handelt es sich bei dieser geheimnisvollen\, unsichtbaren dunklen Materie\, die die Masse des sichtbaren Universum vermutlich deutlich übersteigt? Begeben Sie sich mit uns auf die Suche nach einer Antwort! Neben aktuellen Forschungsergebnissen zeigen wir selbstverständlich auch den aktuelle Sternenhimmel. \nEmpfehlung ab 12 Jahre. \nCopyright Text & Bild: Olbers-Planetarium
URL:https://dev.our-events.de/event/geheimnis-dunkle-materie-im-olbers-planetarium-3/
LOCATION:Olbers-Planetarium Bremen\, Werderstrasse 73\, Bremen\, 28199
CATEGORIES:Planetarium
ATTACH;FMTTYPE=image/png:https://dev.our-events.de/wp-content/uploads/2025/06/Dunkle-Materie.png
END:VEVENT
BEGIN:VEVENT
DTSTART;TZID=Europe/Berlin:20251003T160000
DTEND;TZID=Europe/Berlin:20251003T173000
DTSTAMP:20260423T223138
CREATED:20250814T151410Z
LAST-MODIFIED:20250814T151410Z
UID:41996-1759507200-1759512600@dev.our-events.de
SUMMARY:Zwoisy Mears-Clarke: Erste Schritte zu den Schwellen
DESCRIPTION:Tanz im öffentlichen Raum \nExterner Spielort: am Werdersee\nMit integrierter Audiodeskription \n\n\nWie können wir unsere seit über 500 Jahren gewohnten kolonialen Räume verlassen? Wie können wir die Schwellen überschreiten\, die in andere Welten führen? Wir müssen uns zuerst diesen Schwellen annähern\, Schritt für Schritt. \n»Erste Schritte zu den Schwellen« entwirft einen neuen Volkstanz und bringt diesen in den öffentlichen Raum: Die Performance lässt sich von den deutschen Masken­traditionen inspirieren. Doch »Erste Schritte zu den Schwellen« macht sich nicht daran\, den Winter zu vertreiben\, sondern lokale koloniale Machtstrukturen. In einer langsamen Prozession tanzen maskierte Figuren rhythmisch mit Glöckchen zwischen den Schulter­blättern\, während sie ihre Bewegungen als kreative\, integrierte Audiodeskription beschreiben und Geschichten auf Deutsch\, Spanisch und Englisch erzählen. Jede Figur ist Verführer*in und Verwandler*in – und freut sich darauf\, mit euch zu tanzen! Publikum und Performer*innen bewegen sich in einem Raum zwischen kolonialen und dekolonialen Perspektiven. \nWer weiß\, was nach der gemeinsamen Prozession passieren wird\, einige Schritte näher an den Schwellen – beim Verweilen und Teilen eines Tees? \n\n\n\n\n\nZwoisy Mears-Clarke versteht sich als Choreograf*in der Begegnungen. Zwoisy nutzt das Potenzial des Tanzes und des Geschichten­erzählens\, um Formen der Unter­drückung wie Neokolonialismus\, Sexismus und Ableismus sichtbar zu machen und um Begegnungen zu ermöglichen\, die unter anderen Umständen unmöglich wären. Durch den Wechsel zwischen gesprochenen Sprachen und Bewegungssprachen\, bieten Zwoisys Choreografien die Möglichkeit sich selbst und anderen Menschen neu zu begegnen. Zuletzt war Zwoisy Mears-Clarke mit der Tanz-Performance »Geneigter« in der Schwankhalle zu Gast. \nBarrierefreiheit:\nMit integrierter AudiodeskriptionEintritt frei – Spenden willkommen\nDie Tanz-Performance startet am Werdersee\, Höhe Franz-Grashof-Straße 41 ↗. Die BSAG-Haltestelle »Am Dammacker« befindet sich in in der Nähe. Genaue Wegbeschreibung auf der Webseite der Schwankhalle. \nDie Performance richtet sich an blindes\, sehbehindertes und sehendes Publikum. Es gibt eine kreative\, integrierte Audiodeskription auf Deutsch. \nAußerdem wird deutsche\, englische und spanische Lautsprache verwendet. \nDie Performance findet im Freien statt und das Publikum ist eingeladen\, den Performer*innen auf ihrer Prozession zu folgen. Der Veranstaltungsort ist ebenerdig und für mobilitätseingeschränkte Personen erreichbar. \n\n\nCredits\nKonzept / Community-Organisation / Choreografie / Performance / Audiodeskription / Text: Zwoisy Mears-Clarke\nKo-Choreografie / Performance / Audiodeskription / Text: Amelia Uzategui Bonilla\, Birte Opitz\, Esther Siddiquie\, Fia/ Sophia Neises\nKostümdesign: Kristin Gerwien\, Row Särkelä-Bassett\nMaskendesign: Camilo PachónKostüm- und Maskenassistenz: Sara Alvarado\, Wren Bisley\, Lika\, Conny Metz\nMusik: Rishin Singh\nTeekreation / Pflanzenrecherche: Shelley Etkin\nDramaturgie für die ästhetische Erfahrung des blinden und sehbehinderten Publikums / Community-Begleitung: Fabian Lilian Korner\nDramaturgische Unterstützung für die ästhetische Erfahrung des blinden und sehbehinderten Publikums: Sabine Kuxdorf\, Yasha Müller\, Melanie Hambrecht\, Andrea Eberl\, Camilla Moitroux Fußhoeller\nDramaturgie für die ästhetische Erfahrung des sehenden Publikums / Dramaturgie unter Berücksichtigung rassismusbezogener Machtverhältnisse: Yvonne Sembene\nBeratung zu Inklusion und Barrierefreiheit: Patrizia Kubanek\nBeratung zu Perchten- & Narrentraditionen: Fastnachtmuseum Narrenschopf Bad Dürrheim\, Heimatmuseum Empfingen\, Narrenzunft Rottweil\, Maskeum in Kirchseeon\, Michael Fuchs\nKonzeptionelle Beratung: Amelia Uzategui Bonilla\, Diana Thielen\, Joy Mariama Smith\nBewegungsrecherche: Amelia Uzategui Bonilla\, Birte Opitz\, Diana Thielen\, Raoni Muzho Saleh\nFigurenrecherche: Doore Antrie\, Birte Opitz\, Diana Thielen\, Esther Siddiquie\, Obinna Ejike\, Tatiana Mejia\, Virginina Krämer\, Yin Cheng-Kokott\, Zen Jefferson\, Zinzi Buchanan\nProduktionsleitung: Alexandra Schmidt\nProduktionsassistenz: Pascal Jung \nEine Koproduktion von tanzhaus nrw und Schwankhalle Bremen. Gefördert vom Fonds Darstellende Künste aus Mitteln der Beauftragten der Bundesregierung für Kultur und Medien\, durch das Ministerium für Kultur und Wissenschaft NRW\, die Herbert Funke-Stiftung sowie die Karin undUwe Hollweg Stiftung. Unterstützt im Rahmen des Residenzprogramms von PACT Zollverein (Essen)\, mit Förderung des Ministeriums für Kultur und Wissenschaft des Landes Nordrhein-Westfalen. Die Recherche wurde ermöglicht durch NPN-Stepping Out\, #TakeHeart Residenz des Fonds Darstellende Künste und PACT Zollverein. \n\n\n\n\n\n 
URL:https://dev.our-events.de/event/zwoisy-mears-clarke-erste-schritte-zu-den-schwellen/
LOCATION:Schwankhalle\, Buntentorsteinweg 112/116\, Bremen\, 28201
CATEGORIES:Tanz,Theater
ATTACH;FMTTYPE=image/jpeg:https://dev.our-events.de/wp-content/uploads/2025/08/Zwoisy-Mears-Clarke_Schwellen_Katja-Illner_02_web.jpg
END:VEVENT
BEGIN:VEVENT
DTSTART;TZID=Europe/Berlin:20251004T180000
DTEND;TZID=Europe/Berlin:20251004T220000
DTSTAMP:20260423T223138
CREATED:20250828T124457Z
LAST-MODIFIED:20250828T124928Z
UID:42631-1759600800-1759615200@dev.our-events.de
SUMMARY:Gemeinsamer Besuch der SCHLA­GER­NACHT DES JAHRES 2025 - DAS ORIGINAL in der ÖVB-Arena
DESCRIPTION: 2025 wird einfach unschlagbar gut! Warum? Ganz einfach! Weil sich die Schlagernacht des Jahres – DAS ORIGINAL – mit einem Royal Flush an Schlager-Künstlern auf Tour begibt. Das heißt von Nord nach Süd und von Ost nach West werden in den größten Arenen Deutschlands zigtausende Blinkekrönchen angehen und die Lieder des Schlager-Lieblings im großen Stil mitgeschmettert. Da werden schlagertastische Erinnerungen gewonnen.  \nBei der Schlagernacht des Jahres wird nicht geblufft – wir legen unser bestes Blatt auf den Tisch und gehen „All In“ mit den Herzdamen MICHELLE\, KERSTIN OTT\, ANNA-MARIA ZIMMERMANN und SONIA LIEBING und den Schlagerkönigen MATTHIAS REIM\, OLAF DER FLIPPER und NINO DE ANGELO. Zudem geben sich die charmanten Schlagerbuben von FANTASY sowie die perfekte Zehn auf unserer Hand – VOXXCLUB\, RAMON ROSELLY\, VINCENT GROSS\, ERIC PHILIPPI und TIM PETERS die Ehre. Natürlich haben wir auch 2025 mit MICKIE KRAUSE\, OLI.P\, ROSS ANTONY und JULIAN REIM Asse im Ärmel!  \nWie bei der Schlagernacht des Jahres üblich\, setzt sich das Gewinner-Line-up pro Tourstadt individuell zusammen und variiert. Der Schlagerstartschuss fällt – wie könnte es anders sein – in Hannover (08.03.2025). Dann geht es direkt ab in den Süden nach München (22.03.)\, weiter über Mannheim (29.3.) und Leipzig (12.04.) in den hohen Norden nach Hamburg (26.04.)\, bevor es in Köln (10.05.) zum Showdown kommt. Damit ist die Schlagernacht-Runde im Frühjahr allerdings nicht komplett\, denn 2025 wird zum ersten Mal in Dortmund (17.05.) geschlagert! Mit dem legendären und sicherlich unbestreitbaren Open Air – Highlight in der Waldbühne Berlin (16.06.) wird der Sommer eingeläutet und die Frühjahrs-Tournee der Schlagernacht des Jahres – DAS ORIGINAL! beendet. Die Fans können sich bei allen anstehenden Shows auf eine unvergleichbar bunte Mischung an Schlager-Stars freuen\, die im Laufe der kommenden Wochen über die oben genannten Acts hinaus noch erweitert wird.  \nDie Schlagernacht des Jahres – DAS ORIGINAL! nimmt alle Schlagerherzen in Beschlag. Mit Stimmungskrachern und Publikumsfavoriten\, aktuellen Deutsch-Pop Songs und Herzschmerzliedern ist eine schlagertastische Stimmung vorprogrammiert. Dabei erstrahlt die Schlagernachtbühne mit einer Videowall der Extraklasse und raffiniertem Sound- und Lichtkonzept im neuen Glanz und bietet den Stars und den Besuchern einen UNSCHLAGBAR GUTEN Abend!  \nDas variierende Line-up der Schlagernacht des Jahres – DAS ORIGINAL sowie alle Termine für 2024 und 2025 können über die eigene Webseite www.schlagernacht.de\, die zugehörigen Social-Media-Kanäle als auch über die Schlagernacht-App abgerufen werden.  \nCopyright Text: Semmel Concert \n 
URL:https://dev.our-events.de/event/die-schlagernacht-des-jahres-2025-das-original-in-der-oevb-arena/
LOCATION:ÖVB-Arena\, Findorffstraße 101\, Bremen\, 28215
CATEGORIES:Kino,Konzert,Musik,Tanz,Unterhaltung
ATTACH;FMTTYPE=image/jpeg:https://dev.our-events.de/wp-content/uploads/2025/08/Schlager.jpeg
END:VEVENT
BEGIN:VEVENT
DTSTART;TZID=Europe/Berlin:20251004T200000
DTEND;TZID=Europe/Berlin:20251004T210000
DTSTAMP:20260423T223138
CREATED:20250815T104910Z
LAST-MODIFIED:20250815T104910Z
UID:42036-1759608000-1759611600@dev.our-events.de
SUMMARY:Tremenda Corporea: »Lithium Love Stories« - Theater in der Schwankhalle
DESCRIPTION:Der massive Abbau von Lithium zwingt Flamingos und Menschen dazu\, ihren Lebensraum in der Atacama-­Wüste zu verlassen. Lithium ist eine zentrale Ressource für den Betrieb von Handys\, Computern\, E-Bikes\, Scootern und Elektroautos. Mit »Lithium Love Stories« erforschen Tremenda Corporea das Spannungs­verhältnis zwischen techno­logischer Entwicklung\, emotionaler Verbundenheit und Territorium. Mit analogen E-Scootern bewegen sie sich durch eine Landschaft post­kolonialer Widersprüche\, in der Menschliches\, Mineralisches und Techno­logisches verschmelzen. \nZwischen den Verheißungen einer schnell­lebigen Zukunft und dem dringenden Bedürfnis nach Ent­schleunigung teilen Performer*­innen und Publikum die Sorge um die schwindende Akkuladung. Können wir uns stattdessen mit der Energie des Körpers\, des Verlangens und des Zusammenseins verbinden? Kann die Performance einen Raum für Reflexion schaffen\, in dem das Wissen der indigenen Lickanantai-­Community\, ihre Beziehung zum Wasser und zu den Salinen sowie das Konzept des »buen vivir« (»gutes Leben«) Anerkennung finden? \nInstagram @tremenda.corporea ↗tremendacorporea.net ↗ \n\n\n\n\nBarrierefreiheit:\nDauer: Ca. 50 Min. ohne Pause.\nIn deutscher\, englischer und spanischer Lautsprache mit Audiodeskription.\nEs kommt zum Einsatz von Stroboskop und Nebeleffekten. \nCredits\nVon & mit: Icaro López de Mesa Moyano\, Moira Meine Fuentes\, Víctor Artiga Rodríguez \nKoproduktion: SchwankhalleGefördert durch die Zeit Stiftung Bucerius\, den Senator für Kultur Bremen und das Zentrum für Kunst.
URL:https://dev.our-events.de/event/tremenda-corporea-lithium-love-stories-theater-in-der-schwankhalle/
LOCATION:Schwankhalle\, Buntentorsteinweg 112/116\, Bremen\, 28201
CATEGORIES:Performance,Theater
ATTACH;FMTTYPE=image/jpeg:https://dev.our-events.de/wp-content/uploads/2025/08/Tremenda-Corporea_Lithium-Love-Stories_03_c_Gabriela-Valdespino_web.jpg
END:VEVENT
BEGIN:VEVENT
DTSTART;TZID=Europe/Berlin:20251004T200000
DTEND;TZID=Europe/Berlin:20251004T220000
DTSTAMP:20260423T223138
CREATED:20250813T092347Z
LAST-MODIFIED:20250813T092421Z
UID:41856-1759608000-1759615200@dev.our-events.de
SUMMARY:Christian Ehring im Schlachthof
DESCRIPTION:Christian Ehring\, bekannt als Moderator von „extra 3“ und Ensemblemitglied der „ZDF heute-show“\, tourt wieder mit einem brandneuen Soloprogramm durchs Land. Und das ist auch gut so. Denn sein Witz\, seine Spontaneität und seine Empathie werden überall gebraucht. Vor allem hier\, vor allem jetzt. \nDas Land ist gespalten. Von Tag zu Tag werden die Gräben tiefer\, die Fronten härter und die Sitten rauer. Konflikte eskalieren innerhalb von Sekunden. Wo es früher noch zivilisierte Debatten gab\, wird heute nur noch geschimpft und beleidigt\, so dass man pausenlos rufen möchte: „Habt ihr eigentlich schon mal was von Höflichkeit gehört\, ihr Arschkrampen?!“ \nZugegeben: Auch Ehring hat sich im Stellungskrieg der Meinungen nicht immer vornehm zurückgehalten. Auch er hat schon gedisst und gebashed\, hat geshamed\, geblamed\, gesilenced und gefrontet – teilweise ohne zu wissen\, was diese Begriffe überhaupt bedeuten. \nJetzt aber sagt er: Schluss mit der Spaltung! Der Satireprofi mit dem Johannes-Rau- Gedächtniskiefer hat umgeschult und will fortan versöhnen: Sich mit uns\, uns mit der Welt\, links mit rechts\, Elmex mit Aronal. Und wo ließe sich das besser bewerkstelligen als im ganz konkreten Hier und Jetzt eines Theaterabends? \nDie Zuschauer erwartet eine hochaktuelle\, politische\, persönliche und auch diskursive Show\, die sich nicht auf das Trennende konzentriert\, sondern auf das\, was uns alle noch miteinander verbindet. Für Ehring jedenfalls steht fest: Versöhnung beginnt mit Zuhören. Das sollten wir tun. Und zwar ihm. \n\n\n\nCopyright Bild: Horst Klein
URL:https://dev.our-events.de/event/christian-ehring-im-schlachthof/
LOCATION:Schlachthof Kulturzentrum\, Findorffstraße 51\, Bremen\, 28215
CATEGORIES:Kabarett
ATTACH;FMTTYPE=image/jpeg:https://dev.our-events.de/wp-content/uploads/2025/08/pressefoto-ch_versoehnung_fotograf-horst-klein_9-1110x.jpg
END:VEVENT
END:VCALENDAR