BEGIN:VCALENDAR
VERSION:2.0
PRODID:-//Our Events - ECPv6.15.20//NONSGML v1.0//EN
CALSCALE:GREGORIAN
METHOD:PUBLISH
X-WR-CALNAME:Our Events
X-ORIGINAL-URL:https://dev.our-events.de
X-WR-CALDESC:Veranstaltungen für Our Events
REFRESH-INTERVAL;VALUE=DURATION:PT1H
X-Robots-Tag:noindex
X-PUBLISHED-TTL:PT1H
BEGIN:VTIMEZONE
TZID:Europe/Berlin
BEGIN:DAYLIGHT
TZOFFSETFROM:+0100
TZOFFSETTO:+0200
TZNAME:CEST
DTSTART:20240331T010000
END:DAYLIGHT
BEGIN:STANDARD
TZOFFSETFROM:+0200
TZOFFSETTO:+0100
TZNAME:CET
DTSTART:20241027T010000
END:STANDARD
BEGIN:DAYLIGHT
TZOFFSETFROM:+0100
TZOFFSETTO:+0200
TZNAME:CEST
DTSTART:20250330T010000
END:DAYLIGHT
BEGIN:STANDARD
TZOFFSETFROM:+0200
TZOFFSETTO:+0100
TZNAME:CET
DTSTART:20251026T010000
END:STANDARD
BEGIN:DAYLIGHT
TZOFFSETFROM:+0100
TZOFFSETTO:+0200
TZNAME:CEST
DTSTART:20260329T010000
END:DAYLIGHT
BEGIN:STANDARD
TZOFFSETFROM:+0200
TZOFFSETTO:+0100
TZNAME:CET
DTSTART:20261025T010000
END:STANDARD
END:VTIMEZONE
BEGIN:VEVENT
DTSTART;TZID=Europe/Berlin:20250824T110000
DTEND;TZID=Europe/Berlin:20250824T170000
DTSTAMP:20260423T222714
CREATED:20250807T113312Z
LAST-MODIFIED:20250807T113549Z
UID:41596-1756033200-1756054800@dev.our-events.de
SUMMARY:Eintrittskarten Overbeck-Museum: In den Bergen - Karten täglich gültig zu den Öffnungszeiten
DESCRIPTION:Die Karten sind  täglich zu den Öffnungszeiten gültig. Letzter Tag für eine Ticket-Reservierung ist der 02.11.2025. \n\n\n\n\n\n\nDie aus Bremen stammende Malerin Katrin Ullmann lebt und arbeitet im Wallis in der Schweiz. Ihre Ölgemälde und Aquarelle der Schweizer Bergwelt zeigen die vielfältige Schönheit der Alpenregion mit ihren markanten Gipfeln und scharfen Graten\, mit grünen Tälern und klaren Bergseen. \n\n\n\n\n\n\nHier\, wo die Landschaft mehrere tausend Meter in die Höhe Richtung Himmel vorstößt\, verbinden sich Wolken und Berggipfel zu einer überwältigenden Einheit\, die einzigartige Farben und Lichtverhältnisse hervorbringt. Aber auch einzelne Seenlandschaften in Finnland und Norwegen und norddeutsche Wolkenhimmel hält die Malerin in Bildern fest. \n\n\n\n\n\n\nErgänzt wird die Ausstellung durch Landschaftsgemälde von Fritz und Hermine Overbeck aus der Zeit um 1900. Neben einigen norddeutschen Landschaften stehen auch hier die Schweizer Berge im Mittelpunkt. Denn was kaum jemand weiß: Fritz Overbeck malte im Winter 1908/09 mehrere Wochen lang in der Nähe von Davos. \n\n\n\n\n\n\n\nBitte aktiviere JavaScript in deinem Browser\, um dieses Formular fertigzustellen.Bitte aktiviere JavaScript in deinem Browser\, um dieses Formular fertigzustellen.Bitte das Datum der Veranstaltung angeben *Bitte die Anzahl der zu reservierenden Tickets auswählenIch bin *KulturgastKulturbegleiter:inAnrede Interessent:in *FrauHerrDiversVorname  *Name *E-Mail  *Ich benötige Unterstützung für den Besuch der Veranstaltung *janeinIch möchte den Programm Newsletter der Kulturtafel abonnieren. Das kann ich jederzeit rückgängig machen.janeinDSGVO Einverständnis *Ich willige ein\, dass diese Website meine übermittelten Informationen speichert\, sodass meine Anfrage beantwortet werden kann.Angaben bestätigen
URL:https://dev.our-events.de/event/eintrittskarten-overbeck-museum-in-den-bergen-karten-taeglich-gueltig-zu-den-oeffnungszeiten/
LOCATION:Overbeck Museum\, Alte Hafenstraße 30\, Bremen\, Bremen\, 28757\, Deutschland
CATEGORIES:Ausstellung,Grohn
ATTACH;FMTTYPE=image/png:https://dev.our-events.de/wp-content/uploads/2024/09/Overbeck-Museum.png
END:VEVENT
BEGIN:VEVENT
DTSTART;TZID=Europe/Berlin:20251012T123000
DTEND;TZID=Europe/Berlin:20251012T133000
DTSTAMP:20260423T222714
CREATED:20251006T150159Z
LAST-MODIFIED:20251006T150159Z
UID:43893-1760272200-1760275800@dev.our-events.de
SUMMARY:NEU: Dinosaurier – Die Geschichte des Überlebens-Kinderprogramm im Olbers-Planetarium
DESCRIPTION:Celeste liebt wie fast alle Kinder Dinosaurier. Deshalb möchte sie einen Vortrag vor ihrer Klasse halten\, warum die Dinos ausgestorben sind. Sie begibt sich auf eine magische Reise in die Anfänge der Dinozeitalters und lernt\, warum es so viele verschiedene Arten gab. Und dass die Dinosaurier doch gar nicht komplett ausgestorben sind – ihr könnt deren Nachfahren nämlich sogar in eurem eigenen Garten finden! Ein Abenteuer für Dinofans ab 6 Jahren! \nCopyright Text & Bild: Olbers-Planetarium
URL:https://dev.our-events.de/event/neu-dinosaurier-die-geschichte-des-ueberlebens-kinderprogramm-im-olbers-planetarium/
LOCATION:Olbers-Planetarium Bremen\, Werderstrasse 73\, Bremen\, 28199
CATEGORIES:Planetarium
ATTACH;FMTTYPE=image/png:https://dev.our-events.de/wp-content/uploads/2025/10/Dino2k-2.png
END:VEVENT
BEGIN:VEVENT
DTSTART;TZID=Europe/Berlin:20251012T170000
DTEND;TZID=Europe/Berlin:20251012T190000
DTSTAMP:20260423T222714
CREATED:20250220T132707Z
LAST-MODIFIED:20250220T132707Z
UID:35389-1760288400-1760295600@dev.our-events.de
SUMMARY:DIKKA – Boah ist das krass Tour 2025 im Pier 2
DESCRIPTION:Ein rappendes Rhinozeros und ein Riesenspaß für die ganze Familie: Das ist DIKKA! Hinter dem Nashornkostüm steckt der Berliner Musiker Sera Finale\, der als Songwriter der erfolgreichen Reggae-Hiphop-Kombo Culcha Candela große Erfolge feierte und es sich nun gemeinsam mit befreundeten Musiker:innen zur Aufgabe gemacht hat\, Hip-Hop für Kinder zu produzieren. Und das mit großem Erfolg! Kind- und familiengerechte Gute-Laune-Songs basierend auf Hip-Hop-Beats und mit großartigen Texten\, die Klein und Groß zum Tanzen einlädt – da ist ordentlich Rambazamba garantiert.
URL:https://dev.our-events.de/event/dikka-boah-ist-das-krass-tour-2025-im-pier-2/
LOCATION:Pier 2\, Gröpelinger Fährweg 6\, Bremen\, 28237\, Germany
ATTACH;FMTTYPE=image/jpeg:https://dev.our-events.de/wp-content/uploads/2025/02/@universal-dikka.jpg
END:VEVENT
BEGIN:VEVENT
DTSTART;TZID=Europe/Berlin:20251012T180000
DTEND;TZID=Europe/Berlin:20251012T200000
DTSTAMP:20260423T222714
CREATED:20250824T141246Z
LAST-MODIFIED:20250824T141246Z
UID:42502-1760292000-1760299200@dev.our-events.de
SUMMARY:ADHD „Yellowbird“ im Sendesaal
DESCRIPTION:Das isländische Jazz-Quartett ADHD ist „Kult“ und bezeichnet sich als „Gesamtkunstwerk“\, dessen Zauber sich nur im Liveerlebnis entfaltet. Die vier haben gerade Ihr neuntes Album „Yellowbird“ herausgebracht und präsentieren es nun im Sendesaal. \nThómas Jónsson – Keyboard\nÓmar Guðjónsson – Gitarre\, Bass\nÓskar Guðjónsson – Saxofon\nMagnús Trygvason Eliassen – drums \nEs gibt Bands\, bei denen jedes Album ein Schritt ins Unbekannte ist. Es gibt andere\, deren Entwicklung eine zuverlässige und konsequente Erweiterung ihres Terrains ist. Letzteres trifft auf das isländische Musikerkollektiv ADHD zu.\nEs ist fast unmöglich\, ihre Konzerte mit traditionellen musikalischen Parametern zu beschreiben. Ein Auftritt der vier Wikinger ist immer ein allumfassendes Ritual\, ein Zaubertrank des Beschwörungstanzes und ein Naturphänomen. Wenn Keyboarder THÓMAS JÓNSSON\, Gitarrist und Bassist ÓMAR GUÐJÓNSSON\, Saxophonist ÓSKAR GUÐJÓNSSON und Schlagzeuger MAGNÚS TRYGVASON ELIASSEN auf der Bühne stehen\, bekommt der mitteleuropäische Normalsterbliche zumindest eine vage Ahnung davon\, wie die Inselbewohner im hohen Norden Europas über Jahrhunderte hinweg die langen und eisigen Winter überstehen konnten. – Sie erzeugen ihre Energie einfach aus sich selbst heraus.\nDieser ungebremste Strom menschlicher Schwingungen\, der sich über alle Genregrenzen hinwegsetzt und Jazzfans ebenso fasziniert wie Rockfans und Raver\, folgt einer uralten menschlichen Sehnsucht\, deren nonverbaler Impuls älter ist als jede Sprache und doch ganz in der Gegenwart verwurzelt ist. Die Weite des Kosmos und die Unendlichkeit der Zeit kulminieren in diesem Happening der totalen Musik ebenso wie eine tiefe Mystik der freien Imagination und eine unermüdliche Auseinandersetzung mit zeitgenössischen Themen. \nCopyright Text & Bild: Sendesaal
URL:https://dev.our-events.de/event/adhd-yellowbird-im-sendesaal/
LOCATION:Sendesaal Bremen\, Bürgermeister-Spitta-Allee 45\, Bremen\, 28329
ATTACH;FMTTYPE=image/jpeg:https://dev.our-events.de/wp-content/uploads/2025/08/ADHD_c_ADHD-1.jpg
END:VEVENT
BEGIN:VEVENT
DTSTART;TZID=Europe/Berlin:20251012T200000
DTEND;TZID=Europe/Berlin:20251012T220000
DTSTAMP:20260423T222714
CREATED:20250822T130323Z
LAST-MODIFIED:20250822T130510Z
UID:42227-1760299200-1760306400@dev.our-events.de
SUMMARY:Jesper Munk - Konzert im Lagerhaus
DESCRIPTION:Anläßlich des zehnjährigen Jubiläums seines bislang erfolgreichsten Albums „Claim“ (erscheint zeitgleich zum „best of … live“-Album als limitierte „10th anniversary vinyl-edition“) widmet sich Jesper Munk nun wieder mehr seinem Frühwerk\, welches er – aus Gründen – zeitweise bewusst vernachlässigte. Auf dem im September 2025 erscheinenden Album „best of … live“ – ein zweigeteiltes Doppelalbum mit jeweils eigenständigen Livemitschnitten zusammen mit dem Deutschen Filmorchester Babelsberg und seiner Begleitband The Cassette Heads – sind nun alle seine Evergreens vertreten\, angefangen bei den „Claim“-Dauerbrennern „Morning Coffee“\, „Shakespeare & Heartbreak“\, „Courage For Love“ und „Reeperbahn“ bis hin zu All-time Favourites wie „Clean“\, „Easier“\, „Blue Shadows“ und „Happy When I’m Blue“. Einlass: 19 Uhr. \nCopyright Text & Bild: Lagerhaus
URL:https://dev.our-events.de/event/riskee-and-the-ridicule-konzert-im-lagerhaus/
LOCATION:Kulturzentrum Lagerhaus\, Schildstraße 12-19\, Bremen\, 28203
CATEGORIES:Konzert
ATTACH;FMTTYPE=image/png:https://dev.our-events.de/wp-content/uploads/2025/03/dreieck_kultur_100-6.png
END:VEVENT
END:VCALENDAR