BEGIN:VCALENDAR
VERSION:2.0
PRODID:-//Our Events - ECPv6.15.20//NONSGML v1.0//EN
CALSCALE:GREGORIAN
METHOD:PUBLISH
X-ORIGINAL-URL:https://dev.our-events.de
X-WR-CALDESC:Veranstaltungen für Our Events
REFRESH-INTERVAL;VALUE=DURATION:PT1H
X-Robots-Tag:noindex
X-PUBLISHED-TTL:PT1H
BEGIN:VTIMEZONE
TZID:Europe/Berlin
BEGIN:DAYLIGHT
TZOFFSETFROM:+0100
TZOFFSETTO:+0200
TZNAME:CEST
DTSTART:20240331T010000
END:DAYLIGHT
BEGIN:STANDARD
TZOFFSETFROM:+0200
TZOFFSETTO:+0100
TZNAME:CET
DTSTART:20241027T010000
END:STANDARD
BEGIN:DAYLIGHT
TZOFFSETFROM:+0100
TZOFFSETTO:+0200
TZNAME:CEST
DTSTART:20250330T010000
END:DAYLIGHT
BEGIN:STANDARD
TZOFFSETFROM:+0200
TZOFFSETTO:+0100
TZNAME:CET
DTSTART:20251026T010000
END:STANDARD
BEGIN:DAYLIGHT
TZOFFSETFROM:+0100
TZOFFSETTO:+0200
TZNAME:CEST
DTSTART:20260329T010000
END:DAYLIGHT
BEGIN:STANDARD
TZOFFSETFROM:+0200
TZOFFSETTO:+0100
TZNAME:CET
DTSTART:20261025T010000
END:STANDARD
END:VTIMEZONE
BEGIN:VEVENT
DTSTART;TZID=Europe/Berlin:20251006T133000
DTEND;TZID=Europe/Berlin:20251010T153000
DTSTAMP:20260422T114338
CREATED:20250707T124355Z
LAST-MODIFIED:20250707T124355Z
UID:40318-1759757400-1760110200@dev.our-events.de
SUMMARY:Mittagstisch für Schüler
DESCRIPTION:Mittagstisch für Schüler\n\nKinder stark machen und Selbstbewusstsein aufbauen\, liegt dem SOS-Kinderdorf am Herzen. Und das nicht nur im SOS-Kinderdorf in Worpswede\, sondern ebenso in den familienunterstützenden offenen Angeboten in Bremen-Nord.\nSo hat sich der Mittagstisch des SOS-Kinderdorfes Worpswede in der Grohner Düne als offenes Angebot für Kinder und Jugendliche\, die sich im Übergang zwischen Grundschule und weiterführender Schule befinden\, zu einer festen Institution entwickelt. Dies schließt auch Kinder ab der vierten Klasse ein\, die aus unterschiedlichen Gründen keine Hortbetreuung in Anspruch nehmen können.\nMit unserem Angebot schaffen wir täglich für rund 20 selbstmotivierte Kinder und Jugendliche nach dem Schulalltag eine Anlaufstelle\, in der wir sie beteiligen und ihnen dadurch eine Atmosphäre schaffen\, in der sie sich angenommen\, wertgeschätzt und zugehörig fühlen. Hier gibt es nicht nur jeden Tag nach der Schule einen Mittagssnack\, sondern auch vielfältige Freizeitgestaltung wie Kreativangebote\, Gemeinschaftsspiele\, interkulturelles Kochen\, Hausaufgabenbetreuung und wöchentliches Fußballtraining mit Trainern von Werder Bremen im Rahmen\ndes „Spielraum“ Projektes.
URL:https://dev.our-events.de/event/mittagstisch-fuer-schueler/
LOCATION:Grown\, Friedrich-Klippert-Straße 2\, Bremen\, 28759
CATEGORIES:Treffpunkt
ATTACH;FMTTYPE=image/webp:https://dev.our-events.de/wp-content/uploads/2025/07/sos-kinderdorf.webp
END:VEVENT
BEGIN:VEVENT
DTSTART;TZID=Europe/Berlin:20251028T200000
DTEND;TZID=Europe/Berlin:20251028T220000
DTSTAMP:20260422T114338
CREATED:20250909T151415Z
LAST-MODIFIED:20250909T190554Z
UID:43018-1761681600-1761688800@dev.our-events.de
SUMMARY:Lilly Hiatt  »Women in (E)Motion« im KITO
DESCRIPTION:Das neueste Album der Singer-Songwriterin aus Nashville ist eine Ode an die Intimität des häuslichen Glücks\, die überhaupt nicht intim klingt; es ist eine mitreißende Rockplatte\, die vom Sound der Alternative-Musik der 90er durchdrungen ist. \nCopyright Text & Bild: Lilly Hiatt & Stephen Thomas Erlewine
URL:https://dev.our-events.de/event/lilly-hiatt-women-in-emotion-im-kito/
LOCATION:KITO – altes Packhaus\, Alte Hafenstraße 30\, Bremen\, 28757
CATEGORIES:Konzert
ATTACH;FMTTYPE=image/jpeg:https://dev.our-events.de/wp-content/uploads/2025/09/Lilly-Hiatt.jpg
END:VEVENT
BEGIN:VEVENT
DTSTART;TZID=Europe/Berlin:20251028T200000
DTEND;TZID=Europe/Berlin:20251028T220000
DTSTAMP:20260422T114338
CREATED:20251005T142102Z
LAST-MODIFIED:20251005T142102Z
UID:43831-1761681600-1761688800@dev.our-events.de
SUMMARY:Habenhauser Schafferkonzerte -KLASSIK Barocke Musik zur Weihnachtszeit mit dem Ensemble Musikalisches Tafelkonfekt
DESCRIPTION:“Musikalisches Tafelkonfekt” entführt die Hörer in die Welt des 17. und 18. Jahrhunderts! Es wird virtuose Kompositionen sowie bekannte Weihnachtslieder präsentieren\, in der die zarten und melodischen Klänge von Flöte und Laute zu höchstem Hörgenuss verschmelzen. Perfektes harmonisches Zusammenspiel\, technische Brillanz und ausdrucksstarke Gestaltung zeichnen das Spiel des seit 2005 zusammen konzertierenden Duos aus. Genießen Sie ein bezauberndes Konzertprogramm mit musikalischen Köstlichkeiten der Barockzeit. \nEnsemble Musikalisches Tafelkonfekt:\nAnnette John – Blockflöten\nSusanne Peuker – Renaissancelaute \nCopyright Text & Bild: Simon-Petrus-Kirche
URL:https://dev.our-events.de/event/habenhauser-schafferkonzerte-klassik-barocke-musik-zur-weihnachtszeit-mit-dem-ensemble-musikalisches-tafelkonfekt/
LOCATION:Simon-Petri-Kirche Habenhausen\, Ev. Kirchengemeinde Arsten-Habenhausen\, Bremen\, Bremen\, 28279\, Germany
CATEGORIES:Konzert
ATTACH;FMTTYPE=image/jpeg:https://dev.our-events.de/wp-content/uploads/2025/10/musikalisches-tafelkonfekt_700.jpg
END:VEVENT
END:VCALENDAR