BEGIN:VCALENDAR
VERSION:2.0
PRODID:-//Our Events - ECPv6.15.20//NONSGML v1.0//EN
CALSCALE:GREGORIAN
METHOD:PUBLISH
X-WR-CALNAME:Our Events
X-ORIGINAL-URL:https://dev.our-events.de
X-WR-CALDESC:Veranstaltungen für Our Events
REFRESH-INTERVAL;VALUE=DURATION:PT1H
X-Robots-Tag:noindex
X-PUBLISHED-TTL:PT1H
BEGIN:VTIMEZONE
TZID:Europe/Berlin
BEGIN:DAYLIGHT
TZOFFSETFROM:+0100
TZOFFSETTO:+0200
TZNAME:CEST
DTSTART:20240331T010000
END:DAYLIGHT
BEGIN:STANDARD
TZOFFSETFROM:+0200
TZOFFSETTO:+0100
TZNAME:CET
DTSTART:20241027T010000
END:STANDARD
BEGIN:DAYLIGHT
TZOFFSETFROM:+0100
TZOFFSETTO:+0200
TZNAME:CEST
DTSTART:20250330T010000
END:DAYLIGHT
BEGIN:STANDARD
TZOFFSETFROM:+0200
TZOFFSETTO:+0100
TZNAME:CET
DTSTART:20251026T010000
END:STANDARD
BEGIN:DAYLIGHT
TZOFFSETFROM:+0100
TZOFFSETTO:+0200
TZNAME:CEST
DTSTART:20260329T010000
END:DAYLIGHT
BEGIN:STANDARD
TZOFFSETFROM:+0200
TZOFFSETTO:+0100
TZNAME:CET
DTSTART:20261025T010000
END:STANDARD
END:VTIMEZONE
BEGIN:VEVENT
DTSTART;TZID=Europe/Berlin:20251006T133000
DTEND;TZID=Europe/Berlin:20251010T153000
DTSTAMP:20260422T114241
CREATED:20250707T124355Z
LAST-MODIFIED:20250707T124355Z
UID:40318-1759757400-1760110200@dev.our-events.de
SUMMARY:Mittagstisch für Schüler
DESCRIPTION:Mittagstisch für Schüler\n\nKinder stark machen und Selbstbewusstsein aufbauen\, liegt dem SOS-Kinderdorf am Herzen. Und das nicht nur im SOS-Kinderdorf in Worpswede\, sondern ebenso in den familienunterstützenden offenen Angeboten in Bremen-Nord.\nSo hat sich der Mittagstisch des SOS-Kinderdorfes Worpswede in der Grohner Düne als offenes Angebot für Kinder und Jugendliche\, die sich im Übergang zwischen Grundschule und weiterführender Schule befinden\, zu einer festen Institution entwickelt. Dies schließt auch Kinder ab der vierten Klasse ein\, die aus unterschiedlichen Gründen keine Hortbetreuung in Anspruch nehmen können.\nMit unserem Angebot schaffen wir täglich für rund 20 selbstmotivierte Kinder und Jugendliche nach dem Schulalltag eine Anlaufstelle\, in der wir sie beteiligen und ihnen dadurch eine Atmosphäre schaffen\, in der sie sich angenommen\, wertgeschätzt und zugehörig fühlen. Hier gibt es nicht nur jeden Tag nach der Schule einen Mittagssnack\, sondern auch vielfältige Freizeitgestaltung wie Kreativangebote\, Gemeinschaftsspiele\, interkulturelles Kochen\, Hausaufgabenbetreuung und wöchentliches Fußballtraining mit Trainern von Werder Bremen im Rahmen\ndes „Spielraum“ Projektes.
URL:https://dev.our-events.de/event/mittagstisch-fuer-schueler/
LOCATION:Grown\, Friedrich-Klippert-Straße 2\, Bremen\, 28759
CATEGORIES:Treffpunkt
ATTACH;FMTTYPE=image/webp:https://dev.our-events.de/wp-content/uploads/2025/07/sos-kinderdorf.webp
END:VEVENT
BEGIN:VEVENT
DTSTART;TZID=Europe/Berlin:20251031T160000
DTEND;TZID=Europe/Berlin:20251031T180000
DTSTAMP:20260422T114241
CREATED:20250828T142710Z
LAST-MODIFIED:20250829T102629Z
UID:42667-1761926400-1761933600@dev.our-events.de
SUMMARY:Pergolesi (Barockmusik am Nachmittag) im Kunz
DESCRIPTION:Mit Barockmusik am Nachmittag\, startet das Kunz Kulturzentrum Buntentor e.V. ein neues Format für alle Freunde der klassischen Musik.\nDas neue Format startet mit “Stabat Mater” von Pergolesi\, dem bekanntesten geistlichen Werk des italienischen Komponisten. Es entstand 1736\, wenige Wochen vor seinem Tod.\nFür ca eine Stunde kann das Publikum das Duett von Sabine Winkelmann (Sopran) und Irina Ostrovskaia (Alt) mit Klavierbegleitung von Ira Kim genießen. \nAchtung: Der Veranstaltungsort ist nicht barrierefrei. \nCopyright Text & Bild: Kulturzentrum Buntentor e.V.
URL:https://dev.our-events.de/event/pergolesi-barockmusik-am-nachmittag-im-kunz/
LOCATION:KUNZ\, Sedanstraße 12\, Bremen\, 28201
CATEGORIES:Konzert
ATTACH;FMTTYPE=image/jpeg:https://dev.our-events.de/wp-content/uploads/2025/08/pergolesi.jpg
END:VEVENT
BEGIN:VEVENT
DTSTART;TZID=Europe/Berlin:20251031T180000
DTEND;TZID=Europe/Berlin:20251031T230000
DTSTAMP:20260422T114241
CREATED:20250824T134229Z
LAST-MODIFIED:20250824T134229Z
UID:42481-1761933600-1761951600@dev.our-events.de
SUMMARY:15. Bremer Metal Festival  Melodic Death Metal / Modern Melodic Metal / Metalcore / Heavy Metal\, Deutschland / Bremen / Oldenburg im Meisenfrei
DESCRIPTION:Auf die Fresse\, fertig\, los: Dieser Monat endet heftig. Da manche Musikrichtungen trotz unermüdlicher Anstrengungen unverdienter Weise nie beim Musikfest Bremen landen werden\, freuen sich das Local Radio und der Blues Club das Bremer Metal Festival präsentieren zu können! Heute und morgen lässt bei uns alles die Bretter beben\, was metal-mäßig Rang\, Namen\, schwarze Klamotten und vor allem eine gewisse Mindest-Lautstärke hat! Der geneigte Metalhead kann dabei aus quasi jeder Spielform seiner Lieblingsmucke auswählen\, und dies mit dem großen Vorteil\, dass er garantiert nicht nass wird. Na gut\, zumindest nicht durch Regen. Dabei werden Brain\, Locke und der Club Bands aus der ganzen weiten Welt auf die Bühne zerren. Wir starten heute (aller Voraussicht nach) mit: MIND4CE\, Mission In Black\, Scythe Beast\, Derhb\, Downfall und Black Blood Prophecy. Los geht’s bereits um 18 Uhr! \nCopyright Text & Bild: Meisenfrei
URL:https://dev.our-events.de/event/15-bremer-metal-festival-melodic-death-metal-modern-melodic-metal-metalcore-heavy-metal-deutschland-bremen-oldenburg-im-meisenfrei/
LOCATION:Meisenfrei\, Hankenstraße 18\, Bremen\, 28195
CATEGORIES:Konzert
ATTACH;FMTTYPE=image/jpeg:https://dev.our-events.de/wp-content/uploads/2025/08/2025-10-31-Derhb.jpg
END:VEVENT
BEGIN:VEVENT
DTSTART;TZID=Europe/Berlin:20251031T193000
DTEND;TZID=Europe/Berlin:20251031T213000
DTSTAMP:20260422T114241
CREATED:20250825T120948Z
LAST-MODIFIED:20250825T120948Z
UID:42554-1761939000-1761946200@dev.our-events.de
SUMMARY:Marialy Pacheco & Olvido Ruiz „Alma“ im Sendesaal
DESCRIPTION:Marialy zählt zu den absoluten Publikumslieblingen in Bremen und ihre temperamentvollen Auftritte sorgen immer wieder für begeisterten Jubel  im Sendesaal. Für dieses Konzert hat sie sich die bekannte mittelamerikanische Sängerin Olvido Ruiz Castellanos eingeladen. Mit ihrem Programm „Alma“ (=Seele) bringen sie Klänge ihrer karibischen Heimat in den Sendesaal. \nMarialy Pacheco – Klavier\nOlvido Ruiz Castellanos – Vocals \nDer Sendesaal Bremen ist für Marialy Pacheco ein Ort von großer Bedeutung. Seit rund zehn Jahren tritt sie regelmäßig dort auf\, sowohl als\nSolistin als auch mit besonderen Gästen. Für das Konzert am 31. Oktober hat Marialy eine der renommiertesten Sängerinnen Mittelamerikas eingeladen:\nOlvido Ruiz Castellanos. Olvido\, bekannt für ihre faszinierende Bühnenpräsenz und ihre Stimme\, die in der Tradition der größten mittelamerikanischen Sängerinnen unserer Zeit wie Celia Cruz und Jaqueline Castellanos steht\, war schon oft Gast bei Marialy’s Konzerten. Beim diesjährigen Konzert im Sendesaal treten sie nun erstmals gemeinsam im Duo auf und präsentieren ihr Projekt „Alma“.\nDie Arrangements stammen allesamt aus der Feder von Marialy und sind Olvido auf den Leib geschrieben. Es sind traditionelle\,  Songs\, Boleros\, Danzons und Rumbas. Die temperamentvolle und gleichzeitig sanfte\, melancholische Stimme\, sowie das feinfühlige und virtuose Spiel von Marialy\, lässt bei Beiden die tiefe Liebe und Sehnsucht zum Heimatland  spüren. \nCopyright Text & Bild: Sendesaal
URL:https://dev.our-events.de/event/marialy-pacheco-olvido-ruiz-alma-im-sendesaal/
LOCATION:Sendesaal Bremen\, Bürgermeister-Spitta-Allee 45\, Bremen\, 28329
CATEGORIES:Konzert
ATTACH;FMTTYPE=image/jpeg:https://dev.our-events.de/wp-content/uploads/2025/08/Marialy_Pacheco_Presse3_copyrightJonasMueller_2022-scaled-2.jpeg
END:VEVENT
BEGIN:VEVENT
DTSTART;TZID=Europe/Berlin:20251031T200000
DTEND;TZID=Europe/Berlin:20251031T220000
DTSTAMP:20260422T114241
CREATED:20250822T131140Z
LAST-MODIFIED:20250822T131140Z
UID:42252-1761940800-1761948000@dev.our-events.de
SUMMARY:Eskorzo - Konzert im Lagerhaus
DESCRIPTION:Die 1995 gegründete legendäre Band aus Granada gilt als Vorreiter der „Mestizo“- Bewegung in Spanien und vereint so unterschiedliche Stile wie Cumbia\, Afrobeat\, Gypsy-Punk\, Reggae\, Ska\, Funk und Jazz. Beeinflusst von Künstlern wie Fishbone\, Red Hot Chili Peppers\, Talking Heads\, The Clash\, Mano Negra oder Los Fabulosos Cadillacs\, ist Eskorzo heute selbst eine Referenz für musikalische Fusion auf höchstem Niveau. Live auf der Bühne arbeiten die sieben Musiker nicht nur wie ein Uhrwerk\, sondern strahlen dabei auch ausgelassene Spielfreude und puren Wahnsinn aus. Einlass 19 Uhr \nCopyright Text & Bild: Lagerhaus
URL:https://dev.our-events.de/event/eskorzo-konzert-im-lagerhaus/
LOCATION:Kulturzentrum Lagerhaus\, Schildstraße 12-19\, Bremen\, 28203
CATEGORIES:Konzert
ATTACH;FMTTYPE=image/png:https://dev.our-events.de/wp-content/uploads/2025/03/dreieck_kultur_100-6.png
END:VEVENT
END:VCALENDAR