BEGIN:VCALENDAR
VERSION:2.0
PRODID:-//Our Events - ECPv6.15.20//NONSGML v1.0//EN
CALSCALE:GREGORIAN
METHOD:PUBLISH
X-WR-CALNAME:Our Events
X-ORIGINAL-URL:https://dev.our-events.de
X-WR-CALDESC:Veranstaltungen für Our Events
REFRESH-INTERVAL;VALUE=DURATION:PT1H
X-Robots-Tag:noindex
X-PUBLISHED-TTL:PT1H
BEGIN:VTIMEZONE
TZID:Europe/Berlin
BEGIN:DAYLIGHT
TZOFFSETFROM:+0100
TZOFFSETTO:+0200
TZNAME:CEST
DTSTART:20240331T010000
END:DAYLIGHT
BEGIN:STANDARD
TZOFFSETFROM:+0200
TZOFFSETTO:+0100
TZNAME:CET
DTSTART:20241027T010000
END:STANDARD
BEGIN:DAYLIGHT
TZOFFSETFROM:+0100
TZOFFSETTO:+0200
TZNAME:CEST
DTSTART:20250330T010000
END:DAYLIGHT
BEGIN:STANDARD
TZOFFSETFROM:+0200
TZOFFSETTO:+0100
TZNAME:CET
DTSTART:20251026T010000
END:STANDARD
BEGIN:DAYLIGHT
TZOFFSETFROM:+0100
TZOFFSETTO:+0200
TZNAME:CEST
DTSTART:20260329T010000
END:DAYLIGHT
BEGIN:STANDARD
TZOFFSETFROM:+0200
TZOFFSETTO:+0100
TZNAME:CET
DTSTART:20261025T010000
END:STANDARD
END:VTIMEZONE
BEGIN:VEVENT
DTSTART;TZID=Europe/Berlin:20250301T110000
DTEND;TZID=Europe/Berlin:20250301T160000
DTSTAMP:20260422T114238
CREATED:20250228T160841Z
LAST-MODIFIED:20250823T065010Z
UID:35915-1740826800-1740844800@dev.our-events.de
SUMMARY:Eintrittskarten Vegesacker Geschichtenhaus - Gültig zu den Öffnungszeiten
DESCRIPTION:Das Vegesacker Geschichtenhaus macht die Stadtgeschichte von Bremen-Nord lebendig. In kleinen Theaterszenen entführen unsere Darsteller Sie in das Vegesack des 19. Jahrhunderts.  \nBesuchen Sie uns auf der legendären Lange-Werft\, sprechen Sie mit den Handwerkern über die Arbeit in dieser Zeit oder trinken Sie auf ein langes Leben in der Hafenschänke und vor allem: Lassen Sie sich nicht erwischen\, wenn der Hafenmeister wieder seine Runde macht! \nGeöffnet haben wir immer mittwochs bis samstags zwischen 11 und 16 Uhr (letzter Einlass um 15 Uhr). Für Schulklassen öffnen wir auf Anfrage gerne auch früher. \nEine Spielführung dauert zur Zeit 30 – 45 Minuten. Zum Abschluss haben Sie die Möglichkeit bei Kaffee und süßem “Havenfutter” im GalerieCafe oder auf der Dachterrasse zu verweilen. \nFotos: Matthias Sabelhaus \nBitte aktiviere JavaScript in deinem Browser\, um dieses Formular fertigzustellen.Bitte aktiviere JavaScript in deinem Browser\, um dieses Formular fertigzustellen.Bitte die Anzahl zu reservierender Karten auswählenIch bin *KulturgastKulturbegleiter:inAnrede Interessent:in *FrauHerrDiversVorname  *Name *Straße & Hausnummer *Postleitzahl  *Ort *Telefon Nr. der Interessent:in *E-Mail  *Ich benötige Unterstützung für den Besuch der Veranstaltung *janeinWelche Form der Unterstützung  benötigen Sie?Ich möchte den Programm Newsletter der Kulturtafel abonnieren. Das kann ich jederzeit rückgängig machen.janeinDSGVO Einverständnis *Ich willige ein\, dass diese Website meine übermittelten Informationen speichert\, sodass meine Anfrage beantwortet werden kann.Angaben bestätigen  \n 
URL:https://dev.our-events.de/event/eintrittskarten-fuer-das-vegesacker-geschichtenhaus-2/
LOCATION:Vegesacker Geschichtenhaus\, Zum Alten Speicher 5a\, Bremen\, 28759
CATEGORIES:Museum,Theater
ATTACH;FMTTYPE=image/png:https://dev.our-events.de/wp-content/uploads/2025/02/geschichtenhaus.png
END:VEVENT
BEGIN:VEVENT
DTSTART;TZID=Europe/Berlin:20251101T180000
DTEND;TZID=Europe/Berlin:20251101T230000
DTSTAMP:20260422T114238
CREATED:20251011T154600Z
LAST-MODIFIED:20251011T154600Z
UID:44221-1762020000-1762038000@dev.our-events.de
SUMMARY:15. Bremer Metal Festival - Popmetal / Metal & Punk / Hard 'n' Heavy / Heavy Metal / Rock\, Emden / Oldenburg / Hannover / Wilhelmshaven / Speyer im Meisenfrei
DESCRIPTION:Nach einer klitzekleinen Pause (48-Stunden-Schichten verstoßen seltsamer Weise gegen geltendes Arbeits- und Menschenrecht) geht das Programm der Superlative nahtlos weiter. Heute (voraussichtlich) am Losbrettern: Ground Zero\, Saints’ Anger\, Unchained Horizon\, Electric Revolver\, The Clean Machine und Twist Of Fate. Los geht’s bereits um 18 Uhr! \nCopyright Text & Bild: Meisenfrei
URL:https://dev.our-events.de/event/15-bremer-metal-festival-popmetal-metal-punk-hard-n-heavy-heavy-metal-rock-emden-oldenburg-hannover-wilhelmshaven-speyer-im-meisenfrei/
LOCATION:Meisenfrei\, Hankenstraße 18\, Bremen\, 28195
CATEGORIES:Konzert
ATTACH;FMTTYPE=image/jpeg:https://dev.our-events.de/wp-content/uploads/2025/10/2025-11-01-DiverseBands.jpg
END:VEVENT
BEGIN:VEVENT
DTSTART;TZID=Europe/Berlin:20251101T200000
DTEND;TZID=Europe/Berlin:20251101T220000
DTSTAMP:20260422T114238
CREATED:20251005T141318Z
LAST-MODIFIED:20251005T141427Z
UID:43825-1762027200-1762034400@dev.our-events.de
SUMMARY:Habenhauser Schafferkonzerte - JAZZ Olesch:Konertz Duo
DESCRIPTION:Posaune und Vibrafon – eine Kombination dieser beiden Instrumente ist deutschlandweit als Duo kaum zu finden. Beide Instrumente verbindet ein warmer und zugleich klarer Sound. Die Musik zeichnet sich durch einen hohen Grad an Freiheit aus und umfasst facettenreiche eigene Kompositionen. Sie verbindet groovige Passagen mit freien Elementen und besticht durch eine spielerische Leichtigkeit sowie einen stetigen Spielwitz. Elemente aus Modern Jazz\, Rock\, Funk oder auch Free Jazz werden immer wieder neu fusioniert. \nDas in Hamburg lebende Duo gründete sich 2019. Die jungen Musiker hatten jüngst beim Habenhauser Schaffermahl einen umjubelten Auftritt. \nErik Konertz – Posaune\nChristopher Olesch – Vibrafon \nCopyright Text & Bild: Simon-Petrus-Kirche
URL:https://dev.our-events.de/event/habenhauser-schafferkonzerte-jazz-oleschkonertz-duo/
LOCATION:Simon-Petri-Kirche Habenhausen\, Ev. Kirchengemeinde Arsten-Habenhausen\, Bremen\, Bremen\, 28279\, Germany
CATEGORIES:Konzert
ATTACH;FMTTYPE=image/jpeg:https://dev.our-events.de/wp-content/uploads/2025/10/olesch_konertz_november_700.jpg
END:VEVENT
END:VCALENDAR