BEGIN:VCALENDAR
VERSION:2.0
PRODID:-//Our Events - ECPv6.15.20//NONSGML v1.0//EN
CALSCALE:GREGORIAN
METHOD:PUBLISH
X-WR-CALNAME:Our Events
X-ORIGINAL-URL:https://dev.our-events.de
X-WR-CALDESC:Veranstaltungen für Our Events
REFRESH-INTERVAL;VALUE=DURATION:PT1H
X-Robots-Tag:noindex
X-PUBLISHED-TTL:PT1H
BEGIN:VTIMEZONE
TZID:Europe/Berlin
BEGIN:DAYLIGHT
TZOFFSETFROM:+0100
TZOFFSETTO:+0200
TZNAME:CEST
DTSTART:20240331T010000
END:DAYLIGHT
BEGIN:STANDARD
TZOFFSETFROM:+0200
TZOFFSETTO:+0100
TZNAME:CET
DTSTART:20241027T010000
END:STANDARD
BEGIN:DAYLIGHT
TZOFFSETFROM:+0100
TZOFFSETTO:+0200
TZNAME:CEST
DTSTART:20250330T010000
END:DAYLIGHT
BEGIN:STANDARD
TZOFFSETFROM:+0200
TZOFFSETTO:+0100
TZNAME:CET
DTSTART:20251026T010000
END:STANDARD
BEGIN:DAYLIGHT
TZOFFSETFROM:+0100
TZOFFSETTO:+0200
TZNAME:CEST
DTSTART:20260329T010000
END:DAYLIGHT
BEGIN:STANDARD
TZOFFSETFROM:+0200
TZOFFSETTO:+0100
TZNAME:CET
DTSTART:20261025T010000
END:STANDARD
END:VTIMEZONE
BEGIN:VEVENT
DTSTART;TZID=Europe/Berlin:20251006T133000
DTEND;TZID=Europe/Berlin:20251010T153000
DTSTAMP:20260422T114145
CREATED:20250707T124355Z
LAST-MODIFIED:20250707T124355Z
UID:40318-1759757400-1760110200@dev.our-events.de
SUMMARY:Mittagstisch für Schüler
DESCRIPTION:Mittagstisch für Schüler\n\nKinder stark machen und Selbstbewusstsein aufbauen\, liegt dem SOS-Kinderdorf am Herzen. Und das nicht nur im SOS-Kinderdorf in Worpswede\, sondern ebenso in den familienunterstützenden offenen Angeboten in Bremen-Nord.\nSo hat sich der Mittagstisch des SOS-Kinderdorfes Worpswede in der Grohner Düne als offenes Angebot für Kinder und Jugendliche\, die sich im Übergang zwischen Grundschule und weiterführender Schule befinden\, zu einer festen Institution entwickelt. Dies schließt auch Kinder ab der vierten Klasse ein\, die aus unterschiedlichen Gründen keine Hortbetreuung in Anspruch nehmen können.\nMit unserem Angebot schaffen wir täglich für rund 20 selbstmotivierte Kinder und Jugendliche nach dem Schulalltag eine Anlaufstelle\, in der wir sie beteiligen und ihnen dadurch eine Atmosphäre schaffen\, in der sie sich angenommen\, wertgeschätzt und zugehörig fühlen. Hier gibt es nicht nur jeden Tag nach der Schule einen Mittagssnack\, sondern auch vielfältige Freizeitgestaltung wie Kreativangebote\, Gemeinschaftsspiele\, interkulturelles Kochen\, Hausaufgabenbetreuung und wöchentliches Fußballtraining mit Trainern von Werder Bremen im Rahmen\ndes „Spielraum“ Projektes.
URL:https://dev.our-events.de/event/mittagstisch-fuer-schueler/
LOCATION:Grown\, Friedrich-Klippert-Straße 2\, Bremen\, 28759
CATEGORIES:Treffpunkt
ATTACH;FMTTYPE=image/webp:https://dev.our-events.de/wp-content/uploads/2025/07/sos-kinderdorf.webp
END:VEVENT
BEGIN:VEVENT
DTSTART;TZID=Europe/Berlin:20250904T133000
DTEND;TZID=Europe/Berlin:20250904T143000
DTSTAMP:20260422T114145
CREATED:20250813T131051Z
LAST-MODIFIED:20250814T100643Z
UID:41893-1756992600-1756996200@dev.our-events.de
SUMMARY:Sprechstunde / Vorstellung / Anmeldung Kulturtafel im Klamottencafé in der Tagesstätte Süd
DESCRIPTION:Ihr habt von der Kulturtafel gehört und möchtet mehr darüber erfahren? / Ви чули про Kulturtafel і хотіли б дізнатися більше? / Have you heard about the Kulturtafel and would like to find out more? / Vous avez entendu parler de la Kulturtafel et vous souhaitez en savoir plus ? \n\nWir erklären euch\, was die Kulturtafel ist\, wie sie funktioniert und wer teilnehmen kann.\nМи пояснюємо\, що таке Kulturtafel\, як він працює і хто може взяти в ньому участь.\nWe explain what the Kulturtafel is\, how it works and who can take part.\nNous vous expliquons ce qu’est le tableau culturel\, comment il fonctionne et qui peut y participer.\n\nNoch kein Mitglied bei der Kulturtafel? / Not yet a member of the Kulturtafel? / Ще не є членом Kulturtafel? / Pas encore membre de la Kulturtafel ? \n\nIn unseren Sprechstunden könnt ihr euch für die Kulturtafel registrieren. Wir helfen euch dabei.\nВи можете зареєструватися на Kulturtafel під час наших консультацій. Ми допоможемо вам у цьому.\nYou can register for the Kulturtafel during our consultation hours. We will help you with this.\nLors de nos permanences\, vous pouvez vous inscrire au tableau culturel. Nous vous aiderons à le faire.\n\nIhr möchtet\, dass wir euch bei der Reservierung einer Veranstaltung helfen? / Хочете\, щоб ми допомогли вам забронювати захід? / Would you like us to help you book an event? / Vous souhaitez que nous vous aidions à réserver un événement ? \n\nWir helfen euch dabei eine passende Veranstaltung für euch zu finden und eine Reservierung vorzunehmen.\nМи допоможемо вам знайти відповідний для вас захід і зробити бронювання.\nWe will help you find a suitable event for you and make a reservation.\nNous vous aidons à trouver un événement qui vous convient et à faire une réservation.\n\n\n\n\n\n\n\n\n\n\n\n\n\n\n\n\n\n\n\n\n\n\n\n\n\n\n\n\n\n\n\n\n\n\n\n 
URL:https://dev.our-events.de/event/sprechstunde-vorstellung-anmeldung-kulturtafel-im-klamottencafe-in-der-tagesstaette-sued/
LOCATION:Klamottencafé in der Tagesstätte Süd\, Hohentorsheerstr. 76/78\, Bremen\, Bremen\, 28199
CATEGORIES:Beratung
ATTACH;FMTTYPE=image/png:https://dev.our-events.de/wp-content/uploads/2024/10/Logo-KTB.png
END:VEVENT
BEGIN:VEVENT
DTSTART;TZID=Europe/Berlin:20251106T163000
DTEND;TZID=Europe/Berlin:20251106T180000
DTSTAMP:20260422T114146
CREATED:20250831T190348Z
LAST-MODIFIED:20250901T100845Z
UID:42816-1762446600-1762452000@dev.our-events.de
SUMMARY:Musikalische Reise durch Klezmer -\, Tango - und Keltische Musik
DESCRIPTION:Musikalische Reise durch unterschiedliche Kulturen  \n Monika Kozlowska-Richters (Geige) und Helmut Gottwald (Akkordeon) spielen Klezmer-\, Tango- und Keltische Musik. Sie erwartet eine abwechslungsreiche und unterhaltsame musikalische Darbietung. Spenden willkommen.
URL:https://dev.our-events.de/event/musikalische-reise-durch-klezmer-tango-und-keltische-musik/
LOCATION:Haus der Zukunft – Kulur-Cafe\, Lüssumer Heide 6\, Bremen\, 28777
CATEGORIES:Konzert,Menschen treffen
ATTACH;FMTTYPE=image/jpeg:https://dev.our-events.de/wp-content/uploads/2025/08/Helmut-und-Monika.jpeg
ORGANIZER;CN="Kultur-Caf%C3%A9":MAILTO:haus-der-zukunft-kultur-cafe@gmx.de
END:VEVENT
BEGIN:VEVENT
DTSTART;TZID=Europe/Berlin:20251104T180000
DTEND;TZID=Europe/Berlin:20251104T190000
DTSTAMP:20260422T114146
CREATED:20251008T145422Z
LAST-MODIFIED:20251008T145529Z
UID:44056-1762279200-1762282800@dev.our-events.de
SUMMARY:Gehe nicht über Los!
DESCRIPTION:Eine spielerische Auseinandersetzung mit Gefängnis Ein Theaterprojekt des Hoppenbank e.V. im Rahmen der Aktionstage Gefängnis \n\n\n»Gehe nicht über Los!« – dieser Satz ist bei vielen wohl ebenso tief im Gedächtnis vergraben wie das zugehörige Monopoly-Spiel im Schrank. Die unmissverständliche Aufforderung der Aktionskarte dient als Strafe: Gehe in das Gefängnis. Begib dich direkt dorthin. Auch in unserem Rechtsstaat ist sie gängige Praxis. Verdiente Strafe oder einfach Pech im Glücksspiel Leben? \n»Gehe nicht über Los!« lädt zu einer kreativen und spielerischen Auseinandersetzung mit den Themen Strafe und Gefängnis ein. Angelehnt an die Gedanken und Erfahrungen der Teilnehmenden des Theaterprojekts entsteht eine Collage aus Erzählungen und Performances. Das Publikum schaut dabei nicht nur zu\, sondern kann in diesem Theater-Spiel selbst aktiv werden. Welche neuen Bilder entstehen im Austausch? Können wir gedankliche Barrieren und hartnäckige Vorurteile überwinden? \n\n\n\n\n\nHinter »Gehe nicht über los!« stehen Menschen mit und ohne Hafterfahrung\, die sich seit Januar 2025 mittels Gesprächen\, Theaterübungen\, literarischem und biografischem Schreiben mit ihren Erfahrungen und Vorurteilen zum Thema Gefängnis auseinandersetzen. Das Projekt war jederzeit offen für neue Menschen und es brauchte keine Vorerfahrung. Manche kamen regelmäßig\, andere nur ein einziges Mal. Alle haben etwas zu erzählen. \nEin Projekt des Hoppenbank e.V.. Gefördert durch die Deutsche Fernsehlotterie\, die Sparkasse Bremen und Airbus. Mit freundlicher Unterstützung der Schwankhalle. \nEintritt frei\nBegrenzte Platzkapazität \nSie können telefonisch oder per Email Tickets reservieren:0421 520 80 70 (Mo\, Mi—Fr 10:00 bis 14:00\, auch AB) oder ticket@schwankhalle.de
URL:https://dev.our-events.de/event/gehe-nicht-ueber-los/
LOCATION:Schwankhalle\, Buntentorsteinweg 112/116\, Bremen\, 28201
CATEGORIES:Performance,Theater,Workshop
END:VEVENT
BEGIN:VEVENT
DTSTART;TZID=Europe/Berlin:20251106T183000
DTEND;TZID=Europe/Berlin:20251106T200000
DTSTAMP:20260422T114146
CREATED:20251009T110817Z
LAST-MODIFIED:20251010T095753Z
UID:44111-1762453800-1762459200@dev.our-events.de
SUMMARY:Radfahren in Gröpelingen: Treffen der Stadtteilgruppe
DESCRIPTION:Radfahren in Gröpelingen und Oslebshausen macht Spaß – wenn Infrastruktur und Sicherheit stimmen! \nDie Stadtteilgruppe Gröpelingen des ADFC setzt sich genau dafür ein und freut sich über alle\, die mitreden oder einfach reinschnuppern möchten. Gäste sind herzlich willkommen! \nTreffen: jeden 1. Donnerstag im Monat\, 18:30 Uhr\, im Klimaquartier Gröpelingen. \nEine Veranstaltung des ADFCs. \nKeine Gebühr\, keine Anmeldung: ein fach rechtzeitig vorbei kommen am Startpunkt: Liegnitzstrasse 26\, 28237 Bremen mit verkehrssicherem Rad! \nCopyright Text: Klimaquartier Gröpelingen und Kulturtafel Bremen\, Copyright Bild: unsplash.com
URL:https://dev.our-events.de/event/radfahren-in-groepelingen-treffen-der-stadtteilgruppe/
LOCATION:Klimaquartier Gröpelingen\, Liegnitzstrasse 26\, Bremen\, 28237
CATEGORIES:Spaziergänge
ATTACH;FMTTYPE=image/jpeg:https://dev.our-events.de/wp-content/uploads/2025/10/igor-voronetski-DvaiuYRpxmE-unsplash-scaled.jpg
ORGANIZER;CN="Klimaquartier Gr%C3%B6pelingen":MAILTO:rockmann@energiekonsens.de
END:VEVENT
BEGIN:VEVENT
DTSTART;TZID=Europe/Berlin:20251106T193000
DTEND;TZID=Europe/Berlin:20251106T213000
DTSTAMP:20260422T114146
CREATED:20250909T152439Z
LAST-MODIFIED:20250909T185934Z
UID:43030-1762457400-1762464600@dev.our-events.de
SUMMARY:ZSK + ROGERS - „Feuer und Papier“ im KUBA
DESCRIPTION:ZSK melden sich zurück – und das mit Nachdruck. Am 26. September 2025 erscheint mit “Feuer & Papier” das mittlerweile achte Studioalbum der vier Berliner. In einer Zeit\, in der die Demokratie in Deutschland unter Druck steht und rechtspopulistische Strömungen an Einfluss gewinnen\, liefern ZSK den Soundtrack für den Protest. \n„Wir wollten ein Album machen\, das die Menschen in diesen harten Zeiten begleitet“\, erklärt Joshi\, Frontmann von ZSK. „Egal\, ob es um persönliche Kämpfe oder gesellschaftlichen Protest geht – wir wollen zeigen\, dass niemand alleine ist.“ \nPunkrock als Haltung\nZSK stehen für weit mehr als eingängige Punkrock-Hymnen. Seit über zwei Jahrzehnten verbindet die Band ihre Musik mit politischem Engagement. Sie sind die Gründer von KEIN BOCK AUF NAZIS\, der größten Jugendorganisationen gegen Rechts in Deutschland. Mit Kampagnen\, Konzerten und Statements setzen sie sich aktiv gegen rechtsextreme Strukturen ein – eine Haltung\, die sich konsequent in ihrer Musik widerspiegelt. Zwei Top-5-Platzierungen in den deutschen Albumcharts\, ausverkaufte Tourneen und eine stetig wachsende Fangemeinde. In diesem Jahr stehen sie zudem auf den Bühnen von Rock am Ring und Rock im Park – ein weiteres Indiz dafür\, dass Punkrock in Deutschland keineswegs an Relevanz verloren hat. \nDer Sound der Gegenwart\nMit “Feuer & Papier” setzen ZSK ihren Weg konsequent fort. Das Album vereint eingängige Melodien mit kraftvollen Botschaften. Es sind Songs\, die Mut machen\, die zum Mitsingen einladen – und die nicht zuletzt daran erinnern\, dass Punkrock immer auch eine Form des Widerstands ist. \nCopyright Text & Bild: ZSK + Rogers
URL:https://dev.our-events.de/event/zsk-rogers-feuer-und-papier-im-kuba/
LOCATION:Kulturbahnhof Vegesack\, Herman-Fortmann-Str. 32\, Bremen\, 28759
CATEGORIES:Konzert
ATTACH;FMTTYPE=image/jpeg:https://dev.our-events.de/wp-content/uploads/2025/09/ZSK.jpg
END:VEVENT
BEGIN:VEVENT
DTSTART;TZID=Europe/Berlin:20251104T180000
DTEND;TZID=Europe/Berlin:20251104T190000
DTSTAMP:20260422T114146
CREATED:20251008T145422Z
LAST-MODIFIED:20251008T145529Z
UID:44056-1762279200-1762282800@dev.our-events.de
SUMMARY:Gehe nicht über Los!
DESCRIPTION:Eine spielerische Auseinandersetzung mit Gefängnis Ein Theaterprojekt des Hoppenbank e.V. im Rahmen der Aktionstage Gefängnis \n\n\n»Gehe nicht über Los!« – dieser Satz ist bei vielen wohl ebenso tief im Gedächtnis vergraben wie das zugehörige Monopoly-Spiel im Schrank. Die unmissverständliche Aufforderung der Aktionskarte dient als Strafe: Gehe in das Gefängnis. Begib dich direkt dorthin. Auch in unserem Rechtsstaat ist sie gängige Praxis. Verdiente Strafe oder einfach Pech im Glücksspiel Leben? \n»Gehe nicht über Los!« lädt zu einer kreativen und spielerischen Auseinandersetzung mit den Themen Strafe und Gefängnis ein. Angelehnt an die Gedanken und Erfahrungen der Teilnehmenden des Theaterprojekts entsteht eine Collage aus Erzählungen und Performances. Das Publikum schaut dabei nicht nur zu\, sondern kann in diesem Theater-Spiel selbst aktiv werden. Welche neuen Bilder entstehen im Austausch? Können wir gedankliche Barrieren und hartnäckige Vorurteile überwinden? \n\n\n\n\n\nHinter »Gehe nicht über los!« stehen Menschen mit und ohne Hafterfahrung\, die sich seit Januar 2025 mittels Gesprächen\, Theaterübungen\, literarischem und biografischem Schreiben mit ihren Erfahrungen und Vorurteilen zum Thema Gefängnis auseinandersetzen. Das Projekt war jederzeit offen für neue Menschen und es brauchte keine Vorerfahrung. Manche kamen regelmäßig\, andere nur ein einziges Mal. Alle haben etwas zu erzählen. \nEin Projekt des Hoppenbank e.V.. Gefördert durch die Deutsche Fernsehlotterie\, die Sparkasse Bremen und Airbus. Mit freundlicher Unterstützung der Schwankhalle. \nEintritt frei\nBegrenzte Platzkapazität \nSie können telefonisch oder per Email Tickets reservieren:0421 520 80 70 (Mo\, Mi—Fr 10:00 bis 14:00\, auch AB) oder ticket@schwankhalle.de
URL:https://dev.our-events.de/event/gehe-nicht-ueber-los/
LOCATION:Schwankhalle\, Buntentorsteinweg 112/116\, Bremen\, 28201
CATEGORIES:Performance,Theater,Workshop
END:VEVENT
BEGIN:VEVENT
DTSTART;TZID=Europe/Berlin:20251106T200000
DTEND;TZID=Europe/Berlin:20251106T220000
DTSTAMP:20260422T114146
CREATED:20251003T162056Z
LAST-MODIFIED:20251003T162056Z
UID:43740-1762459200-1762466400@dev.our-events.de
SUMMARY:Home At Last - Steely-Dan-Cover\, Bremen im Meisenfrei
DESCRIPTION:Home At Last widmet ihr Schaffen der legendären amerikanischen Band Steely Dan. Diese hat mit Hits wie „Rickie Don‘t Lose That Number“ und „Hey Nineteen“ den Sound der 70er mitgeprägt und neue Maßstäbe für die Komposition und Produkion von Pop-Musik gesetzt\, was sich nicht zuletzt in mehr als 40 Millionen verkaufter Alben niederschlug. Home At Last ist die einzige Steely Dan Tribute Band Norddeutschlands – und wahrscheinlich die einzige weltweit\, die als Quartet auftritt. Dabei kann sich das Publikum darauf verlassen\, dass die vier versierten Musiker das Werk Steely Dans nicht nur souverän und und lebendig interpretieren sondern dieses auch mit größter Spielfreude präsentieren. \nCopyright Text & Bild: Meisenfrei
URL:https://dev.our-events.de/event/home-at-last-steely-dan-cover-bremen-im-meisenfrei/
LOCATION:Meisenfrei\, Hankenstraße 18\, Bremen\, 28195
CATEGORIES:Konzert
ATTACH;FMTTYPE=image/jpeg:https://dev.our-events.de/wp-content/uploads/2025/10/2025-11-06-HomeAtLast.jpg
END:VEVENT
BEGIN:VEVENT
DTSTART;TZID=Europe/Berlin:20251106T200000
DTEND;TZID=Europe/Berlin:20251106T220000
DTSTAMP:20260422T114146
CREATED:20251008T093249Z
LAST-MODIFIED:20251008T100251Z
UID:44026-1762459200-1762466400@dev.our-events.de
SUMMARY:GLOCKE Spezial »Momentum« – Ein Abend für Roger Willemsen
DESCRIPTION:Joachim Król Rezitation\nFranziska Hölscher Violine\nMartin Klett Klavier \nProgramm:\nTexte von R. Willemsen\, Musik von L. van Beethoven\, I. Strawinsky\, F. Poulenc\, C. Debussy\, J. Adams u. a. \nAls im Februar 2016 Roger Willemsen mit 60 Jahren an Krebs starb\, verstummte auf tragische Weise eine der führenden intellektuellen Stimmen Deutschlands viel zu früh. Um anlässlich seines 70. Geburtstags an den bedeutenden Publizisten und feinsinnigen Beobachter zu erinnern\, finden sich seine Freunde Joachim Król und Franziska Hölscher gemeinsam mit Martin Klett für das neue Bühnenprogramm »Momentum« zusammen. Auszüge aus Willemsens sehr persönlichem Buch über die entscheidenden Augenblicke des Lebens treten hier in einen Dialog mit Komponisten\, die in ihrer Musik von Eruptionen\, Sehnsüchten und Widersprüchen unseres Lebens erzählen. Auf diese Weise entstehen Augenblicke von atmosphärischer Intensität ganz im Sinne von Willemsen\, der so treffend gesagt hat: »Das Leben kann man nicht verlängern\, aber wir können es verdichten.« \nCopyright Text & Bild: © Emil Levy
URL:https://dev.our-events.de/event/glocke-spezial-momentum-ein-abend-fuer-roger-willemsen/
LOCATION:Die Glocke\, Domsheide 6-8\, Bremen\, 28195
CATEGORIES:Klassik,Konzert,Lesung
ATTACH;FMTTYPE=image/jpeg:https://dev.our-events.de/wp-content/uploads/2025/10/Joachim-Krol-©-Emil-Levy.jpg
END:VEVENT
END:VCALENDAR