BEGIN:VCALENDAR
VERSION:2.0
PRODID:-//Our Events - ECPv6.15.20//NONSGML v1.0//EN
CALSCALE:GREGORIAN
METHOD:PUBLISH
X-ORIGINAL-URL:https://dev.our-events.de
X-WR-CALDESC:Veranstaltungen für Our Events
REFRESH-INTERVAL;VALUE=DURATION:PT1H
X-Robots-Tag:noindex
X-PUBLISHED-TTL:PT1H
BEGIN:VTIMEZONE
TZID:Europe/Berlin
BEGIN:DAYLIGHT
TZOFFSETFROM:+0100
TZOFFSETTO:+0200
TZNAME:CEST
DTSTART:20240331T010000
END:DAYLIGHT
BEGIN:STANDARD
TZOFFSETFROM:+0200
TZOFFSETTO:+0100
TZNAME:CET
DTSTART:20241027T010000
END:STANDARD
BEGIN:DAYLIGHT
TZOFFSETFROM:+0100
TZOFFSETTO:+0200
TZNAME:CEST
DTSTART:20250330T010000
END:DAYLIGHT
BEGIN:STANDARD
TZOFFSETFROM:+0200
TZOFFSETTO:+0100
TZNAME:CET
DTSTART:20251026T010000
END:STANDARD
BEGIN:DAYLIGHT
TZOFFSETFROM:+0100
TZOFFSETTO:+0200
TZNAME:CEST
DTSTART:20260329T010000
END:DAYLIGHT
BEGIN:STANDARD
TZOFFSETFROM:+0200
TZOFFSETTO:+0100
TZNAME:CET
DTSTART:20261025T010000
END:STANDARD
END:VTIMEZONE
BEGIN:VEVENT
DTSTART;TZID=Europe/Berlin:20251006T133000
DTEND;TZID=Europe/Berlin:20251010T153000
DTSTAMP:20260422T114339
CREATED:20250707T124355Z
LAST-MODIFIED:20250707T124355Z
UID:40318-1759757400-1760110200@dev.our-events.de
SUMMARY:Mittagstisch für Schüler
DESCRIPTION:Mittagstisch für Schüler\n\nKinder stark machen und Selbstbewusstsein aufbauen\, liegt dem SOS-Kinderdorf am Herzen. Und das nicht nur im SOS-Kinderdorf in Worpswede\, sondern ebenso in den familienunterstützenden offenen Angeboten in Bremen-Nord.\nSo hat sich der Mittagstisch des SOS-Kinderdorfes Worpswede in der Grohner Düne als offenes Angebot für Kinder und Jugendliche\, die sich im Übergang zwischen Grundschule und weiterführender Schule befinden\, zu einer festen Institution entwickelt. Dies schließt auch Kinder ab der vierten Klasse ein\, die aus unterschiedlichen Gründen keine Hortbetreuung in Anspruch nehmen können.\nMit unserem Angebot schaffen wir täglich für rund 20 selbstmotivierte Kinder und Jugendliche nach dem Schulalltag eine Anlaufstelle\, in der wir sie beteiligen und ihnen dadurch eine Atmosphäre schaffen\, in der sie sich angenommen\, wertgeschätzt und zugehörig fühlen. Hier gibt es nicht nur jeden Tag nach der Schule einen Mittagssnack\, sondern auch vielfältige Freizeitgestaltung wie Kreativangebote\, Gemeinschaftsspiele\, interkulturelles Kochen\, Hausaufgabenbetreuung und wöchentliches Fußballtraining mit Trainern von Werder Bremen im Rahmen\ndes „Spielraum“ Projektes.
URL:https://dev.our-events.de/event/mittagstisch-fuer-schueler/
LOCATION:Grown\, Friedrich-Klippert-Straße 2\, Bremen\, 28759
CATEGORIES:Treffpunkt
ATTACH;FMTTYPE=image/webp:https://dev.our-events.de/wp-content/uploads/2025/07/sos-kinderdorf.webp
END:VEVENT
BEGIN:VEVENT
DTSTART;TZID=Europe/Berlin:20251107T193000
DTEND;TZID=Europe/Berlin:20251107T213000
DTSTAMP:20260422T114339
CREATED:20251003T151521Z
LAST-MODIFIED:20251003T151521Z
UID:43700-1762543800-1762551000@dev.our-events.de
SUMMARY:Sharon Brauner & The Toy Goys im Sendesaal
DESCRIPTION:„Lache\, wenn Dir nach Weinen ist\, tanze\, wenn Du auf der Stelle trittst\, und singe\, wenn Dir die Worte fehlen!“ ist eine Kernaussage jiddischer Kultur\, die die Berliner Sängerin und Schauspielerin Sharon Brauner gekonnt in ein mitreißendes Bühnenprogramm transformiert. Den musikalischen Rahmen setzen „The Toy Goys“ mit coolem Bass und virtuosem Klavier gespielt von Daniel Zenke & Harry Ermer\, jazziger Trompete\, geblasen von Vit Polak und rhythmisch begleitet von dem Beatboxer Paul Brenning\, der mit seinen Lippen lässig ein Schlagzeug ersetzt. \nDaniel Zenke – Kontrabass\nHarry Ermer – Klavier\nVit Polak – Trompete\nPaul Brenning – beatbox \n\n„Sharon Brauner singt und erzählt vom Judentum so klug und witzig\, als sei das alles kein Problem….und nimmt mit ihrer Show in Berlin jede Berührungsangst…..glamourös und unerschrocken\, kokett und sexy…merkwürdigerweise aber niemals albern…eine Frau \, die Spaß und Ernst und Lachen\, sogar das Heulen mühelos vermischt. Sie hat etwas:…Erotik.“ (Märkische Allgemeine – 7.7.2011) \n\nDie Berliner Künstlerin Sharon Brauner steht seit ihrer Kindheit auf der Bühne. Fünf Musik-Alben veröffentlichte die Schauspielerin und Sängerin bereits mit eigenen deutschen Liedern und jiddischen Evergreens. Sie mixt die verschiedenen Genres wie Jazz\, Klassik\, Chanson und Klezmer zu einem ganz eigenen Stil und wurde von den Kritikern und dem  Publikum gleichermaßen bejubelt. Ihre CD „Lounge Jewels“ wurde von der Presse als ‚Meisterwerk‘ gefeiert und landete auf Platz 2 der Amazon Charts. Ihre Auftritte führten Sie auf die verschiedensten Bühnen quer durch die Welt. In mehr als 60 Fernseh- und Kinofilmen spielte sie mit. Unter anderem arbeitet sie auch als Autorin (‚Berlin\, Du coole Sau! – Die Berlin-Revue!‘)\, als Filmproduzentin („Das letzte Mahl“) und als Sprecherin (BerlinHistoryApp). \nGefördert von der Waldemar Koch Stifung. \nCopyright Text & Bild: Sendesaal
URL:https://dev.our-events.de/event/sharon-brauner-the-toy-goys-im-sendesaal/
LOCATION:Sendesaal Bremen\, Bürgermeister-Spitta-Allee 45\, Bremen\, 28329
CATEGORIES:Konzert
ATTACH;FMTTYPE=image/jpeg:https://dev.our-events.de/wp-content/uploads/2025/10/Sharon-Brauner-and-the-Toy-Goys-scaled-1.jpg
END:VEVENT
BEGIN:VEVENT
DTSTART;TZID=Europe/Berlin:20251107T210000
DTEND;TZID=Europe/Berlin:20251107T230000
DTSTAMP:20260422T114339
CREATED:20251003T162820Z
LAST-MODIFIED:20251003T162933Z
UID:43745-1762549200-1762556400@dev.our-events.de
SUMMARY:eXXited - Rock Show Hits\, Bremen im Meisenfrei
DESCRIPTION:Eine „Tribute Hit Show“ vom Allerfeinsten wird heute Abend von Exxited präsentiert. Natürlich gibt‘s keinen Ballermann-Blödsinn oder Schlager-Schnickschnack: Die umtriebige Truppe bietet Rock-Klassiker\, 80er Jahre Perlen und NDW-Hits\, ergänzt wird das Repertoire durch aktuelle Songs. Zeitlos gute Musik wird hier von erfahrenen Vollblutmusikern live und authentisch dargeboten. Und das macht Exxited so gut\, dass es den Damen und Herren bereits den Deutschen Rock & Pop Preis eingebrockt hat. Die Freitag-Nacht-Party kann heute also getrost im Blues Club gefeiert werden. \nCopyright Text & Bild: Meisenfrei
URL:https://dev.our-events.de/event/exxited-rock-show-hits-bremen-im-meisenfrei/
LOCATION:Meisenfrei\, Hankenstraße 18\, Bremen\, 28195
CATEGORIES:Konzert
ATTACH;FMTTYPE=image/jpeg:https://dev.our-events.de/wp-content/uploads/2025/10/2025-11-07-eXXited.jpg
END:VEVENT
END:VCALENDAR