BEGIN:VCALENDAR
VERSION:2.0
PRODID:-//Our Events - ECPv6.15.20//NONSGML v1.0//EN
CALSCALE:GREGORIAN
METHOD:PUBLISH
X-WR-CALNAME:Our Events
X-ORIGINAL-URL:https://dev.our-events.de
X-WR-CALDESC:Veranstaltungen für Our Events
REFRESH-INTERVAL;VALUE=DURATION:PT1H
X-Robots-Tag:noindex
X-PUBLISHED-TTL:PT1H
BEGIN:VTIMEZONE
TZID:Europe/Berlin
BEGIN:DAYLIGHT
TZOFFSETFROM:+0100
TZOFFSETTO:+0200
TZNAME:CEST
DTSTART:20240331T010000
END:DAYLIGHT
BEGIN:STANDARD
TZOFFSETFROM:+0200
TZOFFSETTO:+0100
TZNAME:CET
DTSTART:20241027T010000
END:STANDARD
BEGIN:DAYLIGHT
TZOFFSETFROM:+0100
TZOFFSETTO:+0200
TZNAME:CEST
DTSTART:20250330T010000
END:DAYLIGHT
BEGIN:STANDARD
TZOFFSETFROM:+0200
TZOFFSETTO:+0100
TZNAME:CET
DTSTART:20251026T010000
END:STANDARD
BEGIN:DAYLIGHT
TZOFFSETFROM:+0100
TZOFFSETTO:+0200
TZNAME:CEST
DTSTART:20260329T010000
END:DAYLIGHT
BEGIN:STANDARD
TZOFFSETFROM:+0200
TZOFFSETTO:+0100
TZNAME:CET
DTSTART:20261025T010000
END:STANDARD
END:VTIMEZONE
BEGIN:VEVENT
DTSTART;TZID=Europe/Berlin:20250301T110000
DTEND;TZID=Europe/Berlin:20250301T160000
DTSTAMP:20260422T135042
CREATED:20250228T160841Z
LAST-MODIFIED:20250823T065010Z
UID:35915-1740826800-1740844800@dev.our-events.de
SUMMARY:Eintrittskarten Vegesacker Geschichtenhaus - Gültig zu den Öffnungszeiten
DESCRIPTION:Das Vegesacker Geschichtenhaus macht die Stadtgeschichte von Bremen-Nord lebendig. In kleinen Theaterszenen entführen unsere Darsteller Sie in das Vegesack des 19. Jahrhunderts.  \nBesuchen Sie uns auf der legendären Lange-Werft\, sprechen Sie mit den Handwerkern über die Arbeit in dieser Zeit oder trinken Sie auf ein langes Leben in der Hafenschänke und vor allem: Lassen Sie sich nicht erwischen\, wenn der Hafenmeister wieder seine Runde macht! \nGeöffnet haben wir immer mittwochs bis samstags zwischen 11 und 16 Uhr (letzter Einlass um 15 Uhr). Für Schulklassen öffnen wir auf Anfrage gerne auch früher. \nEine Spielführung dauert zur Zeit 30 – 45 Minuten. Zum Abschluss haben Sie die Möglichkeit bei Kaffee und süßem “Havenfutter” im GalerieCafe oder auf der Dachterrasse zu verweilen. \nFotos: Matthias Sabelhaus \nBitte aktiviere JavaScript in deinem Browser\, um dieses Formular fertigzustellen.Bitte aktiviere JavaScript in deinem Browser\, um dieses Formular fertigzustellen.Bitte die Anzahl zu reservierender Karten auswählenIch bin *KulturgastKulturbegleiter:inAnrede Interessent:in *FrauHerrDiversVorname  *Name *Straße & Hausnummer *Postleitzahl  *Ort *Telefon Nr. der Interessent:in *E-Mail  *Ich benötige Unterstützung für den Besuch der Veranstaltung *janeinWelche Form der Unterstützung  benötigen Sie?Ich möchte den Programm Newsletter der Kulturtafel abonnieren. Das kann ich jederzeit rückgängig machen.janeinDSGVO Einverständnis *Ich willige ein\, dass diese Website meine übermittelten Informationen speichert\, sodass meine Anfrage beantwortet werden kann.Angaben bestätigen  \n 
URL:https://dev.our-events.de/event/eintrittskarten-fuer-das-vegesacker-geschichtenhaus-2/
LOCATION:Vegesacker Geschichtenhaus\, Zum Alten Speicher 5a\, Bremen\, 28759
CATEGORIES:Museum,Theater
ATTACH;FMTTYPE=image/png:https://dev.our-events.de/wp-content/uploads/2025/02/geschichtenhaus.png
END:VEVENT
BEGIN:VEVENT
DTSTART;TZID=Europe/Berlin:20250208T130000
DTEND;TZID=Europe/Berlin:20250208T170000
DTSTAMP:20260422T135042
CREATED:20250129T121400Z
LAST-MODIFIED:20250129T122308Z
UID:32867-1739019600-1739034000@dev.our-events.de
SUMMARY:Sprechstunde / Vorstellung / Anmeldung Kulturtafel im Bürgerhaus Obervieland vor und nach dem Nolstagiekino
DESCRIPTION:Ihr habt von der Kulturtafel gehört und möchtet mehr darüber erfahren? / Ви чули про Kulturtafel і хотіли б дізнатися більше? / Have you heard about the Kulturtafel and would like to find out more? / Vous avez entendu parler de la Kulturtafel et vous souhaitez en savoir plus ? \n\nWir erklären euch\, was die Kulturtafel ist\, wie sie funktioniert und wer teilnehmen kann.\nМи пояснюємо\, що таке Kulturtafel\, як він працює і хто може взяти в ньому участь.\nWe explain what the Kulturtafel is\, how it works and who can take part.\nNous vous expliquons ce qu’est le tableau culturel\, comment il fonctionne et qui peut y participer.\n\nNoch kein Mitglied bei der Kulturtafel? / Not yet a member of the Kulturtafel? / Ще не є членом Kulturtafel? / Pas encore membre de la Kulturtafel ? \n\nIn unseren Sprechstunden könnt ihr euch für die Kulturtafel registrieren. Wir helfen euch dabei.\nВи можете зареєструватися на Kulturtafel під час наших консультацій. Ми допоможемо вам у цьому.\nYou can register for the Kulturtafel during our consultation hours. We will help you with this.\nLors de nos permanences\, vous pouvez vous inscrire au tableau culturel. Nous vous aiderons à le faire.\n\nIhr möchtet\, dass wir euch bei der Reservierung einer Veranstaltung helfen? / Хочете\, щоб ми допомогли вам забронювати захід? / Would you like us to help you book an event? / Vous souhaitez que nous vous aidions à réserver un événement ? \n\nWir helfen euch dabei eine passende Veranstaltung für euch zu finden und eine Reservierung vorzunehmen.\nМи допоможемо вам знайти відповідний для вас захід і зробити бронювання.\nWe will help you find a suitable event for you and make a reservation.\nNous vous aidons à trouver un événement qui vous convient et à faire une réservation.\n\n\n\n\n\n\n\n\n\n\n\n\n\n\n\n\n\n\n\n\n\n\n\n\n\n\n\n\n\n\n\n\n\n\n\n 
URL:https://dev.our-events.de/event/sprechstunde-vorstellung-anmeldung-kulturtafel-im-buergerhaus-obervieland-vor-und-nach-dem-nolstagiekino/
LOCATION:Bürgerhaus Obervieland\, Alfred-Faust-Str. 4\, Bremen\, 28279
CATEGORIES:Sprechstunde Kulturtafel
ATTACH;FMTTYPE=image/png:https://dev.our-events.de/wp-content/uploads/2024/10/Logo-KTB.png
END:VEVENT
BEGIN:VEVENT
DTSTART;TZID=Europe/Berlin:20251108T150000
DTEND;TZID=Europe/Berlin:20251108T170000
DTSTAMP:20260422T135042
CREATED:20251009T111319Z
LAST-MODIFIED:20251009T111319Z
UID:44117-1762614000-1762621200@dev.our-events.de
SUMMARY:Kleidertauschparty in Gröpelingen
DESCRIPTION:Kleidertauschparty in Gröpelingen! \nBrauchst du neue Klamotten und Platz dafür in deinem Kleiderschrank? Dann ist unsere Kleidertauschparty genau das Richtige für dich! \nBring bis zu fünf gut erhaltenen Kleidungsstücke mit und tausche sie gegen tolle Teile\, die andere mitgebracht haben. Mit Feelgood Faktor: \nDu reduzierst Deinen CO₂-Fußabdruck\, indem du vorhandene Ressourcen nutzen\, statt neue Kleidung zu kaufen\nDu sparst Geld und erhältst neue Kleidungsstücke\, ohne einen Cent auszugeben\nDu lernst nette gleichgesinnte Menschen kennen\nWas übrig bleibt spenden wir! \nCopyright Text: Klimaquartier\, Copyright Bild: unsplash.org
URL:https://dev.our-events.de/event/kleidertauschparty-in-groepelingen/
LOCATION:Liegnitzquartier\, Liegnitzstrasse 43\, Bremen\, 28237
CATEGORIES:Flohmarkt
ATTACH;FMTTYPE=image/jpeg:https://dev.our-events.de/wp-content/uploads/2025/10/becca-mchaffie-Fzde_6ITjkw-unsplash-scaled.jpg
ORGANIZER;CN="Klimaquartier Gr%C3%B6pelingen":MAILTO:rockmann@energiekonsens.de
END:VEVENT
BEGIN:VEVENT
DTSTART;TZID=Europe/Berlin:20251108T193000
DTEND;TZID=Europe/Berlin:20251108T213000
DTSTAMP:20260422T135042
CREATED:20251003T152343Z
LAST-MODIFIED:20251003T152343Z
UID:43707-1762630200-1762637400@dev.our-events.de
SUMMARY:Fergus McCreadie Trio „The Shieling“ im Sendesaal
DESCRIPTION:Mit seiner einzigartigen Mischung aus Jazz und Folklore\, die weit über die Grenzen beider Genres hinausgeht\, erobert der Pianist Fergus McCreadie die Herzen des Publikums auf der ganzen Welt. Eine wichtige Inspirationsquelle seiner Musik stellt seine Heimat Schottland dar\, deren Schönheit und Besonderheit er klanglich erkundet. Nach ausverkauften Headliner-Tourneen und Auftritten auf renommierten Jazz Festivals stellt Fergus McCreadie 2025 nun im Sendesaal sein neues Album „The Shieling“ live vor. \nMit seinem dritten Album „Forest Floor“ gelang ihm 2022 der internationale Durchbruch. Das Album wurde von der internationalen Kritik und Tastemaker Medien wie BBC 6 Music\, The Times und dem NME gleichermaßen gefeiert und brachte ihm eine Nominierung für den renommierten Mercury Prize ein. Zudem wurde ihm 2022 als erstem Jazzmusiker überhaupt die Ehre der Auszeichnung mit dem „Scottish Album of The Year Award“ zuteil.\nNach dem Erfolg seiner Alben „Cairn“\, „Forest Floor“ und „Stream“ markiert „The Shielding“ für McCreadie und sein langjähriges Trio einen musikalischen Wendepunkt. Nach der Naturverbundenheit seiner bisherigen Alben fokussiert sich „The Shieling“ mehr auf Räumlichkeit\, Vertrautheit und die Stille zwischen den Noten. Aufgenommen in einem abgelegenen Cottage im Norden Schottlands\, und produziert von der vielbeachteten Musikerin Laura Jurd führt ihn „The Shieling“ im Herbst 2025 auf große Tournee durch Europa und Großbrittanien. \nFergus McCreadie – piano\nDavid Bowden – bass\nStephen Henderson – drums \nCopyright Text & Bild: Sendesaal
URL:https://dev.our-events.de/event/fergus-mccreadie-trio-the-shieling-im-sendesaal/
LOCATION:Sendesaal Bremen\, Bürgermeister-Spitta-Allee 45\, Bremen\, 28329
CATEGORIES:Konzert
ATTACH;FMTTYPE=image/jpeg:https://dev.our-events.de/wp-content/uploads/2025/10/7249_24527-scaled-1.jpg
END:VEVENT
BEGIN:VEVENT
DTSTART;TZID=Europe/Berlin:20251108T200000
DTEND;TZID=Europe/Berlin:20251108T220000
DTSTAMP:20260422T135042
CREATED:20250909T152920Z
LAST-MODIFIED:20250909T185718Z
UID:43036-1762632000-1762639200@dev.our-events.de
SUMMARY:ALEX DIEHL »15 JAHRE DIEHLUXE« + KATHA ROSA im KUBA
DESCRIPTION:Das Jahr 2025 steht im Zeichen eines ganz besonderen Jubiläums: 15 Jahre Alex Diehl & Band. Was einst als kleiner Bühnen-Traum eines Jungen begann\, der seine Lego-Figuren als Publikum aufstellte\, hat sich zu einem festen Bestandteil der deutschsprachigen Musiklandschaft entwickelt. Die emotionale Tiefe und die Authentizität seiner Songs haben Alex Diehl auf die Bühnen der Republik geführt – und nun ist es Zeit\, all das gebührend zu feiern. Unter dem Titel „15 JAHRE DIEHLUXE“ wird es im Frühjahr 2025 laut. Alex Diehl bringt nicht nur seine kraftvolle Stimme\, sondern auch eine handverlesene Truppe befreundeter Musiker mit\, um gemeinsam quer durch die Republik zu touren. Mit unbändiger Leidenschaft und unnachahmlichem Live-Charme werden sie Clubs und Hallen zum Beben bringen. \nBesonders rührend ist die Anekdote\, die Alex Diehl immer wieder erzählt: Schon im Alter von fünf Jahren spielte er seine ersten „Konzerte“. Bei seiner Oma stellte er Lego-Figuren auf und tat so\, als sei er Bon Jovi – der erste „Auftritt“ von Alex Diehl & Band. Mit einem hinter einem Alf-Poster versteckten Kassettenrecorder und selbstgemalten Tickets lockte er sogar die Nachbarn an. Heute\, 31 Jahre später\, steht er mit echten Menschen vor der Bühne – und jedes Mal\, wenn das Publikum mit ihm lacht\, weint und feiert\, fühlt sich Alex Diehl an diese Anfänge erinnert. „Dass ich das heute mit meinen eigenen Songs erleben darf\, sind die größten Momente für mich.“ \nCopyright Text & Bild: Alex Diehl & Nico Campanella
URL:https://dev.our-events.de/event/alex-diehl-15-jahre-diehluxe-katha-rosa-im-kuba/
LOCATION:Kulturbahnhof Vegesack\, Herman-Fortmann-Str. 32\, Bremen\, 28759
CATEGORIES:Konzert
ATTACH;FMTTYPE=image/jpeg:https://dev.our-events.de/wp-content/uploads/2025/09/Axel-Diehl.jpg
END:VEVENT
BEGIN:VEVENT
DTSTART;TZID=Europe/Berlin:20251108T210000
DTEND;TZID=Europe/Berlin:20251108T230000
DTSTAMP:20260422T135042
CREATED:20251003T164247Z
LAST-MODIFIED:20251003T164247Z
UID:43751-1762635600-1762642800@dev.our-events.de
SUMMARY:Headbangers Nightmare & Friends - Metal & Hard Rock Cover\, Bremen im Meisenfrei
DESCRIPTION:Da isse wieder\, die traditionelle Rudelbildung der Bremer Metal Szene unter dem Banner der Band Headbangers Nightmare\, höchstselbst bekannt und beliebt für Hardrock und Heavy Metal. Diese hat auch heute wieder unter dem naheliegenden Motto „Headbangers Nightmare and Friends“ ein paar Freunde mit dabei. So werden sich heute Musiker von Project Priest\, Decicion And Choices\, Rossi\, Iron Priest\, Pitch Back\, Old H\, Mad Max\, Neophobic und Okolyt auf der Bühne einfinden. Wir können also mit ruhigem Gewissen eine geile\, harte und schön laute Party sowohl vor als auch auf der Bühne zu einem einmalig günstigen Preis versprechen! \nCopyright Text & Bild: Meisenfrei
URL:https://dev.our-events.de/event/headbangers-nightmare-friends-metal-hard-rock-cover-bremen-im-meisenfrei-2/
LOCATION:Meisenfrei\, Hankenstraße 18\, Bremen\, 28195
CATEGORIES:Konzert
ATTACH;FMTTYPE=image/jpeg:https://dev.our-events.de/wp-content/uploads/2025/10/2025-11-08-HeadbangersNightmareFriends.jpg
END:VEVENT
END:VCALENDAR