BEGIN:VCALENDAR
VERSION:2.0
PRODID:-//Our Events - ECPv6.15.20//NONSGML v1.0//EN
CALSCALE:GREGORIAN
METHOD:PUBLISH
X-WR-CALNAME:Our Events
X-ORIGINAL-URL:https://dev.our-events.de
X-WR-CALDESC:Veranstaltungen für Our Events
REFRESH-INTERVAL;VALUE=DURATION:PT1H
X-Robots-Tag:noindex
X-PUBLISHED-TTL:PT1H
BEGIN:VTIMEZONE
TZID:Europe/Berlin
BEGIN:DAYLIGHT
TZOFFSETFROM:+0100
TZOFFSETTO:+0200
TZNAME:CEST
DTSTART:20240331T010000
END:DAYLIGHT
BEGIN:STANDARD
TZOFFSETFROM:+0200
TZOFFSETTO:+0100
TZNAME:CET
DTSTART:20241027T010000
END:STANDARD
BEGIN:DAYLIGHT
TZOFFSETFROM:+0100
TZOFFSETTO:+0200
TZNAME:CEST
DTSTART:20250330T010000
END:DAYLIGHT
BEGIN:STANDARD
TZOFFSETFROM:+0200
TZOFFSETTO:+0100
TZNAME:CET
DTSTART:20251026T010000
END:STANDARD
BEGIN:DAYLIGHT
TZOFFSETFROM:+0100
TZOFFSETTO:+0200
TZNAME:CEST
DTSTART:20260329T010000
END:DAYLIGHT
BEGIN:STANDARD
TZOFFSETFROM:+0200
TZOFFSETTO:+0100
TZNAME:CET
DTSTART:20261025T010000
END:STANDARD
END:VTIMEZONE
BEGIN:VEVENT
DTSTART;TZID=Europe/Berlin:20251006T133000
DTEND;TZID=Europe/Berlin:20251010T153000
DTSTAMP:20260422T134255
CREATED:20250707T124355Z
LAST-MODIFIED:20250707T124355Z
UID:40318-1759757400-1760110200@dev.our-events.de
SUMMARY:Mittagstisch für Schüler
DESCRIPTION:Mittagstisch für Schüler\n\nKinder stark machen und Selbstbewusstsein aufbauen\, liegt dem SOS-Kinderdorf am Herzen. Und das nicht nur im SOS-Kinderdorf in Worpswede\, sondern ebenso in den familienunterstützenden offenen Angeboten in Bremen-Nord.\nSo hat sich der Mittagstisch des SOS-Kinderdorfes Worpswede in der Grohner Düne als offenes Angebot für Kinder und Jugendliche\, die sich im Übergang zwischen Grundschule und weiterführender Schule befinden\, zu einer festen Institution entwickelt. Dies schließt auch Kinder ab der vierten Klasse ein\, die aus unterschiedlichen Gründen keine Hortbetreuung in Anspruch nehmen können.\nMit unserem Angebot schaffen wir täglich für rund 20 selbstmotivierte Kinder und Jugendliche nach dem Schulalltag eine Anlaufstelle\, in der wir sie beteiligen und ihnen dadurch eine Atmosphäre schaffen\, in der sie sich angenommen\, wertgeschätzt und zugehörig fühlen. Hier gibt es nicht nur jeden Tag nach der Schule einen Mittagssnack\, sondern auch vielfältige Freizeitgestaltung wie Kreativangebote\, Gemeinschaftsspiele\, interkulturelles Kochen\, Hausaufgabenbetreuung und wöchentliches Fußballtraining mit Trainern von Werder Bremen im Rahmen\ndes „Spielraum“ Projektes.
URL:https://dev.our-events.de/event/mittagstisch-fuer-schueler/
LOCATION:Grown\, Friedrich-Klippert-Straße 2\, Bremen\, 28759
CATEGORIES:Treffpunkt
ATTACH;FMTTYPE=image/webp:https://dev.our-events.de/wp-content/uploads/2025/07/sos-kinderdorf.webp
END:VEVENT
BEGIN:VEVENT
DTSTART;TZID=Europe/Berlin:20251112T200000
DTEND;TZID=Europe/Berlin:20251112T220000
DTSTAMP:20260422T134255
CREATED:20251011T153118Z
LAST-MODIFIED:20251011T153118Z
UID:44217-1762977600-1762984800@dev.our-events.de
SUMMARY:Phil Donkin Trio // in der Reihe "new&used"im westend
DESCRIPTION:Dieses Trio kombiniert Eigenkompositionen aller drei Mitglieder\, traditionelles Jazzrepertoire und offene Improvisation. Alle Mitglieder sind in Deutschland ansässig\, haben aber weiterhin eine starke Präsenz in den USA. Devin Gray und Michaël Attias leben teilweise noch in New York City und spielen regelmäßig in der Downtown-Szene. \n“Phil Donkin zeigt\, wie lebendig und aufregend akustischer Jazz im 21. Jahrhundert klingen kann”. – Jazz ‚n‘ More \n“Gray ist ein erstaunlicher Perkussionist\, dessen atemberaubend detailliertes Spiel wie eine Kreuzung aus Fritz Hauser und Roy Haynes klingt”.- Dave Wayne\, All About Jazz \n“Der Altsaxofonist Michaël Attias ist seit langem eine feste Größe in der Jazzszene\, denn er verfügt über einen Sound\, der nach Feierabend klingt\, und beherrscht sein Instrument ebenso majestätisch wie düster\, und das in einem umfangreichen Katalog”. – Jazz Times \nBesetzung:\nPhil Donkin – Kontrabass\nMichaël Attias – Altsaxofon\nDevin Gray – Schlagzeug \nCopyright Text & Bild: Kulturwerkstatt westend
URL:https://dev.our-events.de/event/phil-donkin-trio-in-der-reihe-newusedim-westend/
LOCATION:Kulturwerkstatt westend\, Waller Heerstraße 294\, Bremen\, 28219
CATEGORIES:Konzert
ATTACH;FMTTYPE=image/gif:https://dev.our-events.de/wp-content/uploads/2024/06/westend_logo_0.gif
END:VEVENT
BEGIN:VEVENT
DTSTART;TZID=Europe/Berlin:20251112T200000
DTEND;TZID=Europe/Berlin:20251112T220000
DTSTAMP:20260422T134255
CREATED:20251011T160254Z
LAST-MODIFIED:20251011T160254Z
UID:44235-1762977600-1762984800@dev.our-events.de
SUMMARY:Cecilya & The Candy Kings - Blues\, Jazz & Soul\, Spanien im Meisenfrei
DESCRIPTION:Heute Abend wird es im Blues Club hoch her gehen\, denn Cecilya & The Candy Kings debütieren mir ihrer explosiven Live-Show. Das Publikum erwartet ein hinreißender Retro-Cocktail mit einem modernem Soundfundament. Das dynamische Repertoire umfasst Swing- und Rhythm ’n’ Blues-Elemente und nimmt die Zuhörer mit auf eine musikalische Zeitreise zurück in die 1950er Jahre. Cecilya Mestres\, geboren in Barcelona und neuerdings in Paris ansässig\, verfügt über eine wunderbare\, kraftvolle und einzigartige Stimme\, die Perfekt mit den durch und durch hervorragenden Instrumentalisten harmoniert. Die Sängerin\, Songwriterin und Komponistin macht das so gut\, dass sogar das französische Rolling Stone Magazin voll des Lobes war. Achtung: bequemes Schuhwerk wird empfohlen! \nCopyright Text & Bild: Meisenfrei
URL:https://dev.our-events.de/event/cecilya-the-candy-kings-blues-jazz-soul-spanien-im-meisenfrei/
LOCATION:Meisenfrei\, Hankenstraße 18\, Bremen\, 28195
CATEGORIES:Konzert
ATTACH;FMTTYPE=image/jpeg:https://dev.our-events.de/wp-content/uploads/2025/10/2025-11-12-CecilyaTheCandyKings.jpg
END:VEVENT
END:VCALENDAR