BEGIN:VCALENDAR
VERSION:2.0
PRODID:-//Our Events - ECPv6.15.20//NONSGML v1.0//EN
CALSCALE:GREGORIAN
METHOD:PUBLISH
X-ORIGINAL-URL:https://dev.our-events.de
X-WR-CALDESC:Veranstaltungen für Our Events
REFRESH-INTERVAL;VALUE=DURATION:PT1H
X-Robots-Tag:noindex
X-PUBLISHED-TTL:PT1H
BEGIN:VTIMEZONE
TZID:Europe/Berlin
BEGIN:DAYLIGHT
TZOFFSETFROM:+0100
TZOFFSETTO:+0200
TZNAME:CEST
DTSTART:20240331T010000
END:DAYLIGHT
BEGIN:STANDARD
TZOFFSETFROM:+0200
TZOFFSETTO:+0100
TZNAME:CET
DTSTART:20241027T010000
END:STANDARD
BEGIN:DAYLIGHT
TZOFFSETFROM:+0100
TZOFFSETTO:+0200
TZNAME:CEST
DTSTART:20250330T010000
END:DAYLIGHT
BEGIN:STANDARD
TZOFFSETFROM:+0200
TZOFFSETTO:+0100
TZNAME:CET
DTSTART:20251026T010000
END:STANDARD
BEGIN:DAYLIGHT
TZOFFSETFROM:+0100
TZOFFSETTO:+0200
TZNAME:CEST
DTSTART:20260329T010000
END:DAYLIGHT
BEGIN:STANDARD
TZOFFSETFROM:+0200
TZOFFSETTO:+0100
TZNAME:CET
DTSTART:20261025T010000
END:STANDARD
END:VTIMEZONE
BEGIN:VEVENT
DTSTART;TZID=Europe/Berlin:20251006T133000
DTEND;TZID=Europe/Berlin:20251010T153000
DTSTAMP:20260422T134444
CREATED:20250707T124355Z
LAST-MODIFIED:20250707T124355Z
UID:40318-1759757400-1760110200@dev.our-events.de
SUMMARY:Mittagstisch für Schüler
DESCRIPTION:Mittagstisch für Schüler\n\nKinder stark machen und Selbstbewusstsein aufbauen\, liegt dem SOS-Kinderdorf am Herzen. Und das nicht nur im SOS-Kinderdorf in Worpswede\, sondern ebenso in den familienunterstützenden offenen Angeboten in Bremen-Nord.\nSo hat sich der Mittagstisch des SOS-Kinderdorfes Worpswede in der Grohner Düne als offenes Angebot für Kinder und Jugendliche\, die sich im Übergang zwischen Grundschule und weiterführender Schule befinden\, zu einer festen Institution entwickelt. Dies schließt auch Kinder ab der vierten Klasse ein\, die aus unterschiedlichen Gründen keine Hortbetreuung in Anspruch nehmen können.\nMit unserem Angebot schaffen wir täglich für rund 20 selbstmotivierte Kinder und Jugendliche nach dem Schulalltag eine Anlaufstelle\, in der wir sie beteiligen und ihnen dadurch eine Atmosphäre schaffen\, in der sie sich angenommen\, wertgeschätzt und zugehörig fühlen. Hier gibt es nicht nur jeden Tag nach der Schule einen Mittagssnack\, sondern auch vielfältige Freizeitgestaltung wie Kreativangebote\, Gemeinschaftsspiele\, interkulturelles Kochen\, Hausaufgabenbetreuung und wöchentliches Fußballtraining mit Trainern von Werder Bremen im Rahmen\ndes „Spielraum“ Projektes.
URL:https://dev.our-events.de/event/mittagstisch-fuer-schueler/
LOCATION:Grown\, Friedrich-Klippert-Straße 2\, Bremen\, 28759
CATEGORIES:Treffpunkt
ATTACH;FMTTYPE=image/webp:https://dev.our-events.de/wp-content/uploads/2025/07/sos-kinderdorf.webp
END:VEVENT
BEGIN:VEVENT
DTSTART;TZID=Europe/Berlin:20251114T193000
DTEND;TZID=Europe/Berlin:20251114T213000
DTSTAMP:20260422T134444
CREATED:20251003T153236Z
LAST-MODIFIED:20251003T153236Z
UID:43715-1763148600-1763155800@dev.our-events.de
SUMMARY:Florian Arbenz Trio „Conversation #1“im Sendesaal
DESCRIPTION:In seiner bald 30 jährigen Musiker-Karriere hat Florian Arbenz immer wieder bewiesen\, dass er nicht nur ein brillanter Schlagzeuger ist\, sondern auch eine gute Nase für ungewöhnliche und packende Kombinationen von Musikern und Instrumenten besitzt.\nIn diesem Trio mit dem brasilianischen Gitarren-Meister Nelson Veras und dem „Young Lion“ Hermon Mehari\, der seine Wurzeln in Eritrea wie auch in Kansas City hat\, kommt dies voll zur Geltung! Das Trio entführt den Hörer in eine Welt voller rhythmischer Spannung\, swingenden Soli\, freien Improvisationen und träumerischen Klängen. \n“Hermon Mehari démontre un indiscutable talent\, qui présage un avenir prometteur.” (JAZZ MAGAZINE) \nHermon Mehari – Trompete\,\nNelson Veras – Gitarre\nFlorian Arbenz – drums \nCopyright Text & Bild: Sendesaal \n  \n  \n 
URL:https://dev.our-events.de/event/florian-arbenz-trio-conversation-1im-sendesaal/
LOCATION:Sendesaal Bremen\, Bürgermeister-Spitta-Allee 45\, Bremen\, 28329
CATEGORIES:Konzert
ATTACH;FMTTYPE=image/jpeg:https://dev.our-events.de/wp-content/uploads/2025/10/Florian-Arbenz-Trio-scaled-1.jpg
END:VEVENT
BEGIN:VEVENT
DTSTART;TZID=Europe/Berlin:20251114T210000
DTEND;TZID=Europe/Berlin:20251114T230000
DTSTAMP:20260422T134444
CREATED:20251011T161438Z
LAST-MODIFIED:20251011T161438Z
UID:44257-1763154000-1763161200@dev.our-events.de
SUMMARY:Psycho Sexy - Red Hot Chili Peppers Cover\, Deutschland im Meisenfrei
DESCRIPTION:Kaum eine Band der letzten 30 Jahre hat so viel Einfluss auf die folgenden Musikgenerationen gehabt wie die kalifornische Band Red Hot Chili Peppers\, und das genreübergreifend. Seit 2003 erspielt sich die Tribute Band „Psycho Sexy“ immer mehr Fans in ganz Europa. Schweißtreibend\, energiegeladen und mit nie endender Spielfreude rockt und funkt sich das Quartett aus dem Rheinland buchstäblich die Finger blutig. Dabei sind die vier Vollblutmusiker jederzeit in der Lage eine Live-Atmosphäre zu kreieren\, die die Grenzen zwischen Original und Kopie fast komplett verwischt. Psycho Sexy bringen dabei nicht nur die Musik\, sondern auch den unnachahmlichen Spirit der Peppers perfekt rüber. Und auch Deko und Outfit sind passend für einen Ausflug in Arnis Wunderland. \nCopyright Text & Bild: Meisenfrei
URL:https://dev.our-events.de/event/psycho-sexy-red-hot-chili-peppers-cover-deutschland-im-meisenfrei/
LOCATION:Meisenfrei\, Hankenstraße 18\, Bremen\, 28195
CATEGORIES:Konzert
ATTACH;FMTTYPE=image/jpeg:https://dev.our-events.de/wp-content/uploads/2025/10/2025-11-14-PsychoSexy.jpg
END:VEVENT
END:VCALENDAR