BEGIN:VCALENDAR
VERSION:2.0
PRODID:-//Our Events - ECPv6.15.20//NONSGML v1.0//EN
CALSCALE:GREGORIAN
METHOD:PUBLISH
X-ORIGINAL-URL:https://dev.our-events.de
X-WR-CALDESC:Veranstaltungen für Our Events
REFRESH-INTERVAL;VALUE=DURATION:PT1H
X-Robots-Tag:noindex
X-PUBLISHED-TTL:PT1H
BEGIN:VTIMEZONE
TZID:Europe/Berlin
BEGIN:DAYLIGHT
TZOFFSETFROM:+0100
TZOFFSETTO:+0200
TZNAME:CEST
DTSTART:20240331T010000
END:DAYLIGHT
BEGIN:STANDARD
TZOFFSETFROM:+0200
TZOFFSETTO:+0100
TZNAME:CET
DTSTART:20241027T010000
END:STANDARD
BEGIN:DAYLIGHT
TZOFFSETFROM:+0100
TZOFFSETTO:+0200
TZNAME:CEST
DTSTART:20250330T010000
END:DAYLIGHT
BEGIN:STANDARD
TZOFFSETFROM:+0200
TZOFFSETTO:+0100
TZNAME:CET
DTSTART:20251026T010000
END:STANDARD
BEGIN:DAYLIGHT
TZOFFSETFROM:+0100
TZOFFSETTO:+0200
TZNAME:CEST
DTSTART:20260329T010000
END:DAYLIGHT
BEGIN:STANDARD
TZOFFSETFROM:+0200
TZOFFSETTO:+0100
TZNAME:CET
DTSTART:20261025T010000
END:STANDARD
END:VTIMEZONE
BEGIN:VEVENT
DTSTART;TZID=Europe/Berlin:20250301T110000
DTEND;TZID=Europe/Berlin:20250301T160000
DTSTAMP:20260422T101206
CREATED:20250228T160841Z
LAST-MODIFIED:20250823T065010Z
UID:35915-1740826800-1740844800@dev.our-events.de
SUMMARY:Eintrittskarten Vegesacker Geschichtenhaus - Gültig zu den Öffnungszeiten
DESCRIPTION:Das Vegesacker Geschichtenhaus macht die Stadtgeschichte von Bremen-Nord lebendig. In kleinen Theaterszenen entführen unsere Darsteller Sie in das Vegesack des 19. Jahrhunderts.  \nBesuchen Sie uns auf der legendären Lange-Werft\, sprechen Sie mit den Handwerkern über die Arbeit in dieser Zeit oder trinken Sie auf ein langes Leben in der Hafenschänke und vor allem: Lassen Sie sich nicht erwischen\, wenn der Hafenmeister wieder seine Runde macht! \nGeöffnet haben wir immer mittwochs bis samstags zwischen 11 und 16 Uhr (letzter Einlass um 15 Uhr). Für Schulklassen öffnen wir auf Anfrage gerne auch früher. \nEine Spielführung dauert zur Zeit 30 – 45 Minuten. Zum Abschluss haben Sie die Möglichkeit bei Kaffee und süßem “Havenfutter” im GalerieCafe oder auf der Dachterrasse zu verweilen. \nFotos: Matthias Sabelhaus \nBitte aktiviere JavaScript in deinem Browser\, um dieses Formular fertigzustellen.Bitte aktiviere JavaScript in deinem Browser\, um dieses Formular fertigzustellen.Bitte die Anzahl zu reservierender Karten auswählenIch bin *KulturgastKulturbegleiter:inAnrede Interessent:in *FrauHerrDiversVorname  *Name *Straße & Hausnummer *Postleitzahl  *Ort *Telefon Nr. der Interessent:in *E-Mail  *Ich benötige Unterstützung für den Besuch der Veranstaltung *janeinWelche Form der Unterstützung  benötigen Sie?Ich möchte den Programm Newsletter der Kulturtafel abonnieren. Das kann ich jederzeit rückgängig machen.janeinDSGVO Einverständnis *Ich willige ein\, dass diese Website meine übermittelten Informationen speichert\, sodass meine Anfrage beantwortet werden kann.Angaben bestätigen  \n 
URL:https://dev.our-events.de/event/eintrittskarten-fuer-das-vegesacker-geschichtenhaus-2/
LOCATION:Vegesacker Geschichtenhaus\, Zum Alten Speicher 5a\, Bremen\, 28759
CATEGORIES:Museum,Theater
ATTACH;FMTTYPE=image/png:https://dev.our-events.de/wp-content/uploads/2025/02/geschichtenhaus.png
END:VEVENT
BEGIN:VEVENT
DTSTART;TZID=Europe/Berlin:20251115T193000
DTEND;TZID=Europe/Berlin:20251115T213000
DTSTAMP:20260422T101206
CREATED:20251003T154155Z
LAST-MODIFIED:20251003T154155Z
UID:43722-1763235000-1763242200@dev.our-events.de
SUMMARY:Amaryllis Quartett „Liebe & Sehnsucht“ im Sendesaal
DESCRIPTION:Sehnsucht zu haben kann bedeuten\, einem spürbaren Mangel so etwas wie eine unbestimmte Richtung zu verleihen. Wohl keinem Medium ist diesem Geschehen so geläufig der Musik\, wo sich der hörbare Klang seinen Zuhörern stets als Gefüge von Spannungen\, einem Drängen oder einer spürbaren Beruhigung mitteilt. Das Amaryllis Quartett geht den Beziehungen von ›Musik‹ und ›Sehnsucht‹ in einem vielschichtigen Programm nach\, das zunächst Dvořáks berühmte Miniatur ›Zypressen‹ (ein musikalisches Echo auf die große Jugend-Liebe des Komponisten) mit dem zeitgenössischen Werk »Gesänge der Sehnsucht« von David Philip Hefti (*1975) kombiniert. Die Sehnsuchts-Tonart par excellence e-Moll eröffnet Ludwig van Beethoven dann die Gelegenheit\, durch sein Streichquartett op. 59/2 (»Rasumowsky«) mit den stilistischen Mitteln der Klassik weit in die Tonsprache der Romantik vorauszuweisen.\nAntonín Dvořák (1841-1904) Zypressen für Streichquartett (komp. 1865/87)\nDavid Philip Hefti (*1975) Streichquartett Nr. 8 »Gesänge der Sehnsucht« (komp. 2024)\nLudwig van Beethoven (1770-1827) Streichquartett e-Moll\, op. 59/2 »Rasumowsky« (komp. 1806)\nAmaryllis Quartett:\nGustav Frielinghaus – Violine\nLena Sandoz – Violine\nMareike Hefti – Viola\nYves Sandoz – Violoncello\n\n\n“Aufregend frisch und auf kluge Weise unkonventionell” (BNN) \n„Packend\, ausdrucksvoll\, vielschichtig“ (SZ) und mit einem „kommunizierenden Ensembleklang“ (nmz) begeistert das Amaryllis Quartett Publikum und Presse gleichermaßen und zählt mit seiner unkonventionellen Programmgestaltung und seinem breit gefächerten Repertoire seit vielen Jahren zu den interessantesten Streichquartetten seiner Generation.\nEin Hauptanliegen des Ensembles ist es\, Klassiker der Quartettliteratur auf ungewöhnliche Weise mit Neuem zu kombinieren und dadurch neue Hörwelten zu eröffnen. \nDie Suche nach Neuem prägt auch die Zusammenarbeit des Amaryllis Quartetts mit namhaften Komponisten unserer Zeit. Auf Anregung und im Auftrag des Ensembles entstanden in den letzten Jahren Werke von Heinz Holliger\, David Philip Hefti\, Fabián Panisello und anderen\, die das Quartett gemeinsam mit den Komponisten erarbeitete und zur Uraufführung brachte. \nDie internationale Karriere des Amaryllis Quartetts\, das bei Walter Levin in Basel\, später dann beim Alban Berg Quartett in Köln und bei Günter Pichler in Madrid ausgebildet wurde\, begann im Jahr 2011. Kurz nacheinander konnte das Quartett zuerst den Finalisten-Preis beim renommierten Premio Paolo Borciani in Reggio Emilia und nur vier Wochen später den ersten Preis und den Monash University Grand Prize bei der 6th International Chamber Music Competition in Melbourne gewinnen.\n2012 folgte der ECHO Klassik für die CD „White“ mit Werken von Haydn und Webern\, an die zahlreiche weitere von der Presse hochgelobte Aufnahmen anschlossen.\nInzwischen ist das Amaryllis Quartett ein regelmäßiger Gast bei Konzertreihen in der Alten Oper Frankfurt\, der Tonhalle Zürich\, dem Wiener Musikverein\, dem Teatro della Pergola Firenze\, dem Gran Teatro La Fenice di Venezia und der Dai-ichi Seimei Hall Tokio und bei Festivals wie dem Schleswig-Holstein Musik Festival\, den Schwetzinger SWR Festspielen\, dem Heidelberger Frühling\, dem Rheingau Musik Festival und dem Lucerne Festival. \nDer Austausch mit anderen Musikern und Musikerinnen ist dem Amaryllis Quartett ein großes Anliegen. In den letzten Jahren trat es gemeinsam mit Künstlern wie Fabio di Càsola\, Nobuko Imai\, Volker Jacobsen\, Alexander Krichel\, Sebastian Manz\, Jens-Peter Maintz\, Ramón Ortega Quero und Lise de la Salle auf und arbeitete mit Komponisten wie Wolfgang Rihm und György Kurtág zusammen \nCopyright Text & Bild: Sendesaal
URL:https://dev.our-events.de/event/amaryllis-quartett-liebe-sehnsucht-im-sendesaal/
LOCATION:Sendesaal Bremen\, Bürgermeister-Spitta-Allee 45\, Bremen\, 28329
CATEGORIES:Konzert
ATTACH;FMTTYPE=image/jpeg:https://dev.our-events.de/wp-content/uploads/2025/10/Amaryllis_Q_01_cTobias_Wirth_small-416x277-1.jpg
END:VEVENT
BEGIN:VEVENT
DTSTART;TZID=Europe/Berlin:20251115T200000
DTEND;TZID=Europe/Berlin:20251115T210000
DTSTAMP:20260422T101206
CREATED:20251008T150305Z
LAST-MODIFIED:20251009T120418Z
UID:44065-1763236800-1763240400@dev.our-events.de
SUMMARY:Baby\, I‘m Sick Tonight
DESCRIPTION:Tanz / Performancevon Olivia Hyunsin Kim / ddanddarakim \nÜber das Event:\n\nAus der Perspektive einer queeren Woman of Color mit chronischen Erkrankungen experimentiert Olivia Hyunsin Kim mit dem Format der Stand Up-­Comedy. Zusammen mit anderen chronisch kranken Künstler*innen sucht sie nach Formen eines selbst­ermächtigenden Humors. \nAktuelle kapitalismus­kritische Diskurse stellen Menschen mit chronischen Erkrankungen oft romantisiert oder vereinfacht dar. Sie werden als widerständige Körper gelesen\, die dem Kapitalismus entgegenwirken – etwa durch andere Zeitlichkeiten oder das Scheitern der erwarteten Produktivität – während Aspekte wie Dauer­schmerzen oder die Notwendigkeit von z.B. crip time ignoriert werden. \nGemeinsam mit ihrem Team tritt Olivia Hyunsin Kim tänzerisch und erzählerisch Stigma­tisierungen und Vorurteilen gegenüber Künstler*innen mit unsichtbaren Behinder­ungen oder Menschen\, die fälschlicherweise als gesund gelesen werden\, entgegen. Dabei nutzen die Künstler*­innen auf radikal widerspenstige und humorvolle Art die Mittel von Stand Up\, Pop und Performance\, um u.a. die Kultur­geschichte der Hysterie\, den heutigen Umgang mit kranken FLINTA*s und die Körperbilder der zeitgenössischen Tanzszene miteinander in Verbindung zu setzen. \nÜber die Künstler*innen:\n\n\nOlivia Hyunsin Kim / ddanddarakim arbeiten kollektiv an choreo­grafischen Arbeiten mit einem queer-­feministischen und postkolonialen Fokus. Durch Fiktion verhandeln sie Macht­verhältnisse neu und bieten empowernde Alternativen zur Gegenwart. Ihre Arbeiten wurden u. a. in den Sophiensælen\, Art Sonje Center\, Staatsoper Hannover\, Museo Universitario del Chopo gezeigt. Das feste Team besteht aus Kristin Gerwien\, Olivia Hyunsin Kim und Jones Seitz. \nddanddarakim.net ↗Instagram @ohk_ddanddarakim ↗ \nKristin Gerwien stellt Kostüme/Objekte für Performances her. Als Sängerin untersucht sie Songwriting und Karaoke. Sie kuratiert mit »Juckpulver« aufregende Musik als Co-Leiterin am TNT Marburg. In der Schwankhalle stand sie zuletzt als Performerin in Katrin Hyllas »Trouble« auf der Bühne. \nOlivia Hyunsin Kim arbeitet als Choreografin\, Regisseurin und Kuratorin. Sie war Stipendiatin u. a. von danceWEB\, der Kulturakademie Tarabya\, Vila Sul Bahia und gewann 2019 den 1. Platz des Amadeu Antonio Kunstpreises. \nJones Seitz erarbeitet das Licht- und Videodesign für eigene Installationen\, sowie Performance­projekte und ist Gründungs­mitglied des FLINTA*-­Netzwerks »Gefährliche Arbeit e.V.« \nBarrierefreiheit:\nSpracheDie Performance findet in deutscher und englischer Lautsprache mit DGS-­Dolmetschung statt.Es gibt Übertitel in deutscher und Englischer Schriftsprache.Es steht eine Audiodeskription in deutscher Lautsprache über Kopfhörer zur Verfügung. \nDauerDie Vorstellung dauert ca. 90 Minuten. Es gibt keine offizielle Pause\, aber Sie können jederzeit rausgehen und wieder hereinkommen. \nLichtDas Publikum wird an manchen Stellen des Stücks durch farbiges Licht beleuchtet. An einer Stelle gibt es einen blinkenden\, roten Alarm.Es kommen keine Blitzlichter\, Stroboskopeffekte oder ins Publikum gerichtete Spotlights zum Einsatz.Es gibt sehr dunkle Szenen\, aber das Licht im Publikumsbereich bleibt die ganze Zeit über schwach an. \nSoundEs werden teilweise Tone in tiefer Frequenzlage abgespielt (nicht unter 40hz).Ein Chor wird auf der Bühne live singen. \nAtmosphäreDas Publikum wird in den Comedy-Szenen spontan direkt angesprochen.Es gibt keine Verpflichtung\, auf die Ansprache zu reagieren. \nSonstige EffekteSchaum mit einem seifenartigen Geruch kommt zum Einsatz. \nRäumlichkeitenAlle öffentlichen Bereiche der Schwankhalle sind ebenerdig und stufenlos erreichbar. \nRelaxed Performance\nBeide Vorstellungen finden als Relaxed Performance statt.\nDas heißt: Sie können den Saal jederzeit verlassen und wieder betreten.\nEs gibt einen Rückzugsort\, falls Sie eine Pause brauchen.\nEs wird zu keinem Zeitpunkt vollständig dunkel im Saal.\nEs ist erlaubt\, während der Vorstellung Geräusche zu machen und auf das Erlebte zu reagieren. \n  \n\n\n 
URL:https://dev.our-events.de/event/baby-im-sick-tonight/
LOCATION:Schwankhalle\, Buntentorsteinweg 112/116\, Bremen\, 28201
CATEGORIES:Performance,Tanz,Theater
ATTACH;FMTTYPE=image/jpeg:https://dev.our-events.de/wp-content/uploads/2025/10/Olivia-Hyunsin-Kim-ddanddarakim_Baby-Im-sick-tonight_c_Mayra-Wallraff_1_web.jpg
END:VEVENT
BEGIN:VEVENT
DTSTART;TZID=Europe/Berlin:20251115T210000
DTEND;TZID=Europe/Berlin:20251115T230000
DTSTAMP:20260422T101206
CREATED:20251011T162204Z
LAST-MODIFIED:20251011T162204Z
UID:44264-1763240400-1763247600@dev.our-events.de
SUMMARY:Double-O-Soul - Soul & Funk\, Bremen im Meisenfrei
DESCRIPTION:Hier ist die endgültige Partyband mit der allzeit gültigen Lizenz zum Grooven\, die Truppe mit der rasanten Rhythmusabteilung\, der Haufen mit der fulminanten Gebläsesektion „Mad Mercy Horns“\, den Damen mit den charmanten Backgroundstimmen\, dem Leadsänger mit der wilden “Der-sich-den-Wolf-tanzt”-Attitüde – hier ist eben Double-O-Soul. Man muss diese formidable Formation einfach selbst erleben\, um zu merken\, dass selbst diese marktschreierisch klingenden Anpreisungen noch viel zu niedrig gegriffen sind. Wie soll man aber auch ultimativen Sound in schnöde Worte fassen? Diese Dimension könnt ihr nur live erfahren. Dass diese herz-\, hirn- und gehörgangerfrischende Truppe seit nunmehr fast schon historischen Zeiten unseren Saal zum Kochen bringt\, sollte für sich sprechen! \nCopyright Text & Bild: Meisenfrei
URL:https://dev.our-events.de/event/double-o-soul-soul-funk-bremen-im-meisenfrei-2/
LOCATION:Meisenfrei\, Hankenstraße 18\, Bremen\, 28195
CATEGORIES:Konzert
ATTACH;FMTTYPE=image/jpeg:https://dev.our-events.de/wp-content/uploads/2025/10/2025-11-15-Double-O-Soul.jpg
END:VEVENT
END:VCALENDAR